Workbook

Sheet PTG
A2: PHIẾU TÍNH GIÁ DỰ ÁN HOÀNG HUY NEWCITY II
A4: TIẾN ĐỘ THANH TOÁN THỎA THUẬN KÍ QUỸ TÍNH TRÊN GIÁ BAN ĐẦU
A5: Đợt thanh toán | B5: Tỷ lệ thanh toán | C5: Số tiền (VNĐ) | D5: Thời điểm thanh toán
A6: TTKQ | C6: 300000000 | D6: Khi ký bản tự nguyện đặt cọc
A7: Lần 2 TTKQ | B7: 0.1 | C7: =(E15*10%)-C6 -> 779786400 | D7: Trong vòng 10 ngày từ ngày kí Thỏa thuận ký quỹ.
A8: Lần 3 TTKQ | B8: 0.1 | C8: =E15*B8 -> 1079786400 | D8: Trong vòng 20 ngày từ ngày đóng tiền lần 2
A9: I. PHƯƠNG THỨC THANH TOÁN TIẾN ĐỘ | E9: GIÁ BÁN (vnđ)
A10: Mã Căn | E10: N10-32 | F10: Nhập thông tin | I10: Nhập mã căn
A11: Diện tích(m2) | E11: =VLOOKUP(E10,'Bảng hàng 09-06-25'!$B$4:$I$100,3,0) -> 90
A12: Phân Khu | E12: =VLOOKUP(E10,'Bảng hàng 09-06-25'!$B$4:$I$100,4,0) -> Happy Garden
A13: Hướng | E13: =VLOOKUP(E10,'Bảng hàng 09-06-25'!$B$4:$I$100,5,0) -> Hướng Đông Nam
A14: Tổng Diện tích sàn xây dựng(m2) | E14: =VLOOKUP(E10,'Bảng hàng 09-06-25'!$B$4:$I$100,6,0) -> 0
A15: GIÁ BÁN (gồm vat, chưa bao gồm chiết khấu) | E15: =VLOOKUP(E10,'Bảng hàng 09-06-25'!$B$4:$I$100,8,0) -> 10797864000
A16: CHÍNH SÁCH ƯU ĐÃI | D16: Quà tặng | E16: 300000000 | F16: 1 | G16: Check Ekip | I16: Nhập theo chính sách từng giai đoạn trên bảng hàng
E17: =E15-E16 -> 10497864000
D18: CK 7% cho khách TTTĐ | E18: =E17*7% -> 7.3485048e+08 | F18: 1 | I18: Bằng 0 với các căn LK15-37, LK15-38, LK6-36, N20-12A, LK14-14
D20: Tổng CHIẾT KHẤU | E20: =E16+E18 -> 1.0348505e+09
A22: TỔNG GIÁ BÁN SAU CHIẾT KHẤU + ƯU ĐÃI | E22: =E15-E20 -> 9763013520
A24: Đợt | B24: Thời gian | D24: Nội dung | E24: Số tiền(vnd)
A25: Đợt 0 | B25: Đặt cọc | E25: =C6+C7+C8 -> 2159572800
A26: Đợt 1 | B26: Ngay khi ký HĐMB | D26: Đóng 30% (đã trừ cọc ) | E26: =ROUND($E$22*30%-E25,0) -> 769331256
A27: Đợt 2 | B27: 60 ngày kể từ ngày ký HĐMB | D27: Đóng 20% | E27: =ROUND($E$22*20%,0) -> 1952602704
A28: Đợt 3 | B28: 120 ngày kể từ ngày ký HĐMB | D28: Đóng 20% | E28: =ROUND(E22*20%,0) -> 1952602704
A29: Đợt 4 | B29: Khi có thông báo bàn giao nhà (Bàn giao dự kiến tháng 12/2025) | D29: Đóng 25% | E29: =ROUND(E22*25%,0) -> 2440753380
A30: Đợt 5 | B30: Thông báo nhận sổ đỏ | D30: Đóng 5% | E30: =ROUND(E22*5%,0) -> 488150676
B31: TỔNG (chưa bao gồm 0.5% PBT) | D31: Đóng 100% | E31: =+SUM(E25:E30) -> 9763013520 | F31: =+E31-E22 -> 0
A32: II. PHƯƠNG THỨC THANH TOÁN NHẬN HỖ TRỢ LÃI SUẤT 0% | E32: GIÁ BÁN (vnđ) | I32: Không áp dụng với các căn LK15-37, LK15-38, LK6-36, N20-12A, LK14-14
A33: Mã lô | E33: =E10 -> N10-32
A34: Diện tích(m2) | E34: =E11 -> 90
A35: Phân Khu | E35: =E12 -> Happy Garden
A36: Hướng | E36: =E13 -> Hướng Đông Nam
A37: Tổng diện tích sàn xây dựng | E37: =E14 -> 0
A38: GIÁ BÁN (gồm vat, chưa bao gồm chiết khấu) | E38: =E15*F38 -> 10797864000 | F38: 1
A39: CHÍNH SÁCH ƯU ĐÃI | D39: Quà tặng | E39: =E16 -> 300000000 | G39: Check Ekip
A40: TỔNG GIÁ BÁN SAU CHIẾT KHẤU + ƯU ĐÃI | E40: =E38-E39 -> 10497864000
A41: Đợt | B41: Thời gian | D41: Nội dung | E41: Số tiền(vnd)
A42: Đợt 0 | B42: Đặt cọc | E42: =E25 -> 2159572800
A43: Đợt 1 | B43: Ngay khi ký HĐMB | D43: Đóng 30% (đã trừ cọc ) | E43: =ROUND($E$40*30%-E42,0) -> 989786400
A44: Đợt 2 | B44: 60 ngày kể từ ngày ký HĐMB | D44: Đóng 20% | E44: =ROUND($E$40*20%,0) -> 2099572800
A45: Đợt 3 | B45: 120 ngày kể từ ngày ký HĐMB | D45: Đóng 20% | E45: =ROUND(E40*20%,0) -> 2099572800
A46: Đợt 4 | B46: Khi có thông báo bàn giao nhà (Bàn giao dự kiến tháng 12/2025) | D46: Đóng 25% | E46: =ROUND(E40*25%,0) -> 2624466000
A47: Đợt 5 | B47: Thông báo nhận sổ đỏ | D47: Đóng 5% | E47: =ROUND(E40*5%,0) -> 524893200
B48: TỔNG (chưa bao gồm 0.5% PBT) | D48: Đóng 100% | E48: =+SUM(E42:E47) -> 10497864000
E63: 96
E64: 12
E65: =+E63/E64 -> 8

Sheet PTG (2)
A2: PHIẾU TÍNH GIÁ CHÍNH THỨC THAM KHẢO DỰ ÁN HARBOUR CENTER
A3: I. PHƯƠNG THỨC THANH TOÁN TIÊU CHUẨN | D3: GIÁ TRẦN(vnđ)
A4: Mã lô | D4: LK13 | E4: Nhập thông tin
A5: Diện tích(m2) | D5: =VLOOKUP(D4,'Bảng hàng 09-06-25'!$B$4:$I$7,3,0) -> #N/A
A6: Mặt tiền | D6: =VLOOKUP(D4,'Bảng hàng 09-06-25'!$B$4:$I$7,4,0) -> #N/A
A7: Hướng | D7: =VLOOKUP(D4,'Bảng hàng 09-06-25'!$B$4:$I$7,5,0) -> #N/A
A8: Tổng Diện tích sàn xây dựng(m2) | D8: =VLOOKUP(D4,'Bảng hàng 09-06-25'!$B$4:$I$7,6,0) -> #N/A
A9: GIÁ BÁN(gồm vat, chưa bao gồm chiết khấu) | D9: =VLOOKUP(D4,'Bảng hàng 09-06-25'!$B$4:$I$7,8,0) -> #N/A
A10: CHÍNH SÁCH ƯU ĐÃI | C10: Chính sách Ealy Bird (CK 1%) | D10: =D9/1.1*1% -> #N/A
C11: CK thanh toán theo tiến độ (5%) | D11: =(D9/1.1-D9/1.1*1%)*5% -> #N/A
C12: Tổng CHIẾT KHẤU | D12: =D10+D11 -> #N/A
A13: TỔNG GIÁ BÁN SAU CHIẾT KHẤU + ƯU ĐÃI | D13: =D9-D12 -> #N/A
A14: Đợt | B14: Thời gian | C14: Nội dung | D14: Số tiền(vnd)
A15: Đợt 0 | B15: Đặt cọc | C15: 500000000
A16: Đợt 1 | B16: Ký HĐMB dự kiến 05/09/2024 | C16: Đóng 30% (gồm cọc) | D16: =D13*30% -> #N/A
A17: Đợt 2 | B17: Sau 45 ngày kể từ ngày ký HĐMB | C17: Đóng 20% | D17: =D13*20% -> #N/A
A18: Đợt 3 | B18: Sau 90 ngày kể từ ngày ký HĐMB | C18: Đóng 20% | D18: =D13*20% -> #N/A
A19: Đợt 4 | B19: Thông báo nhận nhà dự kiến 1/2025 | C19: Đóng 25% | D19: =D13*25% -> #N/A
A20: Đợt 5 | B20: Thông báo nhận GCN | C20: Đóng 5% | D20: =D13*5% -> #N/A
B21: TỔNG | C21: Đóng 100% | D21: =SUM(D16:D20) -> #N/A
A23: II. PHƯƠNG THỨC THANH TOÁN NHẬN HỖ TRỢ LÃI SUẤT 0% | D23: GIÁ TRẦN(vnđ)
A24: Mã lô | D24: =D4 -> LK13
A25: Diện tích | D25: =D5 -> #N/A
A26: Mặt tiền | D26: =D6 -> #N/A
A27: Hướng | D27: =D7 -> #N/A
A28: Tổng diện tích sàn xây dựng | D28: =D8 -> #N/A
A29: GIÁ BÁN(gồm vat, chưa bào gồm chiết khấu) | D29: =D9 -> #N/A
A30: CHÍNH SÁCH ƯU ĐÃI | C30: Chính sách Ealy Bird (CK 1%) | D30: =D29/1.1*1% -> #N/A
A31: TỔNG GIÁ BÁN SAU CHIẾT KHẤU + ƯU ĐÃI | D31: =D29-D30 -> #N/A
A32: Đợt | B32: Thời gian | C32: Nội dung | D32: Số tiền(vnd)
A33: Đợt 0 | B33: Đặt cọc | C33: 500000000
A34: Đợt 1 | B34: Ký HĐMB dự kiến 05/09/2024 | C34: Đóng 30% (gồm cọc) | D34: =D31*30% -> #N/A
A35: Đợt 2 | B35: Sau 45 ngày kể từ ngày ký HĐMB - ngân hàng giải ngân | C35: Đóng 65% | D35: =D31*65% -> #N/A
B36: Bàn giao nhà dự kiến tháng 1/2025
A37: Đợt 3 | B37: Thông báo nhận GCN | C37: Đóng 5% | D37: =D31*5% -> #N/A
B38: TỔNG | C38: Đóng 100% | D38: =SUM(D34:D37) -> #N/A
A39: Ngân hàng cho vay: Dự kiến MB và VCB Phương án vay: - Hỗ trợ lãi suất: 0% trong 12 tháng, sau thời gian hỗ trợ lãi suất khách hàng tự chi trả theo lãi suất của ngân hàng từng thời điểm. - Mức dư nợ được CĐT hỗ trợ lãi suất: 65% giá bán sản phẩm - Ân hạn nợ gốc: Theo thông báo của ngân hàng. - Phí trả nợ trước hạn: Theo thông báo của ngân hàng.

Sheet Bảng hàng 09-06-25
A1: BẢNG GIÁ GIỎ HÀNG DỰ ÁN HHNC 2 | K1: 59886356
A2: STT | B2: Mã căn | C2: Mẫu nhà | D2: Diện tích lô đất (m2) | E2: Mặt tiền (m) | F2: Hướng cửa chính | G2: Tổng DT sàn XĐ | H2: Đường | I2: Tổng giá sản phẩm tiền đất + xây dựng đã gồm vat (VNĐ) (Chưa gồm ck ) | J2: Đơn giá sản phẩm tiền đất + xây dựng đã gồm vat (VNĐ) (Chưa gồm ck) | K2: Chính sách BH
A3: TT | B3: Mã căn | C3: Mẫu nhà | D3: Diện tích lô đất (m2) | E3: Mặt tiền (m) | F3: Hướng cửa chính | M3: Tăng giá 2% | N3: Giá cũ | O3: Đơn giá cũ
A4: 1 | B4: LK14-14 | C4: LK | D4: 77 | E4: Prince Park | F4: Nam - Bắc | H4: Đường Lê Lai | I4: 16556000000 | J4: =I4/D4 -> 2.1501299e+08 | K4: Sau 01/12/2024 | M4: =+ROUND(N4*(1+2%),0) -> 12388363127 | N4: 12145454046 | O4: 1.5277301e+08
A5: 2 | B5: LK15-5 | C5: LK | D5: 84 | E5: Prince Park | F5: Tây | H5: Đường Lê Lai | I5: 12799710000 | J5: =I5/D5 -> 152377500 | K5: Sau 01/12/2024 | M5: =+ROUND(N5*(1+2%),0) -> 12388363127 | N5: 12145454046 | O5: 1.5277301e+08
A6: 3 | B6: LK15-37 | C6: LK | D6: 79.5 | E6: Prince Park | F6: Tây- Bắc | H6: Đường nội khu 11m | I6: 17239000000 | J6: =I6/D6 -> 2.1684277e+08 | K6: Sau 01/12/2024 | M6: =+ROUND(N6*(1+2%),0) -> 12412712436 | N6: 12169325918 | O6: 1.5541923e+08
A7: 4 | B7: LK15-38 | C7: LK | D7: 79.5 | E7: Prince Park | F7: Đông - Bắc | H7: Đường nội khu 11m | I7: 17239000000 | J7: =I7/D7 -> 2.1684277e+08 | K7: Sau 01/12/2024 | M7: =+ROUND(N7*(1+2%),0) -> 12412712436 | N7: 12169325918 | O7: 1.5541923e+08
A8: 5 | B8: LK5-46 | C8: LK | D8: 82.5 | E8: Queen Park | F8: Đông | H8: Đường nội khu 11m | I8: 21313198710 | J8: =I8/D8 -> 2.583418e+08 | K8: Sau 01/12/2024 | M8: =+ROUND(N8*(1+2%),0) -> 20530045359 | N8: 20127495450 | O8: 2.1366768e+08
A9: 6 | B9: LK5-48 | C9: LK | D9: 82.5 | E9: Queen Park | F9: Đông | H9: Đường nội khu 11m | I9: 24316689035 | J9: =I9/D9 -> 2.9474775e+08 | K9: Sau 01/12/2024 | M9: =+ROUND(N9*(1+2%),0) -> 23190146465 | N9: 22735437711 | O9: 1.9735623e+08
A10: 7 | B10: LK6-36 | C10: LK | D10: 82.5 | E10: Queen Park | F10: Đông | H10: Đường nội khu 11m | I10: 19820700000 | J10: =I10/D10 -> 2.4025091e+08 | K10: Sau 01/12/2024 | M10: =+ROUND(N10*(1+2%),0) -> 21745387309 | N10: 21319007166 | O10: 1.6475276e+08
A11: 8 | B11: N12A-11 | C11: LK | D11: 87.4 | E11: Prince Park | F11: Tây | H11: Đường nội khu 11m | I11: 22481996045 | J11: =I11/D11 -> 2.5723108e+08 | K11: Sau 01/12/2024 | M11: =+ROUND(N11*(1+2%),0) -> 12462832382 | N11: 12218463120 | O11: 1.5604678e+08 | P11: Mở mới 07/01/2025
A12: 9 | B12: N12A-14 | C12: LK | D12: 82.5 | E12: Prince Park | F12: Tây | I12: 21313198710 | J12: =I12/D12 -> 2.583418e+08 | M12: =SUM(M4:M11) -> 127530562641 | N12: =SUM(N4:N11) -> 125029963375
A13: 10 | B13: N15-06 | C13: LK | D13: 90 | E13: Prince Park | F13: Tây | I13: 13172700000 | J13: =I13/D13 -> 1.4636333e+08
A14: 11 | B14: N16-05 | C14: LK | D14: 88 | E14: Prince Park | F14: Bắc- Đông | I14: 17461920000 | J14: =I14/D14 -> 1.9843091e+08
A15: 12 | B15: N18-17 | C15: LK | D15: 90 | E15: Swan Lake | F15: Nam | I15: 13331808000 | J15: =I15/D15 -> 148131200
A16: 14 | B16: N20-12A | C16: LK | D16: 74 | E16: Swan Lake | F16: Đông | I16: 18235000000 | J16: =I16/D16 -> 2.4641892e+08
A17: 15 | B17: N22-27 | C17: LK | D17: 93 | E17: Swan Lake | F17: Đông | I17: 17968993200 | J17: =I17/D17 -> 1.9321498e+08
A18: 16 | B18: N22-34 | C18: LK | D18: 85 | E18: Swan Lake | F18: Bắc- Đông | I18: 17650120800 | J18: =I18/D18 -> 207648480
A19: 17 | B19: N8-12A | C19: LK | D19: 90 | E19: Happy Garden | F19: Nam | I19: 11417680000 | J19: =I19/D19 -> 1.2686311e+08
A20: 18 | B20: N8-15 | C20: LK | D20: 90 | E20: Happy Garden | F20: Nam | I20: 11417680000 | J20: =I20/D20 -> 1.2686311e+08
A21: 19 | B21: N12A-41 | C21: LK | D21: 90 | E21: Hoàng Tử | F21: Hướng Đông | I21: 14196420000 | J21: =I21/D21 -> 157738000
B22: N12A-36 | C22: LK | D22: 90 | E22: Hoàng Tử | F22: Hướng Đông | I22: 14196420000 | J22: =I22/D22 -> 157738000
B23: N14-7 | C23: LK | D23: 90 | E23: Hoàng Tử | F23: Hướng Tây | I23: 13236930000 | J23: =I23/D23 -> 147077000
B24: N14-5 | C24: LK | D24: 88 | E24: Hoàng Tử | F24: Hướng Đông Bắc | I24: Check | J24: =I24/D24 -> #VALUE!
B25: N14-3A | C25: LK | D25: 96 | E25: Hoàng Tử | F25: Hướng Bắc | I25: 17031420000 | J25: =I25/D25 -> 177410625
B26: N14-26 | C26: LK | D26: 90 | E26: Hoàng Tử | F26: Hướng Đông | I26: 13236930000 | J26: =I26/D26 -> 147077000
B27: N14-19 | C27: LK | D27: 96 | E27: Hoàng Tử | F27: Hướng Nam | I27: Check | J27: =I27/D27 -> #VALUE!
B28: N15-19 | C28: LK | D28: 96 | E28: Hoàng Tử | F28: Hướng Nam | I28: Check | J28: =I28/D28 -> #VALUE!
B29: N15-10 | C29: LK | D29: 90 | E29: Hoàng Tử | F29: Hướng Tây | I29: 15083271000 | J29: =I29/D29 -> 167591900
B30: N15-25 | C30: LK | D30: 90 | E30: Hoàng Tử | F30: Hướng Đông | I30: 12055680000 | J30: =I30/D30 -> 133952000
B31: N15-26 | C31: LK | D31: 90 | E31: Hoàng Tử | F31: Hướng Đông | I31: 12055680000 | J31: =I31/D31 -> 133952000
B32: N15-28 | C32: LK | D32: 90 | E32: Hoàng Tử | F32: Hướng Đông | I32: Check | J32: =I32/D32 -> #VALUE!
B33: N15-3 | C33: LK | D33: 96 | E33: Hoàng Tử | F33: Hướng Bắc | I33: 17041500000 | J33: =I33/D33 -> 177515625
B34: N16-1 | C34: LK | D34: 88,0 | E34: Hoàng Tử | F34: Hướng Tây Bắc | I34: Check | J34: =I34/D34 -> #VALUE!
B35: N16-2 | C35: LK | D35: 96 | E35: Hoàng Tử | F35: Hướng Bắc | I35: 17031420000 | J35: =I35/D35 -> 177410625
B36: N16-3 | C36: LK | D36: 96 | E36: Hoàng Tử | F36: Hướng Bắc | I36: 17041500000 | J36: =I36/D36 -> 177515625
B37: N16-3A | C37: LK | D37: 96 | E37: Hoàng Tử | F37: Hướng Bắc | I37: 17031420000 | J37: =I37/D37 -> 177410625
B38: N17-6 | C38: LK | D38: 90 | E38: Hoàng Tử | F38: Hướng Bắc | I38: 14441868000 | J38: =I38/D38 -> 160465200
B39: LK11-28 | C39: LK | D39: 90 | E39: Hoàng Tử | F39: Hướng Đông | I39: 13015170000 | J39: =I39/D39 -> 144613000
B40: LK11-14 | C40: LK | D40: 90 | E40: Hoàng Tử | F40: Hướng Đông | I40: 13015170000 | J40: =I40/D40 -> 144613000
B41: LK15-11 | C41: LK | D41: 77 | E41: Hoàng Tử | F41: Hướng Tây | I41: 11736270000 | J41: =I41/D41 -> 1.5241909e+08
B42: LK15-15 | C42: LK | D42: 77 | E42: Hoàng Tử | F42: Hướng Tây | I42: 10725645000 | J42: =I42/D42 -> 1.3929409e+08
B43: LK15-21 | C43: LK | D43: 84 | E43: Hoàng Tử | F43: Hướng Tây | I43: Check | J43: =I43/D43 -> #VALUE!
B44: LK15-29 | C44: LK | D44: 77 | E44: Hoàng Tử | F44: Hướng Tây | I44: 10725645000 | J44: =I44/D44 -> 1.3929409e+08
B45: LK6-37 | C45: LK | D45: 82.5 | E45: Nữ Hoàng | F45: Hướng Tây | I45: 13015485000 | J45: =I45/D45 -> 1.5776345e+08
B46: LK6-35 | C46: LK | D46: 82.5 | E46: Nữ Hoàng | F46: Hướng Tây | I46: 11932672500 | J46: =I46/D46 -> 1.4463845e+08
B47: LK6-33 | C47: LK | D47: 82.5 | E47: Nữ Hoàng | F47: Hướng Tây | I47: 14324089500 | J47: =I47/D47 -> 1.7362533e+08
B48: LK6-21 | C48: LK | D48: 82.5 | E48: Nữ Hoàng | F48: Hướng Tây | I48: 11932672500 | J48: =I48/D48 -> 1.4463845e+08
B49: LK6-19 | C49: LK | D49: 82.5 | E49: Nữ Hoàng | F49: Hướng Tây | I49: 11932672500 | J49: =I49/D49 -> 1.4463845e+08
B50: LK6-17 | C50: LK | D50: 90 | E50: Nữ Hoàng | F50: Hướng Tây | I50: 15623118000 | J50: =I50/D50 -> 173590200
B51: LK6-9 | C51: LK | D51: 82.5 | E51: Nữ Hoàng | F51: Hướng Tây | I51: 12474078750 | J51: =I51/D51 -> 1.5120095e+08
B52: LK5-29 | C52: LK | D52: 90 | E52: Nữ Hoàng | F52: Hướng Tây | I52: 14441868000 | J52: =I52/D52 -> 160465200
B53: LK5-27 | C53: LK | D53: 90 | E53: Nữ Hoàng | F53: Hướng Tây | I53: 13015170000 | J53: =I53/D53 -> 144613000
B54: N21-26 | C54: LK | D54: 84 | E54: Thiên Nga | F54: Hướng Đông | I54: 14155498800 | J54: =I54/D54 -> 1.6851784e+08
B55: N21-23 | C55: LK | D55: 84 | E55: Thiên Nga | F55: Hướng Đông | I55: 12434004000 | J55: =I55/D55 -> 1.4802386e+08
... B60: N22-2 | C60: LK | D60: 90 | E60: Thiên Nga | F60: Hướng Tây | I60: 13331808000 | J60: =I60/D60 -> 148131200
B61: N22-26 | C61: LK | D61: 93 | E61: Thiên Nga | F61: Hướng Đông | I61: Check | J61: =I61/D61 -> #VALUE!
B62: N19-9 | C62: LK | D62: 90 | E62: Thiên Nga | F62: Hướng Bắc | I62: Check | J62: =I62/D62 -> #VALUE!
B63: N19-10 | C63: LK | D63: 90 | E63: Thiên Nga | F63: Hướng Bắc | I63: Check | J63: =I63/D63 -> #VALUE!
B64: N18-3 | C64: LK | D64: 82.5 | E64: Thiên Nga | F64: Hướng Bắc | I64: 12222864000 | J64: =I64/D64 -> 1.4815593e+08
B65: N18-3A | C65: LK | D65: 82.5 | E65: Thiên Nga | F65: Hướng Bắc | I65: 12222864000 | J65: =I65/D65 -> 1.4815593e+08
B66: N18-8 | C66: LK | D66: 90 | E66: Thiên Nga | F66: Hướng Bắc | I66: 15176743200 | J66: =I66/D66 -> 168630480
B67: N18-9 | C67: LK | D67: 90 | E67: Thiên Nga | F67: Hướng Bắc | I67: 13331808000 | J67: =I67/D67 -> 148131200
B68: N18-10 | C68: LK | D68: 90 | E68: Thiên Nga | F68: Hướng Bắc | I68: 13331808000 | J68: =I68/D68 -> 148131200
B69: N10-32 | C69: LK | D69: 90 | E69: Happy Garden | F69: Hướng Đông Nam | I69: 10797864000 | J69: =I69/D69 -> 1.1997627e+08
B70: N10-31 | C70: LK | D70: 90 | E70: Happy Garden | F70: Hướng Đông Nam | I70: 10996314000 | J70: =I70/D70 -> 1.2218127e+08

Sheet Banghangtong (2)
A1: BẢNG GIÁ TRẦN GIỎ HÀNG ĐỢT 1 DỰ ÁN HARBOUR CENTER | K1: 59886356
A2: STT | B2: Mã căn | C2: Mẫu nhà | D2: Diện tích lô đất (m2) | E2: Mặt tiền (m) | F2: Hướng cửa chính | G2: Tổng DT sàn XĐ | H2: Đường | I2: Tổng giá trần sản phẩm tiền đất + xây dựng đã gồm vat (VNĐ) (Chưa gồm ck ) | J2: Đơn giá trần sản phẩm tiền đất + xây dựng đã gồm vat (VNĐ) (Chưa gồm ck) | K2: Chính sách BH
A3: TT | B3: Mã căn | C3: Mẫu nhà | D3: Diện tích lô đất (m2) | E3: Mặt tiền (m) | F3: Hướng cửa chính | M3: Tăng giá 2% | N3: Giá cũ | O3: Đơn giá cũ
A4: 1 | B4: LK13 | C4: B1 | D4: 79.5 | E4: 6 | F4: ĐB | G4: 409.14 | H4: Đường nội khu 11m | I4: 12793450512 | J4: =I4/D4 -> 1.6092391e+08 | K4: Trước 01/12/2024 | N4: 12793450512 | O4: 1.6092391e+08
A5: 2 | B5: LK14 | C5: B2 | D5: 79.5 | E5: 6 | F5: ĐB | G5: 409.14 | H5: Đường nội khu 11m | I5: 12388363127 | J5: =I5/D5 -> 1.5582847e+08 | K5: Sau 01/12/2024 | M5: =+ROUND(N5*(1+2%),0) -> 12388363127 | N5: 12145454046 | O5: 1.5277301e+08
A6: 3 | B6: LK15 | C6: B2M | D6: 79.5 | E6: 6 | F6: ĐB | G6: 397.4 | H6: Đường nội khu 11m | I6: 12388363127 | J6: =I6/D6 -> 1.5582847e+08 | K6: Sau 01/12/2024 | M6: =+ROUND(N6*(1+2%),0) -> 12388363127 | N6: 12145454046 | O6: 1.5277301e+08
A7: 4 | B7: LK16 | C7: B2 | D7: 79.5 | E7: 6 | F7: ĐB | G7: 397.4 | H7: Đường nội khu 11m | I7: 12388363127 | J7: =I7/D7 -> 1.5582847e+08 | K7: Sau 01/12/2024 | M7: =+ROUND(N7*(1+2%),0) -> 12388363127 | N7: 12145454046 | O7: 1.5277301e+08
A8: 5 | B8: LK17 | C8: B2M | D8: 79.5 | E8: 6 | F8: ĐB | G8: 409.14 | H8: Đường nội khu 11m | I8: 12388363127 | J8: =I8/D8 -> 1.5582847e+08 | K8: Sau 01/12/2024 | M8: =+ROUND(N8*(1+2%),0) -> 12388363127 | N8: 12145454046 | O8: 1.5277301e+08
A9: 6 | B9: LK18 | C9: B2 | D9: 79.5 | E9: 6 | F9: ĐB | G9: 397.4 | H9: Đường nội khu 11m | I9: 12388363127 | J9: =I9/D9 -> 1.5582847e+08 | K9: Sau 01/12/2024 | M9: =+ROUND(N9*(1+2%),0) -> 12388363127 | N9: 12145454046 | O9: 1.5277301e+08
A10: 7 | B10: LK19 | C10: B2M | D10: 79.5 | E10: 6 | F10: ĐB | G10: 397.4 | H10: Đường nội khu 11m | I10: 12388363127 | J10: =I10/D10 -> 1.5582847e+08 | K10: Sau 01/12/2024 | M10: =+ROUND(N10*(1+2%),0) -> 12388363127 | N10: 12145454046 | O10: 1.5277301e+08
A11: 8 | B11: LK20 | C11: B3 | D11: 79.4 | E11: 6 | F11: ĐB | G11: 409.14 | H11: Đường nội khu 11m | I11: 11574878333 | J11: =I11/D11 -> 1.4577932e+08 | K11: Sau 01/12/2024 | M11: =+ROUND(N11*(1+2%),0) -> 11574878333 | N11: 11347919934 | O11: 1.4292091e+08
A12: 9 | B12: LK21 | C12: B4 | D12: 78.7 | E12: 8.7 | F12: ĐB | G12: 412 | H12: Đường nội khu 11m | I12: 12367474016 | J12: =I12/D12 -> 1.5714707e+08 | K12: Sau 01/12/2024 | M12: =+ROUND(N12*(1+2%),0) -> 12367474016 | N12: 12124974525 | O12: 154065750
A13: 10 | B13: LK22 | C13: B5 | D13: 68.6 | E13: 8.19 | F13: ĐB | G13: 369.82 | H13: Đường nội khu 11m | I13: 10388369997 | J13: =I13/D13 -> 1.5143396e+08 | K13: Sau 01/12/2024 | M13: =+ROUND(N13*(1+2%),0) -> 10388369997 | N13: 10184676468 | O13: 1.4846467e+08
A14: 11 | B14: LK23 | C14: C1 | D14: 77.6 | E14: Góc | F14: ĐN-TN | G14: 425.06 | H14: Đường nội khu 11m | I14: 13460704092 | J14: =I14/D14 -> 1.7346268e+08 | K14: Trước 01/12/2024 | N14: 13460704092 | O14: 1.7346268e+08
A15: 12 | B15: LK24 | C15: C2 | D15: 79.9 | E15: 5.5 | F15: ĐN | G15: 412.06 | H15: Đường nội khu 11m | I15: 12714156890 | J15: =I15/D15 -> 1.5912587e+08 | K15: Sau 01/12/2024 | M15: =+ROUND(N15*(1+2%),0) -> 12714156890 | N15: 12464859696 | O15: 1.5600575e+08
A16: 13 | B16: LK25 | C16: C3 | D16: 79.6 | E16: 5.5 | F16: ĐN | G16: 410.04 | H16: Đường nội khu 11m | I16: 12556670202 | J16: =I16/D16 -> 1.5774711e+08 | K16: Sau 01/12/2024 | M16: =+ROUND(N16*(1+2%),0) -> 12556670202 | N16: 12310460982 | O16: 1.5465403e+08
A17: 14 | B17: LK26 | C17: C4 | D17: 78.7 | E17: 5.5 | F17: ĐN | G17: 405.36 | H17: Đường nội khu 11m | I17: 12446219471 | J17: =I17/D17 -> 1.5814764e+08 | K17: Sau 01/12/2024 | M17: =+ROUND(N17*(1+2%),0) -> 12446219471 | N17: 12202175952 | O17: 1.5504671e+08
A18: 15 | B18: LK27 | C18: C5 | D18: 89.5 | E18: 5.83 | F18: ĐN | G18: 430.4 | H18: Đường nội khu 11m | I18: 13905322986 | J18: =I18/D18 -> 1.5536674e+08 | K18: Sau 01/12/2024 | M18: =+ROUND(N18*(1+2%),0) -> 13905322986 | N18: 13632669594 | O18: 1.5232033e+08
A19: 16 | B19: LK36 | C19: D9 | D19: 89.1 | E19: 6 | F19: ĐN | G19: 457.02 | H19: Đường nội khu 11m | I19: 13837463255 | J19: =I19/D19 -> 1.5530262e+08 | K19: Trước 01/12/2024 | N19: 13837463255 | O19: 1.5530262e+08
A20: 17 | B20: LK37 | C20: D10 | D20: 92 | E20: 6.41 | F20: ĐN | G20: 460.27 | H20: Đường nội khu 11m | I20: 14048621072 | J20: =I20/D20 -> 1.527024e+08 | K20: Sau 01/12/2024 | M20: =+ROUND(N20*(1+2%),0) -> 14048621072 | N20: 13773157914 | O20: 1.4970824e+08
A21: 18 | B21: LK38 | C21: E1 | D21: 89.6 | E21: 13.81 | F21: TB | G21: 475.34 | H21: Đường nội khu 11m | I21: 13574973926 | J21: =I21/D21 -> 1.5150641e+08 | K21: Trước 01/12/2024 | N21: 13574973926 | O21: 1.5150641e+08
A22: 19 | B22: LK43 | C22: E6 | D22: 78.4 | E22: 6 | F22: TN | G22: 403.58 | H22: Đường nội khu 11m | I22: 13504643040 | J22: =I22/D22 -> 172253100 | K22: Trước 01/12/2024 | N22: 13504643040 | O22: 172253100
A23: 20 | B23: LK44 | C23: E7 | D23: 78.4 | E23: 6 | F23: TN | G23: 403.63 | H23: Đường nội khu 11m | I23: 13721082800 | J23: =I23/D23 -> 1.7501381e+08 | K23: Sau 01/12/2024 | M23: =+ROUND(N23*(1+2%),0) -> 13721082800 | N23: 13452041961 | O23: 1.7158217e+08
A24: 21 | B24: LK45 | C24: E8 | D24: 78.3 | E24: 6 | F24: TN | G24: 403.13 | H24: Đường nội khu 11m | I24: 12893205771 | J24: =I24/D24 -> 1.6466419e+08 | K24: Trước 01/12/2024 | N24: 12893205771 | O24: 1.6466419e+08
A25: 22 | B25: LK64 | C25: G2M | D25: 78.3 | E25: 6 | F25: TN | G25: 373.54 | H25: Đường nội khu 11m | I25: 12316737525 | J25: =I25/D25 -> 1.5730188e+08 | K25: Trước 01/12/2024 | N25: 12316737525 | O25: 1.5730188e+08
A26: 23 | B26: LK65 | C26: G2 | D26: 78.3 | E26: 6 | F26: TN | G26: 373.54 | H26: Đường nội khu 11m | I26: 12218463120 | J26: =I26/D26 -> 1.5604678e+08 | K26: Trước 01/12/2024 | N26: 12218463120 | O26: 1.5604678e+08
A27: 24 | B27: LK66 | C27: G2M | D27: 78.3 | E27: 6 | F27: TN | G27: 373.54 | H27: Đường nội khu 11m | I27: 12218463120 | J27: =I27/D27 -> 1.5604678e+08 | K27: Trước 01/12/2024 | N27: 12218463120 | O27: 1.5604678e+08
A28: 25 | B28: LK67 | C28: G2 | D28: 78.3 | E28: 6 | F28: TN | G28: 373.54 | H28: Đường nội khu 11m | I28: 12462832382 | J28: =I28/D28 -> 1.5916772e+08 | K28: Sau 01/12/2024 | M28: =+ROUND(N28*(1+2%),0) -> 12462832382 | N28: 12218463120 | O28: 1.5604678e+08
A29: 26 | B29: LK68 | C29: G3M | D29: 78.3 | E29: 6 | F29: TN | G29: 373.54 | H29: Đường nội khu 11m | I29: 12906383955 | J29: =I29/D29 -> 1.6483249e+08 | K29: Trước 01/12/2024 | N29: 12906383955 | O29: 1.6483249e+08
A30: 27 | B30: LK69 | C30: G3 | D30: 78.3 | E30: 6 | F30: ĐB | G30: 373.54 | H30: Đường nội khu 11m | I30: 12857246753 | J30: =I30/D30 -> 1.6420494e+08 | K30: Trước 01/12/2024 | N30: 12857246753 | O30: 1.6420494e+08
A31: 28 | B31: LK70 | C31: G2M | D31: 78.3 | E31: 6 | F31: ĐB | G31: 373.54 | H31: Đường nội khu 11m | I31: 12412712436 | J31: =I31/D31 -> 1.5852762e+08 | K31: Sau 01/12/2024 | M31: =+ROUND(N31*(1+2%),0) -> 12412712436 | N31: 12169325918 | O31: 1.5541923e+08
A32: 29 | B32: LK71 | C32: G2 | D32: 78.3 | E32: 6 | F32: ĐB | G32: 373.54 | H32: Đường nội khu 11m | I32: 12412712436 | J32: =I32/D32 -> 1.5852762e+08 | K32: Sau 01/12/2024 | M32: =+ROUND(N32*(1+2%),0) -> 12412712436 | N32: 12169325918 | O32: 1.5541923e+08
A33: 30 | B33: LK72 | C33: G2M | D33: 78.3 | E33: 6 | F33: ĐB | G33: 373.54 | H33: Đường nội khu 11m | I33: 11628816690 | J33: =I33/D33 -> 1.4851618e+08 | K33: Trước 01/12/2024 | N33: 11628816690 | O33: 1.4851618e+08
A34: 31 | B34: LK73 | C34: G2 | D34: 78.3 | E34: 6 | F34: ĐB | G34: 373.54 | H34: Đường nội khu 11m | I34: 12312472543 | J34: =I34/D34 -> 1.5724741e+08 | K34: Sau 01/12/2024 | M34: =+ROUND(N34*(1+2%),0) -> 12312472543 | N34: 12071051513 | O34: 1.5416413e+08
A35: 32 | B35: LK56 | C35: G3 | D35: 78.3 | E35: 6 | F35: TN | G35: 373.52 | H35: Đường nội khu 11m | I35: 12906383955 | J35: =I35/D35 -> 1.6483249e+08 | K35: Trước 01/12/2024 | N35: 12906383955 | O35: 1.6483249e+08
A36: 33 | B36: LK74 | C36: G4M | D36: 78.3 | F36: ĐB | G36: 373.54 | H36: Đường nội khu 11m | I36: 15412381283 | J36: =I36/D36 -> 1.9683756e+08 | K36: Trước 01/12/2024 | N36: 15412381283 | O36: 1.9683756e+08
A37: 34 | B37: LK01 | C37: A1 | D37: 161.8 | F37: ĐN | G37: 656.86 | H37: Đường Lê Lai | I37: 45612167832 | J37: =I37/D37 -> 2.8190462e+08 | K37: Sau 01/12/2024 | M37: =+ROUND(N37*(1+2%),0) -> 45612167832 | N37: 44717811600 | O37: 2.7637708e+08
A38: 35 | B38: LK02 | C38: A2 | D38: 103.7 | E38: 5 | F38: ĐN | G38: 471.4 | H38: Đường Lê Lai | I38: 22741718423 | J38: =I38/D38 -> 2.1930297e+08 | K38: Sau 01/12/2024 | M38: =+ROUND(N38*(1+2%),0) -> 22741718423 | N38: 22295802375 | O38: 2.1500292e+08
A39: 36 | B39: LK03 | C39: A3 | D39: 94.2 | E39: 5 | F39: ĐN | G39: 444.84 | H39: Đường Lê Lai | I39: 20530045359 | J39: =I39/D39 -> 2.1794103e+08 | K39: Sau 01/12/2024 | M39: =+ROUND(N39*(1+2%),0) -> 20530045359 | N39: 20127495450 | O39: 2.1366768e+08
A40: 37 | B40: LK04 | C40: A4 | D40: 115.2 | E40: 4 | F40: ĐN | G40: 522.34 | H40: Đường Lê Lai | I40: 23190146465 | J40: =I40/D40 -> 2.0130335e+08 | K40: Sau 01/12/2024 | M40: =+ROUND(N40*(1+2%),0) -> 23190146465 | N40: 22735437711 | O40: 1.9735623e+08
A41: 38 | B41: LK05 | C41: A5 | D41: 129.4 | E41: 6 | F41: ĐB | G41: 555.2 | H41: Đường nội khu 11m | I41: 21745387309 | J41: =I41/D41 -> 1.6804782e+08 | K41: Sau 01/12/2024 | M41: =+ROUND(N41*(1+2%),0) -> 21745387309 | N41: 21319007166 | O41: 1.6475276e+08
A42: 39 | B42: LK06 | C42: A6 | D42: 130.1 | E42: 6 | F42: ĐB | G42: 555.3 | H42: Đường nội khu 11m | I42: 21894926752 | J42: =I42/D42 -> 1.6829306e+08 | K42: Sau 01/12/2024 | M42: =+ROUND(N42*(1+2%),0) -> 21894926752 | N42: 21465614463 | O42: 1.6499319e+08
A43: 40 | B43: LK07 | C43: A7 | D43: 146.9 | E43: 6.9 | F43: ĐB | G43: 602.2 | H43: Đường nội khu 11m | I43: 24793246233 | J43: =I43/D43 -> 1.6877635e+08 | K43: Sau 01/12/2024 | M43: =+ROUND(N43*(1+2%),0) -> 24793246233 | N43: 24307104150 | O43: 1.6546701e+08
A44: 41 | B44: LK08 | C44: A8 | D44: 115.8 | E44: 10 | F44: ĐB | G44: 521.61 | H44: Đường nội khu 11m | I44: 19261276861 | J44: =I44/D44 -> 1.6633227e+08 | K44: Sau 01/12/2024 | M44: =+ROUND(N44*(1+2%),0) -> 19261276861 | N44: 18883604766 | O44: 1.6307085e+08
A45: 42 | B45: LK09 | C45: A9A | D45: 79.3 | E45: 6 | F45: ĐB | G45: 408.58 | H45: Đường nội khu 11m | I45: 12388363127 | J45: =I45/D45 -> 1.5622148e+08 | K45: Sau 01/12/2024 | M45: =+ROUND(N45*(1+2%),0) -> 12388363127 | N45: 12145454046 | O45: 1.5315831e+08
A46: 43 | B46: LK10 | C46: A9M | D46: 79.5 | E46: 6 | F46: ĐB | G46: 409.14 | H46: Đường nội khu 11m | I46: 12388363127 | J46: =I46/D46 -> 1.5582847e+08 | K46: Sau 01/12/2024 | M46: =+ROUND(N46*(1+2%),0) -> 12388363127 | N46: 12145454046 | O46: 1.5277301e+08
A47: 44 | B47: LK11 | C47: A9 | D47: 79.5 | E47: 6 | F47: ĐB | G47: 409.14 | H47: Đường nội khu 11m | I47: 12388363127 | J47: =I47/D47 -> 1.5582847e+08 | K47: Sau 01/12/2024 | M47: =+ROUND(N47*(1+2%),0) -> 12388363127 | N47: 12145454046 | O47: 1.5277301e+08
A48: 45 | B48: LK12 | C48: A10 | D48: 96.5 | E48: 6 | F48: ĐB | G48: 471.04 | H48: Đường nội khu 11m | I48: 16083977692 | J48: =I48/D48 -> 1.6667334e+08 | K48: Sau 01/12/2024 | M48: =+ROUND(N48*(1+2%),0) -> 16083977692 | N48: 15768605580 | O48: 1.6340524e+08
A49: 46 | B49: LK28 | C49: D1 | D49: 82.8 | E49: 6 | F49: TN | G49: 425.76 | H49: Đường nội khu 11m | I49: 12008311812 | J49: =I49/D49 -> 1.4502792e+08 | K49: Sau 01/12/2024 | M49: =+ROUND(N49*(1+2%),0) -> 12008311812 | N49: 1.1772855e+10 | O49: 1.4218424e+08
... A55: 52 | B55: LK34 | C55: D7 | D55: 85 | E55: 6 | F55: TN | G55: 436.83 | H55: Đường nội khu 11m | I55: 13251870069 | J55: =I55/D55 -> 1.5590435e+08 | K55: Sau 01/12/2024 | M55: =+ROUND(N55*(1+2%),0) -> 13251870069 | N55: 1.2992029e+10 | O55: 1.5284741e+08
A56: 53 | B56: LK35 | C56: D8 | D56: 83 | F56: TN | G56: 415.1 | H56: Đường nội khu 11m | I56: 15276856476 | J56: =I56/D56 -> 1.8405851e+08 | K56: Sau 01/12/2024 | M56: =+ROUND(N56*(1+2%),0) -> 15276856476 | N56: 14977310271 | O56: 1.8044952e+08
A57: 54 | B57: LK39 | C57: E2 | D57: 94.9 | F57: TN | G57: 476.3 | H57: Đường nội khu 11m | I57: 17823428976 | J57: =I57/D57 -> 1.8781274e+08 | K57: Sau 01/12/2024 | M57: =+ROUND(N57*(1+2%),0) -> 17823428976 | N57: 17473949976 | O57: 1.8413014e+08
A58: 55 | B58: LK40 | C58: E3 | D58: 78 | E58: 6 | F58: TN | G58: 401.9 | H58: Đường nội khu 11m | I58: 13807788295 | J58: =I58/D58 -> 1.7702293e+08 | K58: Sau 01/12/2024 | M58: =+ROUND(N58*(1+2%),0) -> 13807788295 | N58: 13537047348 | O58: 1.7355189e+08
A59: 56 | B59: LK41 | C59: E4 | D59: 78.1 | E59: 6 | F59: TN | G59: 402.32 | H59: Đường nội khu 11m | I59: 13732568342 | J59: =I59/D59 -> 1.7583314e+08 | K59: Sau 01/12/2024 | M59: =+ROUND(N59*(1+2%),0) -> 13732568342 | N59: 13463302296 | O59: 1.7238543e+08
A60: 57 | B60: LK42 | C60: E5 | D60: 78.3 | E60: 6 | F60: TN | G60: 403.01 | H60: Đường nội khu 11m | I60: 13748381177 | J60: =I60/D60 -> 1.7558597e+08 | K60: Sau 01/12/2024 | M60: =+ROUND(N60*(1+2%),0) -> 13748381177 | N60: 13478805075 | O60: 1.721431e+08
A61: 58 | B61: LK46 | C61: F1 | D61: 78.3 | E61: 5.2 | F61: ĐN | G61: 372.15 | H61: Đường Lê Lai | I61: 1.6053087e+10 | J61: =I61/D61 -> 2.0502027e+08 | K61: Trước 01/12/2024 | N61: 1.6053087e+10 | O61: 2.0502027e+08
A62: 59 | B62: LK47 | C62: F2 | D62: 97.9 | E62: 5 | F62: ĐN | G62: 458.71 | H62: Đường Lê Lai | I62: 22797822222 | J62: =I62/D62 -> 2.3286846e+08 | K62: Sau 01/12/2024 | M62: =+ROUND(N62*(1+2%),0) -> 22797822222 | N62: 22350806100 | O62: 2.2830241e+08
A63: 60 | B63: LK48 | C63: F2M | D63: 97.7 | E63: 5 | F63: ĐN | G63: 458.71 | H63: Đường Lê Lai | I63: 23550101190 | J63: =I63/D63 -> 2.4104505e+08 | K63: Sau 01/12/2024 | M63: =+ROUND(N63*(1+2%),0) -> 23550101190 | N63: 23088334500 | O63: 2.3631867e+08
A64: 61 | B64: LK49 | C64: F2A | D64: 97.9 | E64: 5 | F64: ĐN | G64: 458.71 | H64: Đường Lê Lai | I64: 23675481018 | J64: =I64/D64 -> 2.4183331e+08 | K64: Sau 01/12/2024 | M64: =+ROUND(N64*(1+2%),0) -> 23675481018 | N64: 23211255900 | O64: 2.3709148e+08
A65: 62 | B65: LK50 | C65: F3 | D65: 151.6 | F65: ĐN | G65: 627.53 | H65: Đường Lê Lai | I65: 43110631516 | J65: =I65/D65 -> 2.8437092e+08 | K65: Sau 01/12/2024 | M65: =+ROUND(N65*(1+2%),0) -> 43110631516 | N65: 42265325016 | O65: 2.7879502e+08
A66: 63 | B66: LK51 | C66: G1 | D66: 128.6 | F66: TN | G66: 591.91 | H66: Đường nội khu 11m | I66: 22920276574 | J66: =I66/D66 -> 1.7822921e+08 | K66: Sau 01/12/2024 | M66: =+ROUND(N66*(1+2%),0) -> 22920276574 | N66: 22470859386 | O66: 1.7473452e+08
A67: 64 | B67: LK52 | C67: G2 | D67: 78.3 | E67: 6 | F67: TN | G67: 373.54 | H67: Đường nội khu 11m | I67: 12563072276 | J67: =I67/D67 -> 1.6044792e+08 | K67: Sau 01/12/2024 | M67: =+ROUND(N67*(1+2%),0) -> 12563072276 | N67: 12316737525 | O67: 1.5730188e+08
A68: 65 | B68: LK53 | C68: G2M | D68: 78.3 | E68: 6 | F68: TN | G68: 373.54 | H68: Đường nội khu 11m | I68: 12462832382 | J68: =I68/D68 -> 1.5916772e+08 | K68: Sau 01/12/2024 | M68: =+ROUND(N68*(1+2%),0) -> 12462832382 | N68: 12218463120 | O68: 1.5604678e+08
A69: 66 | B69: LK54 | C69: G2 | D69: 78.3 | E69: 6 | F69: TN | G69: 373.54 | H69: Đường nội khu 11m | I69: 12462832382 | J69: =I69/D69 -> 1.5916772e+08 | K69: Sau 01/12/2024 | M69: =+ROUND(N69*(1+2%),0) -> 12462832382 | N69: 12218463120 | O69: 1.5604678e+08
A70: 67 | B70: LK55 | C70: G2M | D70: 78.3 | E70: 6 | F70: TN | G70: 373.54 | H70: Đường nội khu 11m | I70: 12462832382 | J70: =I70/D70 -> 1.5916772e+08 | K70: Sau 01/12/2024 | M70: =+ROUND(N70*(1+2%),0) -> 12462832382 | N70: 12218463120 | O70: 1.5604678e+08
A71: 68 | B71: LK57 | C71: G3M | D71: 78.3 | E71: 6 | F71: ĐB | G71: 373.52 | H71: Đường nội khu 11m | I71: 13114391688 | J71: =I71/D71 -> 1.6748904e+08 | K71: Sau 01/12/2024 | M71: =+ROUND(N71*(1+2%),0) -> 13114391688 | N71: 1.2857247e+10 | O71: 1.6420494e+08
A72: 69 | B72: LK58 | C72: G2 | D72: 78.3 | E72: 6 | F72: ĐB | G72: 373.54 | H72: Đường nội khu 11m | I72: 12412712436 | J72: =I72/D72 -> 1.5852762e+08 | K72: Sau 01/12/2024 | M72: =+ROUND(N72*(1+2%),0) -> 12412712436 | N72: 1.2169326e+10 | O72: 1.5541923e+08
A73: 70 | B73: LK59 | C73: G2M | D73: 78.3 | E73: 6 | F73: ĐB | G73: 373.54 | H73: Đường nội khu 11m | I73: 12412712436 | J73: =I73/D73 -> 1.5852762e+08 | K73: Sau 01/12/2024 | M73: =+ROUND(N73*(1+2%),0) -> 12412712436 | N73: 1.2169326e+10 | O73: 1.5541923e+08
A74: 71 | B74: LK60 | C74: G2 | D74: 78.3 | E74: 6 | F74: ĐB | G74: 373.54 | H74: Đường nội khu 11m | I74: 12412712436 | J74: =I74/D74 -> 1.5852762e+08 | K74: Sau 01/12/2024 | M74: =+ROUND(N74*(1+2%),0) -> 12412712436 | N74: 1.2169326e+10 | O74: 1.5541923e+08
A75: 72 | B75: LK61 | C75: G2M | D75: 78.3 | E75: 6 | F75: ĐB | G75: 373.54 | H75: Đường nội khu 11m | I75: 12212232650 | J75: =I75/D75 -> 1.5596721e+08 | K75: Sau 01/12/2024 | M75: =+ROUND(N75*(1+2%),0) -> 12212232650 | N75: 1.1972777e+10 | O75: 1.5290903e+08
A76: 73 | B76: LK62 | C76: G1M | D76: 128.6 | F76: ĐB | G76: 597.97 | H76: Đường nội khu 11m | I76: 22344514492 | J76: =I76/D76 -> 1.7375206e+08 | K76: Sau 01/12/2024 | M76: =+ROUND(N76*(1+2%),0) -> 22344514492 | N76: 21906386757 | O76: 1.7034515e+08
A77: 74 | B77: LK63 | C77: G4 | D77: 78.3 | E77: 6 | F77: TN | G77: 388.11 | H77: Đường nội khu 11m | I77: 1.5166695e+10 | J77: =I77/D77 -> 1.9369981e+08 | K77: Trước 01/12/2024 | N77: 1.5166695e+10 | O77: 1.9369981e+08
B78: Tổng | D78: =SUM(D4:D77) -> 6529.5 | I78: =SUM(I4:I77) -> 1139906048804 | M78: =SUM(M4:M77) -> 926156949387 | N78: =SUM(N4:N77) -> 1.1217461e+12

Sheet 9can
A2: STT | B2: Mã căn | C2: Diện tích lô đất (m2) | D2: Mặt tiền (m) | E2: Tổng DT sàn XĐ | F2: Tổng giá trần sản phẩm tiền đất + xây dựng đã gồm vat (VNĐ) - chưa chiết khấu | G2: Đơn giá trần sản phẩm tiền đất + xây dựng đã gồm vat (VNĐ) | H2: Tiền chiết khấu | I2: Tổng Giá sau chiết khấu
A3: 1 | B3: LK01 | C3: 161.8 | E3: 656.86 | F3: 44717811600 | G3: 2.7637708e+08
A4: 2 | B4: Lk02 | C4: 103.7 | D4: 5 | E4: 471.4 | F4: 22295802375 | G4: 2.1500292e+08
A5: 3 | B5: LK03 | C5: 94.2 | D5: 5 | E5: 444.84 | F5: 20127495450 | G5: 2.1366768e+08
A6: 4 | B6: LK04 | C6: 115.2 | D6: 4 | E6: 522.34 | F6: 22735437711 | G6: 1.9735623e+08
A7: 5 | B7: LK46 | C7: 78.3 | D7: 5.2 | E7: 372.15 | F7: 1.6053087e+10 | G7: 2.0502027e+08
A8: 6 | B8: LK47 | C8: 97.9 | D8: 5 | E8: 458.71 | F8: 22350806100 | G8: 2.2830241e+08
A9: 7 | B9: LK48 | C9: 97.7 | D9: 5 | E9: 458.71 | F9: 23088334500 | G9: 2.3631867e+08
A10: 8 | B10: LK49 | C10: 97.9 | D10: 5 | E10: 458.71 | F10: 23211255900 | G10: 2.3709148e+08
A11: 9 | B11: LK50 | C11: 151.6 | E11: 627.53 | F11: 42265325016 | G11: 2.7879502e+08
