Workbook
Name data_hdvv: #REF!
Name data_hdvv: #REF!
Name data_hdvv: #REF!
Name data_hdvv: #REF!
Name data_hdvv: #REF!
Name data_hdvv_royalcity: #REF!
Name data_hdvv_royalcity: #REF!
Name data_hdvv_royalcity: #REF!
Name data_hdvv_royalcity: #REF!
Name data_hdvv_royalcity: #REF!
Name data_hdvv_timescity: #REF!
Name data_hdvv_timescity: #REF!
Name data_hdvv_timescity: #REF!
Name data_hdvv_timescity: #REF!
Name data_hdvv_timescity: #REF!
Name data_r2_hdmb_4060: #REF!
Name data_r2_hdmb_4060: #REF!
Name data_r2_hdmb_4060: #REF!
Name data_r2_hdmb_4060: #REF!
Name data_r2_hdmb_4060: #REF!
Name data_r2_hdmb_cpi: #REF!
Name data_r2_hdmb_cpi: #REF!
Name data_r2_hdmb_cpi: #REF!
Name data_r2_hdmb_cpi: #REF!
Name data_r2_hdmb_cpi: #REF!
Name data_r3: #REF!
Name data_r3: #REF!
Name data_r3: #REF!
Name data_r3: #REF!
Name data_r3: #REF!
Name data_r4: #REF!
Name data_r4: #REF!
Name data_r4: #REF!
Name data_r4: #REF!
Name data_r4: #REF!
Name data_r5: #REF!
Name data_r5: #REF!
Name data_r5: #REF!
Name data_r5: #REF!
Name data_r5: #REF!
Name data_r6: #REF!
Name data_r6: #REF!
Name data_r6: #REF!
Name data_r6: #REF!
Name data_r6: #REF!
Name dataR3: #REF!
Name dataR3: #REF!
Name dataR3: #REF!
Name dataR3: #REF!
Name dataR3: #REF!
Name dataR6: #REF!
Name dataR6: #REF!
Name dataR6: #REF!
Name dataR6: #REF!
Name dataR6: #REF!
Name du_lieu_VV: #REF!
Name du_lieu_VV: #REF!
Name du_lieu_VV: #REF!
Name du_lieu_VV: #REF!
Name du_lieu_VV: #REF!

Sheet foxz

Sheet PTG_CSBH04
A1: CÔNG TY TNHH ĐẦU TƯ VÀ PHÁT TRIỂN BẤT ĐỘNG SẢN VẠN PHÚC ĐIỀN
A3: PHIẾU TÍNH GIÁ | J3: Thủ tục tự cập nhật thông tin vào các ô bôi vàng
A4: DỰ ÁN GOLDEN POINT
A5: (CSBH V04_ÁP DỤNG: 04/09/2024) | I5: Option thanh toán
I6: 1 | J6: Thanh toán theo tiến độ chuẩn bằng VTC
I7: 2 | J7: TTS từng đợt tròn tiến độ | N7: Hạn dừng HTLS | O7: Tỷ lệ CK TTS 100%
E8: PHÂN KHU: | F8: LK01 | G8: Thủ tục chọn trong droplist | I8: 3 | J8: Vay Hỗ trợ lãi suất | M8: LK01 | N8: =TODAY()+30 -> 45580 | O8: 0.11
B9: Nhóm KH | F9: Cá nhân | G9: Thủ tục chọn trong droplist | I9: 4 | J9: TT sớm 100% bằng vốn tự có trong 15 ngày kể từ khi kí HĐMB | M9: LK02 | N9: =TODAY()+30 -> 45580 | O9: 0.11
B10: Khách hàng lựa chọn phương án | D10: =VLOOKUP($F$10,$I$6:$K$9,2,0) -> TT sớm 100% bằng vốn tự có trong 15 ngày kể từ khi kí HĐMB | F10: 4 | I10: 0
A11: 1 | B11: Họ và tên khách | G11: Thủ tục điền | I11: 0.01
A12: 2 | B12: Ký hiệu căn | F12: HG-10 | G12: Thủ tục điền mã căn
A13: 3 | B13: Tính toán giá trị | I13: QSD đất/m2 đất | J13: 22866119
A14: 3.1 | B14: Diện tích đất (m2) | F14: 75 | G14: Thủ tục điền
A15: 3.2 | B15: Diện tích Sàn xây dựng Nhà ở (m2) | F15: 271.2 | G15: Thủ tục điền diện tích tính giá (S sàn xây dựng)
A16: 3.3 | B16: Đơn giá (CHƯA bao gồm VAT) | F16: 27617996 | G16: Thủ tục điền | H16: 6690846319
B17: Tổng giá trị Nhà ở chưa gồm VAT | F17: =ROUND(F16*F15,0) -> 7490000515 | H17: =H16/F15 -> 24671262
B18: Tổng giá trị Nhà Ở đã gồm VAT | F18: =ROUND((F16+(F16-$J$13*F14/F15)*10%)*F15,0) -> 8067504674
B19: Các khoản giảm trừ vào giá khi KH ký HĐMB
B20: Chiết khấu quà tặng gói nội thất | F20: =IF($F$17>10000000000,100000000,IF($F$17<7000000000,50000000,70000000)) -> 70000000 | G20: Tính trên giá net (không gồm VAT)
B21: CK không nhận bảo lãnh ngân hàng | D21: KHÔNG | F21: =IF(D21="Có",0,1%) -> 0.01 | G21: Thủ tục chọn trong droplist
B22: CK cho KH lựa chọn TTS 100% bằng VTC trong vòng 15 ngày | F22: =+IF($F$10=4,11%,0) -> 0.11
B23: CK cho KH lựa chọn TT theo tiến độ thông thường bằng VTC | F23: =+IF(OR($F$10=1,$F$10=2),5%,0) -> 0
B24: Chiết khấu khác (%, nếu có) | F24: 0 | G24: Thủ tục điền % giảm trừ theo PD
B25: Đơn giá (CHƯA bao gồm VAT) sau giảm giá | F25: =ROUND((F16-(F20/F15))*(1-F21)*(1-F22)*(1-F23)*(1-F24),0) -> 24106794 | I25: =F17-F20 -> 7420000515
B26: Đơn giá (ĐÃ bao gồm VAT) | F26: =ROUND(F25+(F25-$J$13*F14/F15)*10%,0) -> 25885114 | G26: (F16-(F19/F15)) | I26: =I25*F21 -> 74200005
A27: 4 | B27: Tổng giá trị Nhà Ở vào HĐMB
B28: Tổng giá trị Nhà Ở đã gồm VAT | F28: =ROUND(+F29+F30,0) -> 7020042894 | G28: =SUM(F29:F30)=F28 -> TRUE | J28: BẢNG TÍNH LÃI CHẬM
B29: Tổng giá trị Nhà Ở chưa gồm VAT | F29: =ROUND(+F25*F15,0) -> 6537762533 | G29: =F25*F15=F29 -> FALSE | J29: Hạn TT | K29: Ngày tính lãi | L29: Ngày thực TT | M29: Số ngày chậm | N29: Số tiền | O29: Lãi
B30: Tổng thuế GTGT | F30: =ROUND((F29-J13*F14)*10%,0) -> 482280361 | J30: LK01-92 | O30: =0.05%*N30*M30 -> 0
A31: 6 | B31: Chiết khấu thanh toán sớm VTC giảm trừ vào giá thanh toán | F31: =F32+F33-F34 -> 0 | J31: 45318 | K31: =J31+1 -> 45319 | L31: 45350 | M31: =L31-K31 -> 31 | N31: =924309979-300000000 -> 624309979 | O31: =0.05%*N31*M31 -> 9676804.7
B32: CK TTS giảm trừ vào tiến độ HĐMB | F32: =IF($F$10=2,SUM(V81:V105),0) -> 0 | G32: Số tiền này vào TT CK TTS | K32: =J32+1 -> 1 | M32: =L32-K32 -> -1 | O32: =0.05%*N32*M32 -> 0
B33: Lãi vay từ HĐV dự kiến KH được hưởng | F33: =IF($F$10=2,SUM(V106:V109),0) -> 0 | G33: Số tiền lãi (sau khấu trừ PIT) trừ vào lần thanh toán tiếp theo | K33: =J33+1 -> 1 | M33: =L33-K33 -> -1 | O33: =0.05%*N33*M33 -> 0
B34: Thuế TNCN KH chịu | F34: =IF($F$9="Cá nhân",F33*5%,0) -> 0 | K34: =J34+1 -> 1 | M34: =L34-K34 -> -1 | O34: =0.05%*N34*M34 -> 0
B35: Số tiền KH phải thanh toán sau khi giảm trừ CK TTS | F35: =+F28-F31 -> 7020042894 | K35: =J35+1 -> 1 | M35: =L35-K35 -> -1 | O35: =0.05%*N35*M35 -> 0
B36: Số tiền KH phải thanh toán sau khi giảm trừ CK TTS bao gồm PBT | F36: =+F35+#REF! -> #REF!
A37: 7 | B37: Số tiền vào HĐV | F37: =IF($F$10=3,F28*25%,IF(F10=4,F28*25%+F30*5%,IF(F10=2,SUM(U106:U109),0))) -> 1.7791247e+09
A38: 8 | B38: Số tiền vào TTĐC | F38: =$F$29*5% -> 3.2688813e+08
B39: Lãi cọc tạm tính | F39: =U115 -> 31058850
B40: Thuế TNCN KH chịu | F40: =IF($F$9="Cá nhân",F39*5%,0) -> 1552942.5
B41: Lãi cọc KH thực nhận | F41: =+F39-F40 -> 29505907
A42: 9 | B42: Ngày dự kiến bàn giao và cấp GCN quyền sở hữu
B43: Ngày dự kiến bàn giao: | F43: =+$E$54 -> 45657
B44: Ngày dự kiến cấp GCN quyền sở hữu: | F44: =+$E$55 -> 45838
A46: 10 | B46: Tiến độ thanh toán
B47: Tiến độ | D47: % | E47: Ngày thanh toán theo tiến độ | F47: Tổng thanh toán các đợt theo tiến độ
B48: Lần 1 - Khi ký TTĐC | E48: 45539 | F48: 200000000 | G48: Thủ tục điền ngày kí TTKQ
B49: Ký HĐMB
B50: Lần 2 - Ngay khi ký HĐMB | D50: 0.15 | E50: =E48+10 -> 45549 | F50: =ROUND(($F$29+$F$30)*D50-F48,0) -> 853006434 | G50: Thủ tục điền ngày kí HĐMB
B51: Lần 2 - TTĐC đảm bảo HĐMB-5% giá trị nhà ở chưa VAT | D51: 0.05 | E51: =E50 -> 45549 | F51: =ROUND($F$29*D51,0) -> 326888127
B52: Lần 3 - HĐMB | D52: 0.15 | E52: 45575 | F52: =ROUND(($F$29+$F$30)*D52,0) -> 1053006434
B53: Lần 4 - HĐMB | D53: 0.4 | E53: 45606 | F53: =ROUND(($F$29+$F$30)*D53,0) -> 2808017158
B54: Lần 6 Theo thông báo nhận bàn giao nhà | C54: 25% giá trị gồm VAT+ VAT 5% | D54: 0.25 | E54: 45657 | F54: =ROUND($F$29+$F$30-F48-F50-F51-F52-F53,0) -> 1779124741
B55: Lần 7 Theo thông báo của CĐT khi nhà ở được cấp GCN quyền sở hữu- khấu trừ từ TTĐC | D55: 0.05 | E55: =EDATE(E54,6) -> 45838 | F55: =+D55*F29-F51 -> -0.34999996
B56: Tổng cộng | D56: =SUM(D50:D54) -> 1 | F56: =F48+F50+F51+F52+F53+F54 -> 7020042894 | G56: =F28-F56 -> 0
A58: 11 | B58: Tiến độ thanh toán đối với KH tham gia chương trình HTLS
B59: Tiến độ | D59: % | E59: Ngày thanh toán theo tiến độ | F59: Tổng thanh toán các đợt theo tiến độ | G59: Vốn tự có | H59: Ngân hàng giải ngân
B60: Lần 1 - Khi ký TTĐC | E60: =E48 -> 45539 | F60: =F48 -> 200000000 | G60: =+F60 -> 200000000
B61: Ký HĐMB
B62: Lần 2 - Ngay khi ký HĐMB | D62: 0.15 | E62: =E50 -> 45549 | F62: =ROUND(($F$29+$F$30)*D62-F60,0) -> 853006434 | G62: =+F62 -> 853006434
B63: Lần 2 - TTĐC đảm bảo HĐMB-5% giá trị nhà ở chưa gồm VAT | D63: 0.05 | E63: =E62 -> 45549 | F63: =$F$29*$D$63 -> 3.2688813e+08 | G63: =+F63 -> 3.2688813e+08
B64: Lần 3- Trong vòng 15 ngày kể từ ngày ký HĐMB | D64: 0.7 | E64: =E62+15 -> 45564 | F64: =($F$29+$F$30)*D64 -> 4.91403e+09 | H64: =+F64 -> 4.91403e+09
B65: Lần 4 - HĐMB- 10% giá trị nhà ở gồm VAT | D65: 0.1 | E65: =E64 -> 45564 | F65: =($F$29+$F$30)*D65 -> 7.0200429e+08 | G65: =+F65 -> 7.0200429e+08
B66: Lần 5 - Theo thông báo bàn giao nhà ở của CĐT: | C66: VAT của 5% giá trị nhà ở | E66: 45657 | F66: =+F30*D67 -> 24114018 | G66: =+F66 -> 24114018
B67: Lần 6 - Theo thông báo của CĐT khi nhà ở được cấp GCN quyền sở hữu- khấu trừ từ TTĐC | D67: 0.05 | E67: =EDATE(E66,6) -> 45838 | F67: =$F$29*$D$63-F63 -> 0 | G67: =+F67 -> 0
B68: Tổng cộng | D68: =SUM(D62:D65) -> 1 | F68: =ROUND(SUM(F60:F67),0) -> 7020042894 | G68: =ROUND(SUM(G60:G67),0) -> 2106012868 | H68: =ROUND(SUM(H60:H67),0) -> 4914030026
F69: =F68-F29-F30 -> 0 | H69: =+H68/($F$29+$F$30) -> 0.7
A70: 12 | B70: Tiến độ thanh toán sớm 100% bằng vốn tự có trong vòng 15 ngày kể từ khi kí HĐMB
B71: Tiến độ | D71: % | E71: Ngày thanh toán theo tiến độ | F71: Tổng thanh toán các đợt theo tiến độ
B72: Lần 1 - Khi ký TTĐC | E72: =E48 -> 45539 | F72: =$F$48 -> 200000000
B73: Ký HĐMB
B74: Lần 2 - Ngay khi ký HĐMB | D74: 0.15 | E74: =E50 -> 45549 | F74: =ROUND(($F$29+$F$30)*D74-F72,0) -> 853006434 | G74: =F72+F74 -> 1053006434
B75: Lần 2 - TTĐC đảm bảo HĐMB-5% giá trị nhà ở chưa VAT | D75: 0.05 | E75: =E74 -> 45549 | F75: =ROUND($F$29*D75,0) -> 326888127
B76: Lần 3 - Thanh toán sớm (15 ngày sau ngày ký HDMB) | D76: 0.8 | E76: =E74+15 -> 45564 | F76: =ROUND($F$28-F72-F74-F75,0) -> 5640148333
B77: Lần 4 Theo thông báo của CĐT khi nhà ở được cấp GCN quyền sở hữu- khấu trừ từ TTĐC | D77: 0.05 | E77: =F44 -> 45838 | F77: 0
B78: Tổng cộng | D78: 1 | F78: =ROUND(SUM(F72:F77),0) -> 7020042894
F79: =ROUND(F78,0)=ROUND(F29+F30,0) -> TRUE | M79: Chiết khấu thanh toán sớm giai đoạn HĐMB bằng vốn tự có | R79: =IF(F10=2,8%,0) -> 0
M80: Lần | N80: Ngày thanh toán theo hạn | O80: Ngày thanh toán thực tế | P80: Số ngày thanh toán sớm | Q80: Số tiền phải thanh toán theo tiến độ | R80: Lãi suất chiết khấu trả trước | S80: Lãi suất ngày | T80: Số tiền chiết khấu | U80: Số tiền KH thực nộp | V80: Số tiền lãi thực nhận | W80: Số tiền KH nộp gồm TTS | X80: Số tiền còn phải thanh toán
M81: TTĐC - lần 1 | N81: =E48 -> 45539 | O81: =N81 -> 45539 | Q81: =$F$48 -> 200000000 | T81: =Q81-Q81*(1/(1+S81)^P81) -> 0 | U81: 300000000
A82: Quý KH vui lòng thanh toán theo số tài khoản sau: | M82: =+B62 -> Lần 2 - Ngay khi ký HĐMB | N82: =$E$50 -> 45549 | P82: =IF(OR(O82>=N82,O82=""),0,N82-O82) -> 0 | Q82: =$F$50 -> 853006434 | R82: =+$R$79 -> 0 | S82: =ROUNDDOWN($R$79/365,7) -> 0 | T82: =Q82-Q82*(1/(1+S82)^P82) -> 0 | V82: =U82*(1+S82)^P82-U82 -> 0 | W82: =U82+V82 -> 0 | X82: =$Q$82-SUM($U$82:U82)-SUM($V$82:V82) -> 853006434
A83: Tên chủ tài khoản: CÔNG TY TNHH ĐẦU TƯ VÀ PHÁT TRIỂN BẤT ĐỘNG SẢN VẠN PHÚC ĐIỀN | M83: =+M82 -> Lần 2 - Ngay khi ký HĐMB | N83: =N82 -> 45549 | P83: =IF(OR(O83>=N83,O83=""),0,N83-O83) -> 0 | R83: =+R82 -> 0 | S83: =+S82 -> 0 | T83: =Q83-Q83*(1/(1+S83)^P83) -> 0 | U83: =X82/(1+S83)^P83 -> 853006434 | V83: =U83*(1+S83)^P83-U83 -> 0 | W83: =U83+V83 -> 853006434 | X83: =$Q$82-SUM($U$82:U83)-SUM($V$82:V83) -> 0
A84: Số TK: ………………….. | M84: =+M83 -> Lần 2 - Ngay khi ký HĐMB | N84: =N83 -> 45549 | P84: =IF(OR(O84>=N84,O84=""),0,N84-O84) -> 0 | R84: =+R83 -> 0 | S84: =+S83 -> 0 | T84: =Q84-Q84*(1/(1+S84)^P84) -> 0 | U84: =X83/(1+S84)^P84 -> 0 | V84: =U84*(1+S84)^P84-U84 -> 0 | W84: =U84+V84 -> 0 | X84: =$Q$82-SUM($U$82:U84)-SUM($V$82:V84) -> 0
A85: Nội dung: Thanh toán tiền theo HĐMB số ……. Dự án ……………….., của ông/bà……… | M85: =+M84 -> Lần 2 - Ngay khi ký HĐMB | N85: =N84 -> 45549 | P85: =IF(OR(O85>=N85,O85=""),0,N85-O85) -> 0 | R85: =+R84 -> 0 | S85: =+S84 -> 0 | T85: =Q85-Q85*(1/(1+S85)^P85) -> 0 | U85: =X84/(1+S85)^P85 -> 0 | V85: =U85*(1+S85)^P85-U85 -> 0 | W85: =U85+V85 -> 0 | X85: =$Q$82-SUM($U$82:U85)-SUM($V$82:V85) -> 0
A86: Ngân Hàng: …………………………………… | M86: =+B52 -> Lần 3 - HĐMB | N86: =$E$52 -> 45575 | O86: 45309 | P86: =IF(OR(O86>=N86,O86=""),0,N86-O86) -> 266 | Q86: =+F52 -> 1053006434 | R86: =+R85 -> 0 | S86: =+S85 -> 0 | T86: =Q86-Q86*(1/(1+S86)^P86) -> 0 | V86: =U86*(1+S86)^P86-U86 -> 0 | W86: =U86+V86 -> 0 | X86: =$Q$86-SUM($U$86:U86)-SUM($V$86:V86) -> 1053006434
A87: KH cần lưu ý: | M87: =+M86 -> Lần 3 - HĐMB | N87: =N86 -> 45575 | P87: =IF(OR(O87>=N87,O87=""),0,N87-O87) -> 0 | R87: =+R86 -> 0 | S87: =+S86 -> 0 | T87: =Q87-Q87*(1/(1+S87)^P87) -> 0 | U87: =X86/(1+S87)^P87 -> 1053006434 | V87: =U87*(1+S87)^P87-U87 -> 0 | W87: =U87+V87 -> 1053006434 | X87: =$Q$86-SUM($U$86:U87)-SUM($V$86:V87) -> 0
M88: =+M87 -> Lần 3 - HĐMB | N88: =N87 -> 45575 | P88: =IF(OR(O88>=N88,O88=""),0,N88-O88) -> 0 | R88: =+R87 -> 0 | S88: =+S87 -> 0 | T88: =Q88-Q88*(1/(1+S88)^P88) -> 0 | U88: =X87/(1+S88)^P88 -> 0 | V88: =U88*(1+S88)^P88-U88 -> 0 | W88: =U88+V88 -> 0 | X88: =$Q$86-SUM($U$86:U88)-SUM($V$86:V88) -> 0
A89: “Trường hợp có sai sót trong tính toán và số liệu mà Bên Bán hoặc Bên Mua chứng minh được là sai theo các điều khoản, điều kiện của Hợp đồng, các Phụ lục và/hoặc các văn bản, thỏa thuận liên quan mà các Bên đã ký thì Bên kia phải chấp nhận số liệu tính toán điều chỉnh”. | M89: =+M88 -> Lần 3 - HĐMB | N89: =N88 -> 45575 | P89: =IF(OR(O89>=N89,O89=""),0,N89-O89) -> 0 | R89: =+R88 -> 0 | S89: =+S88 -> 0 | T89: =Q89-Q89*(1/(1+S89)^P89) -> 0 | U89: =X88/(1+S89)^P89 -> 0 | V89: =U89*(1+S89)^P89-U89 -> 0 | W89: =U89+V89 -> 0 | X89: =$Q$86-SUM($U$86:U89)-SUM($V$86:V89) -> 0
M90: =+B53 -> Lần 4 - HĐMB | N90: =$E$53 -> 45606 | P90: =IF(OR(O90>=N90,O90=""),0,N90-O90) -> 0 | Q90: =$F$53 -> 2808017158 | R90: =+R89 -> 0 | S90: =+S89 -> 0 | T90: =Q90-Q90*(1/(1+S90)^P90) -> 0 | U90: 1000000000 | V90: =U90*(1+S90)^P90-U90 -> 0 | W90: =U90+V90 -> 1000000000 | X90: =$Q$90-SUM($U$90:U90)-SUM($V$90:V90) -> 1808017158
M91: =+M90 -> Lần 4 - HĐMB | N91: =N90 -> 45606 | P91: =IF(OR(O91>=N91,O91=""),0,N91-O91) -> 0 | R91: =+R90 -> 0 | S91: =+S90 -> 0 | T91: =Q91-Q91*(1/(1+S91)^P91) -> 0 | U91: =X90/(1+S91)^P91 -> 1808017158 | V91: =U91*(1+S91)^P91-U91 -> 0 | W91: =U91+V91 -> 1808017158 | X91: =$Q$90-SUM($U$90:U91)-SUM($V$90:V91) -> 0
M92: =+M91 -> Lần 4 - HĐMB | N92: =N91 -> 45606 | P92: =IF(OR(O92>=N92,O92=""),0,N92-O92) -> 0 | R92: =+R91 -> 0 | S92: =+S91 -> 0 | T92: =Q92-Q92*(1/(1+S92)^P92) -> 0 | U92: =X91/(1+S92)^P92 -> 0 | V92: =U92*(1+S92)^P92-U92 -> 0 | W92: =U92+V92 -> 0 | X92: =$Q$90-SUM($U$90:U92)-SUM($V$90:V92) -> 0
M93: =+M92 -> Lần 4 - HĐMB | N93: =N92 -> 45606 | P93: =IF(OR(O93>=N93,O93=""),0,N93-O93) -> 0 | R93: =+R92 -> 0 | S93: =+S92 -> 0 | T93: =Q93-Q93*(1/(1+S93)^P93) -> 0 | U93: =X92/(1+S93)^P93 -> 0 | V93: =U93*(1+S93)^P93-U93 -> 0 | W93: =U93+V93 -> 0 | X93: =$Q$90-SUM($U$90:U93)-SUM($V$90:V93) -> 0
M94: =+#REF! -> #REF! | N94: =#REF! -> #REF! | P94: =IF(N94="",0,IF(OR(O94>=N94,O94=""),0,N94-O94)) -> #REF! | Q94: =#REF! -> #REF! | R94: =+R93 -> 0 | S94: =+S93 -> 0 | T94: =Q94-Q94*(1/(1+S94)^P94) -> #REF! | U94: 1000000000 | V94: =U94*(1+S94)^P94-U94 -> #REF! | W94: =U94+V94 -> #REF! | X94: =$Q$94-SUM($U$94:U94)-SUM($V$94:V94) -> #REF!
M95: =+M94 -> #REF! | N95: =N94 -> #REF! | P95: =IF(OR(O95>=N95,O95=""),0,N95-O95) -> #REF! | R95: =+R94 -> 0 | S95: =+S94 -> 0 | T95: =Q95-Q95*(1/(1+S95)^P95) -> #REF! | U95: =X94/(1+S95)^P95 -> #REF! | V95: =U95*(1+S95)^P95-U95 -> #REF! | W95: =U95+V95 -> #REF! | X95: =$Q$94-SUM($U$94:U95)-SUM($V$94:V95) -> #REF!
M96: =+M95 -> #REF! | N96: =N95 -> #REF! | P96: =IF(OR(O96>=N96,O96=""),0,N96-O96) -> #REF! | R96: =+R95 -> 0 | S96: =+S95 -> 0 | T96: =Q96-Q96*(1/(1+S96)^P96) -> #REF! | U96: =X95/(1+S96)^P96 -> #REF! | V96: =U96*(1+S96)^P96-U96 -> #REF! | W96: =U96+V96 -> #REF! | X96: =$Q$94-SUM($U$94:U96)-SUM($V$94:V96) -> #REF!
M97: =+M96 -> #REF! | N97: =N96 -> #REF! | P97: =IF(OR(O97>=N97,O97=""),0,N97-O97) -> #REF! | R97: =+R96 -> 0 | S97: =+S96 -> 0 | T97: =Q97-Q97*(1/(1+S97)^P97) -> #REF! | U97: =X96/(1+S97)^P97 -> #REF! | V97: =U97*(1+S97)^P97-U97 -> #REF! | W97: =U97+V97 -> #REF! | X97: =$Q$94-SUM($U$94:U97)-SUM($V$94:V97) -> #REF!
M98: =+#REF! -> #REF! | N98: =#REF! -> #REF! | P98: =IF(N98="",0,IF(OR(O98>=N98,O98=""),0,N98-O98)) -> #REF! | Q98: =#REF! -> #REF! | R98: =+R97 -> 0 | S98: =+S97 -> 0 | T98: =Q98-Q98*(1/(1+S98)^P98) -> #REF! | U98: 1000000000 | V98: =U98*(1+S98)^P98-U98 -> #REF! | W98: =U98+V98 -> #REF! | X98: =$Q$98-SUM($U$98:U98)-SUM($V$98:V98) -> #REF!
M99: =+M98 -> #REF! | N99: =N98 -> #REF! | P99: =IF(OR(O99>=N99,O99=""),0,N99-O99) -> #REF! | R99: =+R98 -> 0 | S99: =+S98 -> 0 | T99: =Q99-Q99*(1/(1+S99)^P99) -> #REF! | U99: =X98/(1+S99)^P99 -> #REF! | V99: =U99*(1+S99)^P99-U99 -> #REF! | W99: =U99+V99 -> #REF! | X99: =$Q$98-SUM($U$98:U99)-SUM($V$98:V99) -> #REF!
M100: =+M99 -> #REF! | N100: =N99 -> #REF! | P100: =IF(OR(O100>=N100,O100=""),0,N100-O100) -> #REF! | R100: =+R99 -> 0 | S100: =+S99 -> 0 | T100: =Q100-Q100*(1/(1+S100)^P100) -> #REF! | U100: =X99/(1+S100)^P100 -> #REF! | V100: =U100*(1+S100)^P100-U100 -> #REF! | W100: =U100+V100 -> #REF! | X100: =$Q$98-SUM($U$98:U100)-SUM($V$98:V100) -> #REF!
M101: =+M100 -> #REF! | N101: =N100 -> #REF! | P101: =IF(OR(O101>=N101,O101=""),0,N101-O101) -> #REF! | R101: =+R100 -> 0 | S101: =+S100 -> 0 | T101: =Q101-Q101*(1/(1+S101)^P101) -> #REF! | U101: =X100/(1+S101)^P101 -> #REF! | V101: =U101*(1+S101)^P101-U101 -> #REF! | W101: =U101+V101 -> #REF! | X101: =$Q$98-SUM($U$98:U101)-SUM($V$98:V101) -> #REF!
M102: =+#REF! -> #REF! | N102: =#REF! -> #REF! | P102: =IF(OR(O102>=N102,O102=""),0,N102-O102) -> #REF! | Q102: =#REF! -> #REF! | R102: =+R101 -> 0 | S102: =+S101 -> 0 | T102: =Q102-Q102*(1/(1+S102)^P102) -> #REF! | U102: 1000000000 | V102: =U102*(1+S102)^P102-U102 -> #REF! | W102: =U102+V102 -> #REF! | X102: =$Q$102-SUM($U$102:U102)-SUM($V$102:V102) -> #REF!
M103: =+M102 -> #REF! | N103: =#REF! -> #REF! | P103: =IF(OR(O103>=N103,O103=""),0,N103-O103) -> #REF! | R103: =+R102 -> 0 | S103: =+S102 -> 0 | T103: =Q103-Q103*(1/(1+S103)^P103) -> #REF! | U103: =X102/(1+S103)^P103 -> #REF! | V103: =U103*(1+S103)^P103-U103 -> #REF! | W103: =U103+V103 -> #REF! | X103: =$Q$102-SUM($U$102:U103)-SUM($V$102:V103) -> #REF!
...

Sheet PTG_CSBH03
A1: CÔNG TY TNHH ĐẦU TƯ VÀ PHÁT TRIỂN BẤT ĐỘNG SẢN VẠN PHÚC ĐIỀN
A3: PHIẾU TÍNH GIÁ | J3: Thủ tục tự cập nhật thông tin vào các ô bôi vàng
A4: DỰ ÁN GOLDEN POINT
A5: (CSBH V02_ÁP DỤNG: 04/08/2024) | I5: Option thanh toán
I6: 1 | J6: Thanh toán theo tiến độ chuẩn bằng VTC
I7: 2 | J7: TTS từng đợt tròn tiến độ | N7: Hạn dừng HTLS | O7: Tỷ lệ CK TTS 100%
E8: PHÂN KHU: | F8: LK01 | G8: Thủ tục chọn trong droplist | I8: 3 | J8: Vay Hỗ trợ lãi suất | M8: LK01 | N8: =TODAY()+30 -> 45580 | O8: 0.11
B9: Nhóm KH | F9: Cá nhân | G9: Thủ tục chọn trong droplist | I9: 4 | J9: TT sớm 100% bằng vốn tự có trong 15 ngày kể từ khi kí HĐMB | M9: LK02 | N9: =TODAY()+30 -> 45580 | O9: 0.11
B10: Khách hàng lựa chọn phương án | D10: =VLOOKUP($F$10,$I$6:$K$9,2,0) -> Vay Hỗ trợ lãi suất | F10: 3 | I10: 0
A11: 1 | B11: Họ và tên khách | G11: Thủ tục điền | I11: 0.01
A12: 2 | B12: Ký hiệu căn | F12: TĐ2-11 | G12: Thủ tục điền mã căn
A13: 3 | B13: Tính toán giá trị | I13: QSD đất/m2 đất | J13: 22866119
A14: 3.1 | B14: Diện tích đất (m2) | F14: 67.5 | G14: Thủ tục điền
A15: 3.2 | B15: Diện tích Sàn xây dựng Nhà ở (m2) | F15: 243.2 | G15: Thủ tục điền diện tích tính giá (S sàn xây dựng)
A16: 3.3 | B16: Đơn giá (CHƯA bao gồm VAT) | F16: 27511704 | G16: Thủ tục điền | H16: 6690846319
B17: Tổng giá trị biệt thư chưa gồm VAT | F17: =ROUND(F16*F15,0) -> 6690846319 | H17: =H16/F15 -> 27511704
B18: Tổng giá trị biệt thư đã gồm VAT | F18: =ROUND((F16+(F16-$J$13*F14/F15)*10%)*F15,0) -> 7205584648
B19: Các khoản giảm trừ vào giá khi KH ký HĐMB
B20: Chiết khấu quà tặng gói nội thất | F20: =IF(F18>10000000000,100000000,IF(F18<7000000000,50000000,70000000)) -> 70000000
B21: CK không nhận bảo lãnh ngân hàng | D21: KHÔNG | F21: =IF(D21="Có",0,1%) -> 0.01 | G21: Thủ tục chọn trong droplist
B22: CK cho KH lựa chọn TTS 100% bằng VTC trong vòng 15 ngày | F22: =+IF($F$10=4,11%,0) -> 0
B23: CK cho KH lựa chọn TT theo tiến độ thông thường bằng VTC | F23: =+IF(OR($F$10=1,$F$10=2),6%,0) -> 0
B24: Chiết khấu khác (%, nếu có) | F24: 0 | G24: Thủ tục điền % giảm trừ theo PD
B25: Đơn giá (CHƯA bao gồm VAT) sau giảm giá | F25: =ROUND((F16-(F20/F15))*(1-F21)*(1-F22)*(1-F23)*(1-F24),0) -> 26951636 | I25: =F17-F20 -> 6620846319
B26: Đơn giá (ĐÃ bao gồm VAT) | F26: =ROUND(F25+(F25-$J$13*F14/F15)*10%,0) -> 29012152 | G26: (F16-(F19/F15)) | I26: =I25*F21 -> 66208463
A27: 4 | B27: Tổng giá trị biệt thự vào HĐMB
B28: Tổng giá trị biệt thự đã gồm VAT | F28: =ROUND(+F29+F30,0) -> 7055755359 | G28: =SUM(F29:F30)=F28 -> TRUE | J28: BẢNG TÍNH LÃI CHẬM
B29: Tổng giá trị biệt thự chưa gồm VAT | F29: =ROUND(+F25*F15,0) -> 6554637875 | G29: =F25*F15=F29 -> FALSE | J29: Hạn TT | K29: Ngày tính lãi | L29: Ngày thực TT | M29: Số ngày chậm | N29: Số tiền | O29: Lãi
B30: Tổng thuế GTGT | F30: =ROUND((F29-J13*F14)*10%,0) -> 501117484 | J30: LK01-92 | O30: =0.05%*N30*M30 -> 0
A31: 6 | B31: Chiết khấu thanh toán sớm VTC giảm trừ vào giá thanh toán | F31: =F32+F33-F34 -> 0 | J31: 45318 | K31: =J31+1 -> 45319 | L31: 45350 | M31: =L31-K31 -> 31 | N31: =924309979-300000000 -> 624309979 | O31: =0.05%*N31*M31 -> 9676804.7
B32: CK TTS giảm trừ vào tiến độ HĐMB | F32: =IF($F$10=2,SUM(V82:V106),0) -> 0 | G32: Số tiền này vào TT CK TTS | K32: =J32+1 -> 1 | M32: =L32-K32 -> -1 | O32: =0.05%*N32*M32 -> 0
B33: Lãi vay từ HĐV dự kiến KH được hưởng | F33: =IF($F$10=2,SUM(V107:V110),0) -> 0 | G33: Số tiền lãi (sau khấu trừ PIT) trừ vào lần thanh toán tiếp theo | K33: =J33+1 -> 1 | M33: =L33-K33 -> -1 | O33: =0.05%*N33*M33 -> 0
B34: Thuế TNCN KH chịu | F34: =IF($F$9="Cá nhân",F33*5%,0) -> 0 | K34: =J34+1 -> 1 | M34: =L34-K34 -> -1 | O34: =0.05%*N34*M34 -> 0
B35: Số tiền KH phải thanh toán sau khi giảm trừ CK TTS | F35: =+F28-F31 -> 7055755359 | K35: =J35+1 -> 1 | M35: =L35-K35 -> -1 | O35: =0.05%*N35*M35 -> 0
B36: Số tiền KH phải thanh toán sau khi giảm trừ CK TTS bao gồm PBT | F36: =+F35+#REF! -> #REF!
A37: 7 | B37: Số tiền vào HĐV | F37: =IF($F$10=3,F28*25%,IF(F10=4,F28*25%+F30*5%,IF(F10=2,SUM(U107:U110),0))) -> 1.7639388e+09
A38: 8 | B38: Số tiền vào TTĐC | F38: =$F$29*5% -> 3.2773189e+08
B39: Lãi cọc tạm tính | F39: =U116 -> 39220080
B40: Thuế TNCN KH chịu | F40: =IF($F$9="Cá nhân",F39*5%,0) -> 1961004
B41: Lãi cọc KH thực nhận | F41: =+F39-F40 -> 37259076
A42: 9 | B42: Ngày dự kiến bàn giao và cấp GCN quyền sở hữu
B43: Ngày dự kiến bàn giao: | F43: =+$E$55 -> 45657
B44: Ngày dự kiến cấp GCN quyền sở hữu: | F44: =+$E$56 -> 45838
A46: 10 | B46: Tiến độ thanh toán
B47: Tiến độ | D47: % | E47: Ngày thanh toán theo tiến độ | F47: Tổng thanh toán các đợt theo tiến độ
B48: Lần 1 - Khi ký TTĐC | E48: 45464 | F48: 200000000 | G48: Thủ tục điền ngày kí TTKQ
B49: Ký HĐMB
B50: Lần 2 - Ngay khi ký HĐMB | D50: 0.15 | E50: =E48+10 -> 45474 | F50: =ROUND(($F$29+$F$30)*D50-F48,0) -> 858363304 | G50: Thủ tục điền ngày kí HĐMB
B51: Lần 2 - TTĐC đảm bảo HĐMB-5% giá trị nhà ở chưa VAT | D51: 0.05 | E51: =E50 -> 45474 | F51: =ROUND($F$29*D51,0) -> 327731894
B52: Lần 3 - HĐMB | D52: 0.15 | E52: 45524 | F52: =ROUND(($F$29+$F$30)*D52,0) -> 1058363304
B53: Lần 4 - HĐMB | D53: 0.2 | E53: 45555 | F53: =ROUND(($F$29+$F$30)*D53,0) -> 1411151072
B54: Lần 5 - HĐMB | D54: 0.2 | E54: 45585 | F54: =ROUND(($F$29+$F$30)*D54,0) -> 1411151072
B55: Lần 6 Theo thông báo nhận bàn giao nhà | C55: 25% giá trị gồm VAT+ VAT 5% | D55: 0.25 | E55: 45657 | F55: =ROUND($F$29+$F$30-F48-F50-F51-F52-F53-F54,0) -> 1788994713
B56: Lần 7 Theo thông báo của CĐT khi nhà ở được cấp GCN quyền sở hữu- khấu trừ từ TTĐC | D56: 0.05 | E56: =EDATE(E55,6) -> 45838 | F56: =+D56*F29-F51 -> -0.25
B57: Tổng cộng | D57: =SUM(D50:D55) -> 1 | F57: =F48+F50+F51+F52+F53+F54+F55 -> 7055755359 | G57: =F28-F57 -> 0
A59: 11 | B59: Tiến độ thanh toán đối với KH tham gia chương trình HTLS
B60: Tiến độ | D60: % | E60: Ngày thanh toán theo tiến độ | F60: Tổng thanh toán các đợt theo tiến độ | G60: Vốn tự có | H60: Ngân hàng giải ngân
B61: Lần 1 - Khi ký TTĐC | E61: =E48 -> 45464 | F61: =F48 -> 200000000 | G61: =+F61 -> 200000000
B62: Ký HĐMB
B63: Lần 2 - Ngay khi ký HĐMB | D63: 0.15 | E63: =E50 -> 45474 | F63: =ROUND(($F$29+$F$30)*D63-F61,0) -> 858363304 | G63: =+F63 -> 858363304
B64: Lần 2 - TTĐC đảm bảo HĐMB-5% giá trị nhà ở chưa gồm VAT | D64: 0.05 | E64: =E63 -> 45474 | F64: =$F$29*$D$64 -> 3.2773189e+08 | G64: =+F64 -> 3.2773189e+08
B65: Lần 3- Trong vòng 15 ngày kể từ ngày ký HĐMB | D65: 0.7 | E65: =E63+15 -> 45489 | F65: =($F$29+$F$30)*D65 -> 4.9390288e+09 | H65: =+F65 -> 4.9390288e+09
B66: Lần 4 - HĐMB- 10% giá trị nhà ở gồm VAT | D66: 0.1 | E66: 45524 | F66: =($F$29+$F$30)*D66 -> 7.0557554e+08 | G66: =+F66 -> 7.0557554e+08
B67: Lần 5 - Theo thông báo bàn giao nhà ở của CĐT: | C67: VAT của 5% giá trị nhà ở | E67: 45657 | F67: =+F30*D68 -> 25055874 | G67: =+F67 -> 25055874
B68: Lần 6 - Theo thông báo của CĐT khi nhà ở được cấp GCN quyền sở hữu- khấu trừ từ TTĐC | D68: 0.05 | E68: =EDATE(E67,6) -> 45838 | F68: =$F$29*$D$64-F64 -> 0 | G68: =+F68 -> 0
B69: Tổng cộng | D69: =SUM(D63:D66) -> 1 | F69: =ROUND(SUM(F61:F68),0) -> 7055755359 | G69: =ROUND(SUM(G61:G68),0) -> 2116726608 | H69: =ROUND(SUM(H61:H68),0) -> 4939028751
F70: =F69-F29-F30 -> 0 | H70: =+H69/($F$29+$F$30) -> 0.7
A71: 12 | B71: Tiến độ thanh toán sớm 100% bằng vốn tự có trong vòng 15 ngày kể từ khi kí HĐMB
B72: Tiến độ | D72: % | E72: Ngày thanh toán theo tiến độ | F72: Tổng thanh toán các đợt theo tiến độ
B73: Lần 1 - Khi ký TTKQ | E73: 45449 | F73: =$F$48 -> 200000000
B74: Ký HĐMB
B75: Lần 2 - Ngay khi ký HĐMB | D75: 0.15 | E75: 45499 | F75: =ROUND(($F$29+$F$30)*D75-F73,0) -> 858363304 | G75: =F73+F75 -> 1058363304
B76: Lần 2 - TTĐC đảm bảo HĐMB-5% giá trị nhà ở chưa VAT | D76: 0.05 | E76: =E75 -> 45499 | F76: =ROUND($F$29*D76,0) -> 327731894
B77: Lần 3 - Thanh toán sớm (15 ngày sau ngày ký HDMB) | D77: 0.8 | E77: =E75+15 -> 45514 | F77: =ROUND($F$28-F73-F75-F76,0) -> 5669660161
B78: Lần 4 Theo thông báo của CĐT khi nhà ở được cấp GCN quyền sở hữu- khấu trừ từ TTĐC | D78: 0.05 | E78: =F44 -> 45838 | F78: 0
B79: Tổng cộng | D79: 1 | F79: =ROUND(SUM(F73:F78),0) -> 7055755359
F80: =ROUND(F79,0)=ROUND(F29+F30,0) -> TRUE | M80: Chiết khấu thanh toán sớm giai đoạn HĐMB bằng vốn tự có | R80: =IF(F10=2,8%,0) -> 0
M81: Lần | N81: Ngày thanh toán theo hạn | O81: Ngày thanh toán thực tế | P81: Số ngày thanh toán sớm | Q81: Số tiền phải thanh toán theo tiến độ | R81: Lãi suất chiết khấu trả trước | S81: Lãi suất ngày | T81: Số tiền chiết khấu | U81: Số tiền KH thực nộp | V81: Số tiền lãi thực nhận | W81: Số tiền KH nộp gồm TTS | X81: Số tiền còn phải thanh toán
M82: TTĐC - lần 1 | N82: =E48 -> 45464 | O82: =N82 -> 45464 | Q82: =$F$48 -> 200000000 | T82: =Q82-Q82*(1/(1+S82)^P82) -> 0 | U82: 300000000
A83: Quý KH vui lòng thanh toán theo số tài khoản sau: | M83: =+B63 -> Lần 2 - Ngay khi ký HĐMB | N83: =$E$50 -> 45474 | P83: =IF(OR(O83>=N83,O83=""),0,N83-O83) -> 0 | Q83: =$F$50 -> 858363304 | R83: =+$R$80 -> 0 | S83: =ROUNDDOWN($R$80/365,7) -> 0 | T83: =Q83-Q83*(1/(1+S83)^P83) -> 0 | V83: =U83*(1+S83)^P83-U83 -> 0 | W83: =U83+V83 -> 0 | X83: =$Q$83-SUM($U$83:U83)-SUM($V$83:V83) -> 858363304
A84: Tên chủ tài khoản: CÔNG TY TNHH ĐẦU TƯ VÀ PHÁT TRIỂN BẤT ĐỘNG SẢN VẠN PHÚC ĐIỀN | M84: =+M83 -> Lần 2 - Ngay khi ký HĐMB | N84: =N83 -> 45474 | P84: =IF(OR(O84>=N84,O84=""),0,N84-O84) -> 0 | R84: =+R83 -> 0 | S84: =+S83 -> 0 | T84: =Q84-Q84*(1/(1+S84)^P84) -> 0 | U84: =X83/(1+S84)^P84 -> 858363304 | V84: =U84*(1+S84)^P84-U84 -> 0 | W84: =U84+V84 -> 858363304 | X84: =$Q$83-SUM($U$83:U84)-SUM($V$83:V84) -> 0
A85: Số TK: ………………….. | M85: =+M84 -> Lần 2 - Ngay khi ký HĐMB | N85: =N84 -> 45474 | P85: =IF(OR(O85>=N85,O85=""),0,N85-O85) -> 0 | R85: =+R84 -> 0 | S85: =+S84 -> 0 | T85: =Q85-Q85*(1/(1+S85)^P85) -> 0 | U85: =X84/(1+S85)^P85 -> 0 | V85: =U85*(1+S85)^P85-U85 -> 0 | W85: =U85+V85 -> 0 | X85: =$Q$83-SUM($U$83:U85)-SUM($V$83:V85) -> 0
A86: Nội dung: Thanh toán tiền theo HĐMB số ……. Dự án ……………….., của ông/bà……… | M86: =+M85 -> Lần 2 - Ngay khi ký HĐMB | N86: =N85 -> 45474 | P86: =IF(OR(O86>=N86,O86=""),0,N86-O86) -> 0 | R86: =+R85 -> 0 | S86: =+S85 -> 0 | T86: =Q86-Q86*(1/(1+S86)^P86) -> 0 | U86: =X85/(1+S86)^P86 -> 0 | V86: =U86*(1+S86)^P86-U86 -> 0 | W86: =U86+V86 -> 0 | X86: =$Q$83-SUM($U$83:U86)-SUM($V$83:V86) -> 0
A87: Ngân Hàng: …………………………………… | M87: =+B52 -> Lần 3 - HĐMB | N87: =$E$52 -> 45524 | O87: 45309 | P87: =IF(OR(O87>=N87,O87=""),0,N87-O87) -> 215 | Q87: =+F52 -> 1058363304 | R87: =+R86 -> 0 | S87: =+S86 -> 0 | T87: =Q87-Q87*(1/(1+S87)^P87) -> 0 | V87: =U87*(1+S87)^P87-U87 -> 0 | W87: =U87+V87 -> 0 | X87: =$Q$87-SUM($U$87:U87)-SUM($V$87:V87) -> 1058363304
A88: KH cần lưu ý: | M88: =+M87 -> Lần 3 - HĐMB | N88: =N87 -> 45524 | P88: =IF(OR(O88>=N88,O88=""),0,N88-O88) -> 0 | R88: =+R87 -> 0 | S88: =+S87 -> 0 | T88: =Q88-Q88*(1/(1+S88)^P88) -> 0 | U88: =X87/(1+S88)^P88 -> 1058363304 | V88: =U88*(1+S88)^P88-U88 -> 0 | W88: =U88+V88 -> 1058363304 | X88: =$Q$87-SUM($U$87:U88)-SUM($V$87:V88) -> 0
M89: =+M88 -> Lần 3 - HĐMB | N89: =N88 -> 45524 | P89: =IF(OR(O89>=N89,O89=""),0,N89-O89) -> 0 | R89: =+R88 -> 0 | S89: =+S88 -> 0 | T89: =Q89-Q89*(1/(1+S89)^P89) -> 0 | U89: =X88/(1+S89)^P89 -> 0 | V89: =U89*(1+S89)^P89-U89 -> 0 | W89: =U89+V89 -> 0 | X89: =$Q$87-SUM($U$87:U89)-SUM($V$87:V89) -> 0
A90: “Trường hợp có sai sót trong tính toán và số liệu mà Bên Bán hoặc Bên Mua chứng minh được là sai theo các điều khoản, điều kiện của Hợp đồng, các Phụ lục và/hoặc các văn bản, thỏa thuận liên quan mà các Bên đã ký thì Bên kia phải chấp nhận số liệu tính toán điều chỉnh”. | M90: =+M89 -> Lần 3 - HĐMB | N90: =N89 -> 45524 | P90: =IF(OR(O90>=N90,O90=""),0,N90-O90) -> 0 | R90: =+R89 -> 0 | S90: =+S89 -> 0 | T90: =Q90-Q90*(1/(1+S90)^P90) -> 0 | U90: =X89/(1+S90)^P90 -> 0 | V90: =U90*(1+S90)^P90-U90 -> 0 | W90: =U90+V90 -> 0 | X90: =$Q$87-SUM($U$87:U90)-SUM($V$87:V90) -> 0
M91: =+B53 -> Lần 4 - HĐMB | N91: =$E$53 -> 45555 | P91: =IF(OR(O91>=N91,O91=""),0,N91-O91) -> 0 | Q91: =$F$53 -> 1411151072 | R91: =+R90 -> 0 | S91: =+S90 -> 0 | T91: =Q91-Q91*(1/(1+S91)^P91) -> 0 | U91: 1000000000 | V91: =U91*(1+S91)^P91-U91 -> 0 | W91: =U91+V91 -> 1000000000 | X91: =$Q$91-SUM($U$91:U91)-SUM($V$91:V91) -> 411151072
M92: =+M91 -> Lần 4 - HĐMB | N92: =N91 -> 45555 | P92: =IF(OR(O92>=N92,O92=""),0,N92-O92) -> 0 | R92: =+R91 -> 0 | S92: =+S91 -> 0 | T92: =Q92-Q92*(1/(1+S92)^P92) -> 0 | U92: =X91/(1+S92)^P92 -> 411151072 | V92: =U92*(1+S92)^P92-U92 -> 0 | W92: =U92+V92 -> 411151072 | X92: =$Q$91-SUM($U$91:U92)-SUM($V$91:V92) -> 0
M93: =+M92 -> Lần 4 - HĐMB | N93: =N92 -> 45555 | P93: =IF(OR(O93>=N93,O93=""),0,N93-O93) -> 0 | R93: =+R92 -> 0 | S93: =+S92 -> 0 | T93: =Q93-Q93*(1/(1+S93)^P93) -> 0 | U93: =X92/(1+S93)^P93 -> 0 | V93: =U93*(1+S93)^P93-U93 -> 0 | W93: =U93+V93 -> 0 | X93: =$Q$91-SUM($U$91:U93)-SUM($V$91:V93) -> 0
M94: =+M93 -> Lần 4 - HĐMB | N94: =N93 -> 45555 | P94: =IF(OR(O94>=N94,O94=""),0,N94-O94) -> 0 | R94: =+R93 -> 0 | S94: =+S93 -> 0 | T94: =Q94-Q94*(1/(1+S94)^P94) -> 0 | U94: =X93/(1+S94)^P94 -> 0 | V94: =U94*(1+S94)^P94-U94 -> 0 | W94: =U94+V94 -> 0 | X94: =$Q$91-SUM($U$91:U94)-SUM($V$91:V94) -> 0
M95: =+B54 -> Lần 5 - HĐMB | N95: =$E$54 -> 45585 | P95: =IF(N95="",0,IF(OR(O95>=N95,O95=""),0,N95-O95)) -> 0 | Q95: =$F$54 -> 1411151072 | R95: =+R94 -> 0 | S95: =+S94 -> 0 | T95: =Q95-Q95*(1/(1+S95)^P95) -> 0 | U95: 1000000000 | V95: =U95*(1+S95)^P95-U95 -> 0 | W95: =U95+V95 -> 1000000000 | X95: =$Q$95-SUM($U$95:U95)-SUM($V$95:V95) -> 411151072
M96: =+M95 -> Lần 5 - HĐMB | N96: =N95 -> 45585 | P96: =IF(OR(O96>=N96,O96=""),0,N96-O96) -> 0 | R96: =+R95 -> 0 | S96: =+S95 -> 0 | T96: =Q96-Q96*(1/(1+S96)^P96) -> 0 | U96: =X95/(1+S96)^P96 -> 411151072 | V96: =U96*(1+S96)^P96-U96 -> 0 | W96: =U96+V96 -> 411151072 | X96: =$Q$95-SUM($U$95:U96)-SUM($V$95:V96) -> 0
M97: =+M96 -> Lần 5 - HĐMB | N97: =N96 -> 45585 | P97: =IF(OR(O97>=N97,O97=""),0,N97-O97) -> 0 | R97: =+R96 -> 0 | S97: =+S96 -> 0 | T97: =Q97-Q97*(1/(1+S97)^P97) -> 0 | U97: =X96/(1+S97)^P97 -> 0 | V97: =U97*(1+S97)^P97-U97 -> 0 | W97: =U97+V97 -> 0 | X97: =$Q$95-SUM($U$95:U97)-SUM($V$95:V97) -> 0
M98: =+M97 -> Lần 5 - HĐMB | N98: =N97 -> 45585 | P98: =IF(OR(O98>=N98,O98=""),0,N98-O98) -> 0 | R98: =+R97 -> 0 | S98: =+S97 -> 0 | T98: =Q98-Q98*(1/(1+S98)^P98) -> 0 | U98: =X97/(1+S98)^P98 -> 0 | V98: =U98*(1+S98)^P98-U98 -> 0 | W98: =U98+V98 -> 0 | X98: =$Q$95-SUM($U$95:U98)-SUM($V$95:V98) -> 0
M99: =+#REF! -> #REF! | N99: =#REF! -> #REF! | P99: =IF(N99="",0,IF(OR(O99>=N99,O99=""),0,N99-O99)) -> #REF! | Q99: =#REF! -> #REF! | R99: =+R98 -> 0 | S99: =+S98 -> 0 | T99: =Q99-Q99*(1/(1+S99)^P99) -> #REF! | U99: 1000000000 | V99: =U99*(1+S99)^P99-U99 -> #REF! | W99: =U99+V99 -> #REF! | X99: =$Q$99-SUM($U$99:U99)-SUM($V$99:V99) -> #REF!
M100: =+M99 -> #REF! | N100: =N99 -> #REF! | P100: =IF(OR(O100>=N100,O100=""),0,N100-O100) -> #REF! | R100: =+R99 -> 0 | S100: =+S99 -> 0 | T100: =Q100-Q100*(1/(1+S100)^P100) -> #REF! | U100: =X99/(1+S100)^P100 -> #REF! | V100: =U100*(1+S100)^P100-U100 -> #REF! | W100: =U100+V100 -> #REF! | X100: =$Q$99-SUM($U$99:U100)-SUM($V$99:V100) -> #REF!
M101: =+M100 -> #REF! | N101: =N100 -> #REF! | P101: =IF(OR(O101>=N101,O101=""),0,N101-O101) -> #REF! | R101: =+R100 -> 0 | S101: =+S100 -> 0 | T101: =Q101-Q101*(1/(1+S101)^P101) -> #REF! | U101: =X100/(1+S101)^P101 -> #REF! | V101: =U101*(1+S101)^P101-U101 -> #REF! | W101: =U101+V101 -> #REF! | X101: =$Q$99-SUM($U$99:U101)-SUM($V$99:V101) -> #REF!
M102: =+M101 -> #REF! | N102: =N101 -> #REF! | P102: =IF(OR(O102>=N102,O102=""),0,N102-O102) -> #REF! | R102: =+R101 -> 0 | S102: =+S101 -> 0 | T102: =Q102-Q102*(1/(1+S102)^P102) -> #REF! | U102: =X101/(1+S102)^P102 -> #REF! | V102: =U102*(1+S102)^P102-U102 -> #REF! | W102: =U102+V102 -> #REF! | X102: =$Q$99-SUM($U$99:U102)-SUM($V$99:V102) -> #REF!
M103: =+#REF! -> #REF! | N103: =#REF! -> #REF! | P103: =IF(OR(O103>=N103,O103=""),0,N103-O103) -> #REF! | Q103: =#REF! -> #REF! | R103: =+R102 -> 0 | S103: =+S102 -> 0 | T103: =Q103-Q103*(1/(1+S103)^P103) -> #REF! | U103: 1000000000 | V103: =U103*(1+S103)^P103-U103 -> #REF! | W103: =U103+V103 -> #REF! | X103: =$Q$103-SUM($U$103:U103)-SUM($V$103:V103) -> #REF!
...

Sheet PTG_CSBH02
A1: CÔNG TY TNHH ĐẦU TƯ VÀ PHÁT TRIỂN BẤT ĐỘNG SẢN VẠN PHÚC ĐIỀN
A3: PHIẾU TÍNH GIÁ | J3: Thủ tục tự cập nhật thông tin vào các ô bôi vàng
A4: DỰ ÁN GOLDEN POINT
A5: (CSBH V02_ÁP DỤNG: 25/07/2024) | I5: Option thanh toán
G6: =VLOOKUP(F12,#REF!,2,0) -> #REF! | I6: 1 | J6: Thanh toán theo tiến độ chuẩn bằng VTC
I7: 2 | J7: TTS từng đợt tròn tiến độ | N7: Hạn dừng HTLS | O7: Tỷ lệ CK TTS 100%
E8: PHÂN KHU: | F8: LK01 | G8: Thủ tục chọn trong droplist | I8: 3 | J8: Vay Hỗ trợ lãi suất | M8: LK01 | N8: =TODAY()+30 -> 45580 | O8: 0.11
B9: Nhóm KH | F9: Cá nhân | G9: Thủ tục chọn trong droplist | I9: 4 | J9: TT sớm 100% bằng vốn tự có trong 15 ngày kể từ khi kí HĐMB | M9: LK02 | N9: =TODAY()+30 -> 45580 | O9: 0.11
B10: Khách hàng lựa chọn phương án | D10: =VLOOKUP($F$10,$I$6:$K$9,2,0) -> Vay Hỗ trợ lãi suất | F10: 3 | I10: 0
A11: 1 | B11: Họ và tên khách | G11: Thủ tục điền | I11: 0.01
A12: 2 | B12: Ký hiệu căn | F12: TĐ2-11 | G12: Thủ tục điền mã căn
A13: 3 | B13: Tính toán giá trị | I13: QSD đất/m2 đất | J13: 22866119
A14: 3.1 | B14: Diện tích đất (m2) | F14: 67.5 | G14: Thủ tục điền
A15: 3.2 | B15: Diện tích Sàn xây dựng Nhà ở (m2) | F15: 243.2 | G15: Thủ tục điền diện tích tính giá (S sàn xây dựng)
A16: 3.3 | B16: Đơn giá (CHƯA bao gồm VAT) | F16: 21586017 | G16: Thủ tục điền | H16: 5254796476
B17: Tổng giá trị biệt thư chưa gồm VAT | F17: =ROUND(F16*F15,0) -> 5249719334 | H17: =H16/F15 -> 21606893
B18: Các khoản giảm trừ vào giá khi KH ký HĐMB
B19: Chiết khấu quà tặng tiền mặt | F19: 0
B20: CK không nhận bảo lãnh ngân hàng | F20: 0.01 | G20: Thủ tục chọn trong droplist
B21: CK cho KH lựa chọn TTS 100% bằng VTC trong vòng 15 ngày | F21: =+IF($F$10=4,11%,0) -> 0
B22: CK cho KH lựa chọn TT theo tiến độ thông thường bằng VTC | F22: =+IF(OR($F$10=1,$F$10=2),9%,0) -> 0
B23: Chiết khấu khác (%, nếu có) | F23: 0 | G23: Thủ tục điền % giảm trừ theo PD
B24: Đơn giá (CHƯA bao gồm VAT) sau giảm giá | F24: =ROUND((F16-(F19/F15))*(1-F20)*(1-F21)*(1-F22)*(1-F23),0) -> 21370157 | I24: =F17-F19 -> 5249719334
B25: Đơn giá (ĐÃ bao gồm VAT) | F25: =ROUND(F24+(F24-$J$13*F14/F15)*10%,0) -> 22872525 | G25: (F16-(F19/F15)) | I25: =I24*F20 -> 52497193
A26: 4 | B26: Tổng giá trị biệt thự vào HĐMB
B27: Tổng giá trị biệt thự đã gồm VAT | F27: =ROUND(+F28+F29,0) -> 5562598097 | G27: =SUM(F28:F29)=F27 -> TRUE | J27: BẢNG TÍNH LÃI CHẬM
B28: Tổng giá trị biệt thự chưa gồm VAT | F28: =ROUND(+F24*F15,0) -> 5197222182 | G28: =F24*F15=F28 -> FALSE | J28: Hạn TT | K28: Ngày tính lãi | L28: Ngày thực TT | M28: Số ngày chậm | N28: Số tiền | O28: Lãi
B29: Tổng thuế GTGT | F29: =ROUND((F28-J13*F14)*10%,0) -> 365375915 | J29: LK01-92 | O29: =0.05%*N29*M29 -> 0
A30: 6 | B30: Chiết khấu thanh toán sớm VTC giảm trừ vào giá thanh toán | F30: =F31+F32-F33 -> 0 | J30: 45318 | K30: =J30+1 -> 45319 | L30: 45350 | M30: =L30-K30 -> 31 | N30: =924309979-300000000 -> 624309979 | O30: =0.05%*N30*M30 -> 9676804.7
B31: CK TTS giảm trừ vào tiến độ HĐMB | F31: =IF($F$10=2,SUM(V81:V105),0) -> 0 | G31: Số tiền này vào TT CK TTS | K31: =J31+1 -> 1 | M31: =L31-K31 -> -1 | O31: =0.05%*N31*M31 -> 0
B32: Lãi vay từ HĐV dự kiến KH được hưởng | F32: =IF($F$10=2,SUM(V106:V109),0) -> 0 | G32: Số tiền lãi (sau khấu trừ PIT) trừ vào lần thanh toán tiếp theo | K32: =J32+1 -> 1 | M32: =L32-K32 -> -1 | O32: =0.05%*N32*M32 -> 0
B33: Thuế TNCN KH chịu | F33: =IF($F$9="Cá nhân",F32*5%,0) -> 0 | K33: =J33+1 -> 1 | M33: =L33-K33 -> -1 | O33: =0.05%*N33*M33 -> 0
B34: Số tiền KH phải thanh toán sau khi giảm trừ CK TTS | F34: =+F27-F30 -> 5562598097 | K34: =J34+1 -> 1 | M34: =L34-K34 -> -1 | O34: =0.05%*N34*M34 -> 0
B35: Số tiền KH phải thanh toán sau khi giảm trừ CK TTS bao gồm PBT | F35: =+F34+#REF! -> #REF!
A36: 7 | B36: Số tiền vào HĐV | F36: =IF($F$10=3,F27*25%,IF(F10=4,F27*25%+F29*5%,IF(F10=2,SUM(U106:U109),0))) -> 1.3906495e+09
A37: 8 | B37: Số tiền vào TTĐC | F37: =$F$28*5% -> 2.5986111e+08
B38: Lãi cọc tạm tính | F38: =U115 -> 31097899
B39: Thuế TNCN KH chịu | F39: =IF($F$9="Cá nhân",F38*5%,0) -> 1554895
B40: Lãi cọc KH thực nhận | F40: =+F38-F39 -> 29543004
A41: 9 | B41: Ngày dự kiến bàn giao và cấp GCN quyền sở hữu
B42: Ngày dự kiến bàn giao: | F42: =+$E$54 -> 45657
B43: Ngày dự kiến cấp GCN quyền sở hữu: | F43: =+$E$55 -> 45838
A45: 10 | B45: Tiến độ thanh toán
B46: Tiến độ | D46: % | E46: Ngày thanh toán theo tiến độ | F46: Tổng thanh toán các đợt theo tiến độ
B47: Lần 1 - Khi ký TTĐC | E47: 45464 | F47: 200000000 | G47: Thủ tục điền ngày kí TTKQ
B48: Ký HĐMB
B49: Lần 2 - Ngay khi ký HĐMB | D49: 0.15 | E49: =E47+10 -> 45474 | F49: =ROUND(($F$28+$F$29)*D49-F47,0) -> 634389715 | G49: Thủ tục điền ngày kí HĐMB
B50: Lần 2 - TTĐC đảm bảo HĐMB-5% giá trị nhà ở chưa VAT | D50: 0.05 | E50: =E49 -> 45474 | F50: =ROUND($F$28*D50,0) -> 259861109 | G50: =F49+F47 -> 834389715
B51: Lần 3 - HĐMB | D51: 0.15 | E51: 45524 | F51: =ROUND(($F$28+$F$29)*D51,0) -> 834389715
B52: Lần 4 - HĐMB | D52: 0.2 | E52: 45555 | F52: =ROUND(($F$28+$F$29)*D52,0) -> 1112519619
B53: Lần 5 - HĐMB | D53: 0.2 | E53: 45585 | F53: =ROUND(($F$28+$F$29)*D53,0) -> 1112519619
B54: Lần 6 Theo thông báo nhận bàn giao nhà | C54: 25% giá trị gồm VAT+ VAT 5% | D54: 0.25 | E54: 45657 | F54: =ROUND($F$28+$F$29-F47-F49-F50-F51-F52-F53,0) -> 1408918320
B55: Lần 7 Theo thông báo của CĐT khi nhà ở được cấp GCN quyền sở hữu- khấu trừ từ TTĐC | D55: 0.05 | E55: =EDATE(E54,6) -> 45838 | F55: =+D55*F28-F50 -> 0.10000002
B56: Tổng cộng | D56: =SUM(D49:D54) -> 1 | F56: =F47+F49+F50+F51+F52+F53+F54 -> 5562598097 | G56: =F27-F56 -> 0
A58: 11 | B58: Tiến độ thanh toán đối với KH tham gia chương trình HTLS
B59: Tiến độ | D59: % | E59: Ngày thanh toán theo tiến độ | F59: Tổng thanh toán các đợt theo tiến độ | G59: Vốn tự có | H59: Ngân hàng giải ngân
B60: Lần 1 - Khi ký TTĐC | E60: =E47 -> 45464 | F60: =F47 -> 200000000 | G60: =+F60 -> 200000000
B61: Ký HĐMB
B62: Lần 2 - Ngay khi ký HĐMB | D62: 0.15 | E62: =E49 -> 45474 | F62: =ROUND(($F$28+$F$29)*D62-F60,0) -> 634389715 | G62: =+F62 -> 634389715
B63: Lần 2 - TTĐC đảm bảo HĐMB-5% giá trị nhà ở chưa gồm VAT | D63: 0.05 | E63: =E62 -> 45474 | F63: =$F$28*$D$63 -> 2.5986111e+08 | G63: =+F63 -> 2.5986111e+08
B64: Lần 3- Trong vòng 15 ngày kể từ ngày ký HĐMB | D64: 0.7 | E64: =E62+15 -> 45489 | F64: =($F$28+$F$29)*D64 -> 3.8938187e+09 | H64: =+F64 -> 3.8938187e+09
B65: Lần 4 - HĐMB- 10% giá trị nhà ở gồm VAT | D65: 0.1 | E65: 45524 | F65: =($F$28+$F$29)*D65 -> 5.5625981e+08 | G65: =+F65 -> 5.5625981e+08
B66: Lần 5 - Theo thông báo bàn giao nhà ở của CĐT: | C66: VAT của 5% giá trị nhà ở | E66: 45657 | F66: =+F29*D67 -> 18268796 | G66: =+F66 -> 18268796
B67: Lần 6 - Theo thông báo của CĐT khi nhà ở được cấp GCN quyền sở hữu- khấu trừ từ TTĐC | D67: 0.05 | E67: =EDATE(E66,6) -> 45838 | F67: =$F$28*$D$63-F63 -> 0 | G67: =+F67 -> 0
B68: Tổng cộng | D68: =SUM(D62:D65) -> 1 | F68: =ROUND(SUM(F60:F67),0) -> 5562598097 | G68: =ROUND(SUM(G60:G67),0) -> 1668779430 | H68: =ROUND(SUM(H60:H67),0) -> 3893818668
F69: =F68-F28-F29 -> 0 | H69: =+H68/($F$28+$F$29) -> 0.7
A70: 12 | B70: Tiến độ thanh toán sớm 100% bằng vốn tự có trong vòng 15 ngày kể từ khi kí HĐMB
B71: Tiến độ | D71: % | E71: Ngày thanh toán theo tiến độ | F71: Tổng thanh toán các đợt theo tiến độ
B72: Lần 1 - Khi ký TTKQ | E72: 45449 | F72: =$F$47 -> 200000000
B73: Ký HĐMB
B74: Lần 2 - Ngay khi ký HĐMB | D74: 0.15 | E74: 45499 | F74: =ROUND(($F$28+$F$29)*D74-F72,0) -> 634389715 | G74: =F72+F74 -> 834389715
B75: Lần 2 - TTĐC đảm bảo HĐMB-5% giá trị nhà ở chưa VAT | D75: 0.05 | E75: =E74 -> 45499 | F75: =ROUND($F$28*D75,0) -> 259861109
B76: Lần 3 - Thanh toán sớm (15 ngày sau ngày ký HDMB) | D76: 0.8 | E76: =E74+15 -> 45514 | F76: =ROUND($F$27-F72-F74-F75,0) -> 4468347273
B77: Lần 4 Theo thông báo của CĐT khi nhà ở được cấp GCN quyền sở hữu- khấu trừ từ TTĐC | D77: 0.05 | E77: =F43 -> 45838 | F77: 0
B78: Tổng cộng | D78: 1 | F78: =ROUND(SUM(F72:F77),0) -> 5562598097
F79: =ROUND(F78,0)=ROUND(F28+F29,0) -> TRUE | M79: Chiết khấu thanh toán sớm giai đoạn HĐMB bằng vốn tự có | R79: =IF(F10=2,8%,0) -> 0
M80: Lần | N80: Ngày thanh toán theo hạn | O80: Ngày thanh toán thực tế | P80: Số ngày thanh toán sớm | Q80: Số tiền phải thanh toán theo tiến độ | R80: Lãi suất chiết khấu trả trước | S80: Lãi suất ngày | T80: Số tiền chiết khấu | U80: Số tiền KH thực nộp | V80: Số tiền lãi thực nhận | W80: Số tiền KH nộp gồm TTS | X80: Số tiền còn phải thanh toán
M81: TTĐC - lần 1 | N81: =E47 -> 45464 | O81: =N81 -> 45464 | Q81: =$F$47 -> 200000000 | T81: =Q81-Q81*(1/(1+S81)^P81) -> 0 | U81: 300000000
A82: Quý KH vui lòng thanh toán theo số tài khoản sau: | M82: =+B62 -> Lần 2 - Ngay khi ký HĐMB | N82: =$E$49 -> 45474 | P82: =IF(OR(O82>=N82,O82=""),0,N82-O82) -> 0 | Q82: =$F$49 -> 634389715 | R82: =+$R$79 -> 0 | S82: =ROUNDDOWN($R$79/365,7) -> 0 | T82: =Q82-Q82*(1/(1+S82)^P82) -> 0 | V82: =U82*(1+S82)^P82-U82 -> 0 | W82: =U82+V82 -> 0 | X82: =$Q$82-SUM($U$82:U82)-SUM($V$82:V82) -> 634389715
A83: Tên chủ tài khoản: CÔNG TY TNHH ĐẦU TƯ VÀ PHÁT TRIỂN BẤT ĐỘNG SẢN VẠN PHÚC ĐIỀN | M83: =+M82 -> Lần 2 - Ngay khi ký HĐMB | N83: =N82 -> 45474 | P83: =IF(OR(O83>=N83,O83=""),0,N83-O83) -> 0 | R83: =+R82 -> 0 | S83: =+S82 -> 0 | T83: =Q83-Q83*(1/(1+S83)^P83) -> 0 | U83: =X82/(1+S83)^P83 -> 634389715 | V83: =U83*(1+S83)^P83-U83 -> 0 | W83: =U83+V83 -> 634389715 | X83: =$Q$82-SUM($U$82:U83)-SUM($V$82:V83) -> 0
A84: Số TK: ………………….. | M84: =+M83 -> Lần 2 - Ngay khi ký HĐMB | N84: =N83 -> 45474 | P84: =IF(OR(O84>=N84,O84=""),0,N84-O84) -> 0 | R84: =+R83 -> 0 | S84: =+S83 -> 0 | T84: =Q84-Q84*(1/(1+S84)^P84) -> 0 | U84: =X83/(1+S84)^P84 -> 0 | V84: =U84*(1+S84)^P84-U84 -> 0 | W84: =U84+V84 -> 0 | X84: =$Q$82-SUM($U$82:U84)-SUM($V$82:V84) -> 0
A85: Nội dung: Thanh toán tiền theo HĐMB số ……. Dự án ……………….., của ông/bà……… | M85: =+M84 -> Lần 2 - Ngay khi ký HĐMB | N85: =N84 -> 45474 | P85: =IF(OR(O85>=N85,O85=""),0,N85-O85) -> 0 | R85: =+R84 -> 0 | S85: =+S84 -> 0 | T85: =Q85-Q85*(1/(1+S85)^P85) -> 0 | U85: =X84/(1+S85)^P85 -> 0 | V85: =U85*(1+S85)^P85-U85 -> 0 | W85: =U85+V85 -> 0 | X85: =$Q$82-SUM($U$82:U85)-SUM($V$82:V85) -> 0
A86: Ngân Hàng: …………………………………… | M86: =+B51 -> Lần 3 - HĐMB | N86: =$E$51 -> 45524 | O86: 45309 | P86: =IF(OR(O86>=N86,O86=""),0,N86-O86) -> 215 | Q86: =+F51 -> 834389715 | R86: =+R85 -> 0 | S86: =+S85 -> 0 | T86: =Q86-Q86*(1/(1+S86)^P86) -> 0 | V86: =U86*(1+S86)^P86-U86 -> 0 | W86: =U86+V86 -> 0 | X86: =$Q$86-SUM($U$86:U86)-SUM($V$86:V86) -> 834389715
A87: KH cần lưu ý: | M87: =+M86 -> Lần 3 - HĐMB | N87: =N86 -> 45524 | P87: =IF(OR(O87>=N87,O87=""),0,N87-O87) -> 0 | R87: =+R86 -> 0 | S87: =+S86 -> 0 | T87: =Q87-Q87*(1/(1+S87)^P87) -> 0 | U87: =X86/(1+S87)^P87 -> 834389715 | V87: =U87*(1+S87)^P87-U87 -> 0 | W87: =U87+V87 -> 834389715 | X87: =$Q$86-SUM($U$86:U87)-SUM($V$86:V87) -> 0
M88: =+M87 -> Lần 3 - HĐMB | N88: =N87 -> 45524 | P88: =IF(OR(O88>=N88,O88=""),0,N88-O88) -> 0 | R88: =+R87 -> 0 | S88: =+S87 -> 0 | T88: =Q88-Q88*(1/(1+S88)^P88) -> 0 | U88: =X87/(1+S88)^P88 -> 0 | V88: =U88*(1+S88)^P88-U88 -> 0 | W88: =U88+V88 -> 0 | X88: =$Q$86-SUM($U$86:U88)-SUM($V$86:V88) -> 0
A89: “Trường hợp có sai sót trong tính toán và số liệu mà Bên Bán hoặc Bên Mua chứng minh được là sai theo các điều khoản, điều kiện của Hợp đồng, các Phụ lục và/hoặc các văn bản, thỏa thuận liên quan mà các Bên đã ký thì Bên kia phải chấp nhận số liệu tính toán điều chỉnh”. | M89: =+M88 -> Lần 3 - HĐMB | N89: =N88 -> 45524 | P89: =IF(OR(O89>=N89,O89=""),0,N89-O89) -> 0 | R89: =+R88 -> 0 | S89: =+S88 -> 0 | T89: =Q89-Q89*(1/(1+S89)^P89) -> 0 | U89: =X88/(1+S89)^P89 -> 0 | V89: =U89*(1+S89)^P89-U89 -> 0 | W89: =U89+V89 -> 0 | X89: =$Q$86-SUM($U$86:U89)-SUM($V$86:V89) -> 0
M90: =+B52 -> Lần 4 - HĐMB | N90: =$E$52 -> 45555 | P90: =IF(OR(O90>=N90,O90=""),0,N90-O90) -> 0 | Q90: =$F$52 -> 1112519619 | R90: =+R89 -> 0 | S90: =+S89 -> 0 | T90: =Q90-Q90*(1/(1+S90)^P90) -> 0 | U90: 1000000000 | V90: =U90*(1+S90)^P90-U90 -> 0 | W90: =U90+V90 -> 1000000000 | X90: =$Q$90-SUM($U$90:U90)-SUM($V$90:V90) -> 112519619
M91: =+M90 -> Lần 4 - HĐMB | N91: =N90 -> 45555 | P91: =IF(OR(O91>=N91,O91=""),0,N91-O91) -> 0 | R91: =+R90 -> 0 | S91: =+S90 -> 0 | T91: =Q91-Q91*(1/(1+S91)^P91) -> 0 | U91: =X90/(1+S91)^P91 -> 112519619 | V91: =U91*(1+S91)^P91-U91 -> 0 | W91: =U91+V91 -> 112519619 | X91: =$Q$90-SUM($U$90:U91)-SUM($V$90:V91) -> 0
M92: =+M91 -> Lần 4 - HĐMB | N92: =N91 -> 45555 | P92: =IF(OR(O92>=N92,O92=""),0,N92-O92) -> 0 | R92: =+R91 -> 0 | S92: =+S91 -> 0 | T92: =Q92-Q92*(1/(1+S92)^P92) -> 0 | U92: =X91/(1+S92)^P92 -> 0 | V92: =U92*(1+S92)^P92-U92 -> 0 | W92: =U92+V92 -> 0 | X92: =$Q$90-SUM($U$90:U92)-SUM($V$90:V92) -> 0
M93: =+M92 -> Lần 4 - HĐMB | N93: =N92 -> 45555 | P93: =IF(OR(O93>=N93,O93=""),0,N93-O93) -> 0 | R93: =+R92 -> 0 | S93: =+S92 -> 0 | T93: =Q93-Q93*(1/(1+S93)^P93) -> 0 | U93: =X92/(1+S93)^P93 -> 0 | V93: =U93*(1+S93)^P93-U93 -> 0 | W93: =U93+V93 -> 0 | X93: =$Q$90-SUM($U$90:U93)-SUM($V$90:V93) -> 0
M94: =+B53 -> Lần 5 - HĐMB | N94: =$E$53 -> 45585 | P94: =IF(N94="",0,IF(OR(O94>=N94,O94=""),0,N94-O94)) -> 0 | Q94: =$F$53 -> 1112519619 | R94: =+R93 -> 0 | S94: =+S93 -> 0 | T94: =Q94-Q94*(1/(1+S94)^P94) -> 0 | U94: 1000000000 | V94: =U94*(1+S94)^P94-U94 -> 0 | W94: =U94+V94 -> 1000000000 | X94: =$Q$94-SUM($U$94:U94)-SUM($V$94:V94) -> 112519619
M95: =+M94 -> Lần 5 - HĐMB | N95: =N94 -> 45585 | P95: =IF(OR(O95>=N95,O95=""),0,N95-O95) -> 0 | R95: =+R94 -> 0 | S95: =+S94 -> 0 | T95: =Q95-Q95*(1/(1+S95)^P95) -> 0 | U95: =X94/(1+S95)^P95 -> 112519619 | V95: =U95*(1+S95)^P95-U95 -> 0 | W95: =U95+V95 -> 112519619 | X95: =$Q$94-SUM($U$94:U95)-SUM($V$94:V95) -> 0
M96: =+M95 -> Lần 5 - HĐMB | N96: =N95 -> 45585 | P96: =IF(OR(O96>=N96,O96=""),0,N96-O96) -> 0 | R96: =+R95 -> 0 | S96: =+S95 -> 0 | T96: =Q96-Q96*(1/(1+S96)^P96) -> 0 | U96: =X95/(1+S96)^P96 -> 0 | V96: =U96*(1+S96)^P96-U96 -> 0 | W96: =U96+V96 -> 0 | X96: =$Q$94-SUM($U$94:U96)-SUM($V$94:V96) -> 0
M97: =+M96 -> Lần 5 - HĐMB | N97: =N96 -> 45585 | P97: =IF(OR(O97>=N97,O97=""),0,N97-O97) -> 0 | R97: =+R96 -> 0 | S97: =+S96 -> 0 | T97: =Q97-Q97*(1/(1+S97)^P97) -> 0 | U97: =X96/(1+S97)^P97 -> 0 | V97: =U97*(1+S97)^P97-U97 -> 0 | W97: =U97+V97 -> 0 | X97: =$Q$94-SUM($U$94:U97)-SUM($V$94:V97) -> 0
M98: =+#REF! -> #REF! | N98: =#REF! -> #REF! | P98: =IF(N98="",0,IF(OR(O98>=N98,O98=""),0,N98-O98)) -> #REF! | Q98: =#REF! -> #REF! | R98: =+R97 -> 0 | S98: =+S97 -> 0 | T98: =Q98-Q98*(1/(1+S98)^P98) -> #REF! | U98: 1000000000 | V98: =U98*(1+S98)^P98-U98 -> #REF! | W98: =U98+V98 -> #REF! | X98: =$Q$98-SUM($U$98:U98)-SUM($V$98:V98) -> #REF!
M99: =+M98 -> #REF! | N99: =N98 -> #REF! | P99: =IF(OR(O99>=N99,O99=""),0,N99-O99) -> #REF! | R99: =+R98 -> 0 | S99: =+S98 -> 0 | T99: =Q99-Q99*(1/(1+S99)^P99) -> #REF! | U99: =X98/(1+S99)^P99 -> #REF! | V99: =U99*(1+S99)^P99-U99 -> #REF! | W99: =U99+V99 -> #REF! | X99: =$Q$98-SUM($U$98:U99)-SUM($V$98:V99) -> #REF!
M100: =+M99 -> #REF! | N100: =N99 -> #REF! | P100: =IF(OR(O100>=N100,O100=""),0,N100-O100) -> #REF! | R100: =+R99 -> 0 | S100: =+S99 -> 0 | T100: =Q100-Q100*(1/(1+S100)^P100) -> #REF! | U100: =X99/(1+S100)^P100 -> #REF! | V100: =U100*(1+S100)^P100-U100 -> #REF! | W100: =U100+V100 -> #REF! | X100: =$Q$98-SUM($U$98:U100)-SUM($V$98:V100) -> #REF!
M101: =+M100 -> #REF! | N101: =N100 -> #REF! | P101: =IF(OR(O101>=N101,O101=""),0,N101-O101) -> #REF! | R101: =+R100 -> 0 | S101: =+S100 -> 0 | T101: =Q101-Q101*(1/(1+S101)^P101) -> #REF! | U101: =X100/(1+S101)^P101 -> #REF! | V101: =U101*(1+S101)^P101-U101 -> #REF! | W101: =U101+V101 -> #REF! | X101: =$Q$98-SUM($U$98:U101)-SUM($V$98:V101) -> #REF!
M102: =+#REF! -> #REF! | N102: =#REF! -> #REF! | P102: =IF(OR(O102>=N102,O102=""),0,N102-O102) -> #REF! | Q102: =#REF! -> #REF! | R102: =+R101 -> 0 | S102: =+S101 -> 0 | T102: =Q102-Q102*(1/(1+S102)^P102) -> #REF! | U102: 1000000000 | V102: =U102*(1+S102)^P102-U102 -> #REF! | W102: =U102+V102 -> #REF! | X102: =$Q$102-SUM($U$102:U102)-SUM($V$102:V102) -> #REF!
M103: =+M102 -> #REF! | N103: =#REF! -> #REF! | P103: =IF(OR(O103>=N103,O103=""),0,N103-O103) -> #REF! | R103: =+R102 -> 0 | S103: =+S102 -> 0 | T103: =Q103-Q103*(1/(1+S103)^P103) -> #REF! | U103: =X102/(1+S103)^P103 -> #REF! | V103: =U103*(1+S103)^P103-U103 -> #REF! | W103: =U103+V103 -> #REF! | X103: =$Q$102-SUM($U$102:U103)-SUM($V$102:V103) -> #REF!
...

Sheet PTG_CSBH01
A1: CÔNG TY TNHH ĐẦU TƯ VÀ PHÁT TRIỂN BẤT ĐỘNG SẢN VẠN PHÚC ĐIỀN
A3: PHIẾU TÍNH GIÁ | J3: Thủ tục tự cập nhật thông tin vào các ô bôi vàng
A4: DỰ ÁN GOLDEN POINT
A5: (CSBH V01_ÁP DỤNG: 01/06/2024) | I5: Option thanh toán
G6: =VLOOKUP(F12,#REF!,2,0) -> #REF! | I6: 1 | J6: Thanh toán theo tiến độ chuẩn bằng VTC
I7: 2 | J7: TTS từng đợt tròn tiến độ | N7: Hạn dừng HTLS | O7: Tỷ lệ CK TTS 100%
E8: PHÂN KHU: | F8: LK01 | G8: Thủ tục chọn trong droplist | I8: 3 | J8: Vay Hỗ trợ lãi suất | M8: LK01 | N8: =TODAY()+30 -> 45580 | O8: 0.11
B9: Nhóm KH | F9: Cá nhân | G9: Thủ tục chọn trong droplist | I9: 4 | J9: TT sớm 100% bằng vốn tự có trong 15 ngày kể từ khi kí HĐMB | M9: LK02 | N9: =TODAY()+30 -> 45580 | O9: 0.11
B10: Khách hàng lựa chọn phương án | D10: =VLOOKUP($F$10,$I$6:$K$9,2,0) -> TT sớm 100% bằng vốn tự có trong 15 ngày kể từ khi kí HĐMB | F10: 4 | I10: 0
A11: 1 | B11: Họ và tên khách | F11: =VLOOKUP($F$12,'[2]Báo cáo TTKQ'!$B:$C,2,0) -> TRỊNH ĐẮC HÙNG | G11: Thủ tục điền | I11: 0.01
A12: 2 | B12: Ký hiệu căn | F12: TĐ3-45 | G12: Thủ tục điền mã căn
A13: 3 | B13: Tính toán giá trị | I13: QSD đất/m2 đất | J13: 22866119
A14: 3.1 | B14: Diện tích đất (m2) | F14: =VLOOKUP(F12,[2]Merge!$C:$O,11,0) -> 67.5 | G14: Thủ tục điền
A15: 3.2 | B15: Diện tích Sàn xây dựng Nhà ở (m2) | F15: =VLOOKUP($F$12,[2]Merge!$C:$O,13,0) -> 243.2 | G15: Thủ tục điền diện tích tính giá (S sàn xây dựng)
A16: 3.3 | B16: Đơn giá (CHƯA bao gồm VAT) | F16: =VLOOKUP($F$12,'[2]Báo cáo TTKQ'!$B:$K,10,0) -> 21,586,017 | G16: Thủ tục điền | H16: 5254796476
B17: Tổng giá trị biệt thư chưa gồm VAT | F17: =ROUND(F16*F15,0) -> #VALUE! | H17: =H16/F15 -> 21606893
B18: Các khoản giảm trừ vào giá khi KH ký HĐMB
B19: CK không nhận bảo lãnh ngân hàng | F19: 0.01 | G19: Thủ tục chọn trong droplist
B20: CK cho KH lựa chọn TTS 100% bằng VTC trong vòng 15 ngày | F20: =+IF(F10=4,11%,0) -> 0.11
B21: CK cho KH lựa chọn TT theo tiến độ thông thường bằng VTC | F21: =+IF(OR(F10=1,F10=2),9%,0) -> 0
B22: Chiết khấu khác (%, nếu có) | F22: 0 | G22: Thủ tục điền % giảm trừ theo PD
B23: Đơn giá (CHƯA bao gồm VAT) sau giảm giá | F23: =F16*(1-F19)*(1-F20)*(1-F21)*(1-F22) -> #VALUE!
B24: Đơn giá (ĐÃ bao gồm VAT) | F24: =+F23+(F23-$J$13*F14/F15)*10% -> #VALUE! | G24: =F24*F15=F26 -> #VALUE!
A25: 4 | B25: Tổng giá trị biệt thự vào HĐMB
B26: Tổng giá trị biệt thự đã gồm VAT | F26: =+F27+F28 -> #VALUE! | G26: =SUM(F27:F28)=F26 -> #VALUE! | J26: BẢNG TÍNH LÃI CHẬM
B27: Tổng giá trị biệt thự chưa gồm VAT | F27: =+F23*F15 -> #VALUE! | G27: =F23*F15=F27 -> #VALUE! | J27: Hạn TT | K27: Ngày tính lãi | L27: Ngày thực TT | M27: Số ngày chậm | N27: Số tiền | O27: Lãi
B28: Tổng thuế GTGT | F28: =(F27-J13*F14)*10% -> #VALUE! | J28: LK01-92 | O28: =0.05%*N28*M28 -> 0
A29: 6 | B29: Chiết khấu thanh toán sớm VTC giảm trừ vào giá thanh toán | F29: =F30+F31-F32 -> 0 | J29: 45318 | K29: =J29+1 -> 45319 | L29: 45350 | M29: =L29-K29 -> 31 | N29: =924309979-300000000 -> 624309979 | O29: =0.05%*N29*M29 -> 9676804.7
B30: CK TTS giảm trừ vào tiến độ HĐMB | F30: =IF($F$10=2,SUM(V83:V107),0) -> 0 | G30: Số tiền này vào TT CK TTS | K30: =J30+1 -> 1 | M30: =L30-K30 -> -1 | O30: =0.05%*N30*M30 -> 0
B31: Lãi vay từ HĐV dự kiến KH được hưởng | F31: =IF($F$10=2,SUM(V108:V111),0) -> 0 | G31: Số tiền lãi (sau khấu trừ PIT) trừ vào lần thanh toán tiếp theo | K31: =J31+1 -> 1 | M31: =L31-K31 -> -1 | O31: =0.05%*N31*M31 -> 0
B32: Thuế TNCN KH chịu | F32: =IF($F$9="Cá nhân",F31*5%,0) -> 0 | K32: =J32+1 -> 1 | M32: =L32-K32 -> -1 | O32: =0.05%*N32*M32 -> 0
B33: Số tiền KH phải thanh toán sau khi giảm trừ CK TTS | F33: =+F26-F29 -> #VALUE! | K33: =J33+1 -> 1 | M33: =L33-K33 -> -1 | O33: =0.05%*N33*M33 -> 0
B34: Số tiền KH phải thanh toán sau khi giảm trừ CK TTS bao gồm PBT | F34: =+F33+#REF! -> #VALUE!
A35: 7 | B35: Số tiền vào HĐV | F35: =IF($F$10=3,F26*25%,IF(F10=4,F26*25%+F28*5%,IF(F10=2,SUM(U108:U111),0))) -> #VALUE!
A36: 8 | B36: Số tiền vào TTĐC | F36: =$F$27*5% -> #VALUE!
B37: Lãi cọc tạm tính | F37: =U117 -> #VALUE!
B38: Thuế TNCN KH chịu | F38: =IF($F$9="Cá nhân",F37*5%,0) -> #VALUE!
B39: Lãi cọc KH thực nhận | F39: =+F37-F38 -> #VALUE!
A40: 9 | B40: Ngày dự kiến bàn giao và cấp GCN quyền sở hữu
B41: Ngày dự kiến bàn giao: | F41: =+$E$54 -> 45657
B42: Ngày dự kiến cấp GCN quyền sở hữu: | F42: =+$E$55 -> 45838
A44: 10 | B44: Tiến độ thanh toán
B45: Tiến độ | D45: % | E45: Ngày thanh toán theo tiến độ | F45: Tổng thanh toán các đợt theo tiến độ
B46: Lần 1 - Khi ký TTKQ | E46: 45488 | F46: 100000000 | G46: Thủ tục điền ngày kí TTKQ
B47: Lần 2 - Khi ký TTKQ | E47: =E46+15 -> 45503
B48: Ký HĐMB
B49: Lần 2 - Ngay khi ký HĐMB | D49: 0.15 | E49: 45499 | F49: =ROUND(($F$27+$F$28)*D49-F46-F47,0) -> #VALUE! | G49: Thủ tục điền ngày kí HĐMB
B50: Lần 2 - TTĐC đảm bảo HĐMB-5% giá trị nhà ở chưa VAT | D50: 0.05 | E50: =E49 -> 45499 | F50: =$F$27*D50 -> #VALUE! | G50: =F49+F46 -> #VALUE!
B51: Lần 3 - HĐMB | D51: 0.15 | E51: 45524 | F51: =($F$27+$F$28)*D51 -> #VALUE!
B52: Lần 4 - HĐMB | D52: 0.2 | E52: 45555 | F52: =($F$27+$F$28)*D52 -> #VALUE!
B53: Lần 5 - HĐMB | D53: 0.2 | E53: 45585 | F53: =($F$27+$F$28)*D53 -> #VALUE!
B54: Lần 6 Theo thông báo nhận bàn giao nhà | C54: 25% giá trị gồm VAT+ VAT 5% | D54: 0.25 | E54: 45657 | F54: =ROUND($F$27+$F$28-F46-F49-F50-F51-F52-F53,0) -> #VALUE!
B55: Lần 7 Theo thông báo của CĐT khi nhà ở được cấp GCN quyền sở hữu- khấu trừ từ TTĐC | D55: 0.05 | E55: =EDATE(E54,6) -> 45838 | F55: =+D55*F27-F50 -> #VALUE!
B56: Tổng cộng | D56: =SUM(D49:D54) -> 1 | F56: =F46+F49+F50+F51+F52+F53+F54+1 -> #VALUE! | G56: =F26-F56 -> #VALUE!
A58: 11 | B58: Tiến độ thanh toán đối với KH tham gia chương trình HTLS
B59: Tiến độ | D59: % | E59: Ngày thanh toán theo tiến độ | F59: Tổng thanh toán các đợt theo tiến độ | G59: Vốn tự có | H59: Ngân hàng giải ngân
B60: Lần 1 - Khi ký TTKQ | E60: 45488 | F60: 100000000 | G60: =+F60 -> 100000000
B61: Lần 2 - Khi ký TTKQ | E61: =E47 -> 45503 | G61: =F61 -> 0
B62: Ký HĐMB
B63: Lần 2 - Ngay khi ký HĐMB | D63: 0.15 | E63: 45499 | F63: =ROUND(($F$27+$F$28)*D63-F60-F61,0) -> #VALUE! | G63: =+F63 -> #VALUE!
B64: Lần 2 - TTĐC đảm bảo HĐMB-5% giá trị nhà ở chưa gồm VAT | D64: 0.05 | E64: =E63 -> 45499 | F64: =$F$27*$D$64 -> #VALUE! | G64: =+F64 -> #VALUE!
B65: Lần 3- Trong vòng 15 ngày kể từ ngày ký HĐMB | D65: 0.7 | E65: =E63+15 -> 45514 | F65: =($F$27+$F$28)*D65 -> #VALUE! | H65: =+F65 -> #VALUE!
B66: Lần 4 - HĐMB- 10% giá trị nhà ở gồm VAT | D66: 0.1 | E66: 45524 | F66: =($F$27+$F$28)*D66 -> #VALUE! | G66: =+F66 -> #VALUE!
B67: Lần 5 - Theo thông báo bàn giao nhà ở của CĐT: | C67: VAT của 5% giá trị nhà ở | E67: 45657 | F67: =+F28*D68 -> #VALUE! | G67: =+F67 -> #VALUE!
B68: Lần 6 - Theo thông báo của CĐT khi nhà ở được cấp GCN quyền sở hữu- khấu trừ từ TTĐC | D68: 0.05 | E68: =EDATE(E67,6) -> 45838 | F68: =$F$27*$D$64-F64 -> #VALUE! | G68: =+F68 -> #VALUE!
B69: Tổng cộng | D69: =SUM(D63:D66) -> 1 | F69: =ROUND(SUM(F60:F68),0) -> #VALUE! | G69: =ROUND(SUM(G60:G68),0) -> #VALUE! | H69: =ROUND(SUM(H60:H68),0) -> #VALUE!
F70: =F69-F27-F28 -> #VALUE! | H70: =+H69/($F$27+$F$28) -> #VALUE!
A71: 12 | B71: Tiến độ thanh toán sớm 100% bằng vốn tự có trong vòng 15 ngày kể từ khi kí HĐMB
B72: Tiến độ | D72: % | E72: Ngày thanh toán theo tiến độ | F72: Tổng thanh toán các đợt theo tiến độ
B73: Lần 1 - Khi ký TTKQ | E73: =E46 -> 45488 | F73: =$F$46 -> 100000000
B74: Lần 2 - Khi ký TTKQ | E74: =E60 -> 45488 | F74: =ROUND($F$17*10%-F73,0) -> #VALUE!
B75: Ký HĐMB
B76: Lần 2 - Ngay khi ký HĐMB | D76: 0.15 | E76: =E49 -> 45499 | F76: =ROUND(($F$27+$F$28)*D76-F73-F74,0) -> #VALUE! | G76: =F73+F76 -> #VALUE!
B77: Lần 2 - TTĐC đảm bảo HĐMB-5% giá trị nhà ở chưa VAT | D77: 0.05 | E77: =E76 -> 45499 | F77: =ROUND($F$27*D77,0) -> #VALUE!
B78: Lần 3 - Thanh toán sớm (15 ngày sau ngày ký HDMB) | D78: 0.8 | E78: =E76+15 -> 45514 | F78: =ROUND($F$26-F73-F74-F76-F77,0) -> #VALUE!
B79: Lần 4 Theo thông báo của CĐT khi nhà ở được cấp GCN quyền sở hữu- khấu trừ từ TTĐC | D79: 0.05 | E79: =F42 -> 45838 | F79: 0
B80: Tổng cộng | D80: 1 | F80: =ROUND(SUM(F73:F79),0) -> #VALUE!
F81: =ROUND(F80,0)=ROUND(F27+F28,0) -> #VALUE! | M81: Chiết khấu thanh toán sớm giai đoạn HĐMB bằng vốn tự có | R81: =IF(F10=2,8%,0) -> 0
M82: Lần | N82: Ngày thanh toán theo hạn | O82: Ngày thanh toán thực tế | P82: Số ngày thanh toán sớm | Q82: Số tiền phải thanh toán theo tiến độ | R82: Lãi suất chiết khấu trả trước | S82: Lãi suất ngày | T82: Số tiền chiết khấu | U82: Số tiền KH thực nộp | V82: Số tiền lãi thực nhận | W82: Số tiền KH nộp gồm TTS | X82: Số tiền còn phải thanh toán
M83: TTĐC - lần 1 | N83: =E46 -> 45488 | O83: =N83 -> 45488 | Q83: =$F$46 -> 100000000 | T83: =Q83-Q83*(1/(1+S83)^P83) -> 0 | U83: 300000000
A84: Quý KH vui lòng thanh toán theo số tài khoản sau: | M84: =+B63 -> Lần 2 - Ngay khi ký HĐMB | N84: =$E$49 -> 45499 | P84: =IF(OR(O84>=N84,O84=""),0,N84-O84) -> 0 | Q84: =$F$49 -> #VALUE! | R84: =+$R$81 -> 0 | S84: =ROUNDDOWN($R$81/365,7) -> 0 | T84: =Q84-Q84*(1/(1+S84)^P84) -> #VALUE! | V84: =U84*(1+S84)^P84-U84 -> 0 | W84: =U84+V84 -> 0 | X84: =$Q$84-SUM($U$84:U84)-SUM($V$84:V84) -> #VALUE!
A85: Tên chủ tài khoản: CÔNG TY TNHH ĐẦU TƯ VÀ PHÁT TRIỂN BẤT ĐỘNG SẢN VẠN PHÚC ĐIỀN | M85: =+M84 -> Lần 2 - Ngay khi ký HĐMB | N85: =N84 -> 45499 | P85: =IF(OR(O85>=N85,O85=""),0,N85-O85) -> 0 | R85: =+R84 -> 0 | S85: =+S84 -> 0 | T85: =Q85-Q85*(1/(1+S85)^P85) -> 0 | U85: =X84/(1+S85)^P85 -> #VALUE! | V85: =U85*(1+S85)^P85-U85 -> #VALUE! | W85: =U85+V85 -> #VALUE! | X85: =$Q$84-SUM($U$84:U85)-SUM($V$84:V85) -> #VALUE!
A86: Số TK: ………………….. | M86: =+M85 -> Lần 2 - Ngay khi ký HĐMB | N86: =N85 -> 45499 | P86: =IF(OR(O86>=N86,O86=""),0,N86-O86) -> 0 | R86: =+R85 -> 0 | S86: =+S85 -> 0 | T86: =Q86-Q86*(1/(1+S86)^P86) -> 0 | U86: =X85/(1+S86)^P86 -> #VALUE! | V86: =U86*(1+S86)^P86-U86 -> #VALUE! | W86: =U86+V86 -> #VALUE! | X86: =$Q$84-SUM($U$84:U86)-SUM($V$84:V86) -> #VALUE!
A87: Nội dung: Thanh toán tiền theo HĐMB số ……. Dự án ……………….., của ông/bà……… | M87: =+M86 -> Lần 2 - Ngay khi ký HĐMB | N87: =N86 -> 45499 | P87: =IF(OR(O87>=N87,O87=""),0,N87-O87) -> 0 | R87: =+R86 -> 0 | S87: =+S86 -> 0 | T87: =Q87-Q87*(1/(1+S87)^P87) -> 0 | U87: =X86/(1+S87)^P87 -> #VALUE! | V87: =U87*(1+S87)^P87-U87 -> #VALUE! | W87: =U87+V87 -> #VALUE! | X87: =$Q$84-SUM($U$84:U87)-SUM($V$84:V87) -> #VALUE!
A88: Ngân Hàng: …………………………………… | M88: =+B51 -> Lần 3 - HĐMB | N88: =$E$51 -> 45524 | O88: 45309 | P88: =IF(OR(O88>=N88,O88=""),0,N88-O88) -> 215 | Q88: =+F51 -> #VALUE! | R88: =+R87 -> 0 | S88: =+S87 -> 0 | T88: =Q88-Q88*(1/(1+S88)^P88) -> #VALUE! | V88: =U88*(1+S88)^P88-U88 -> 0 | W88: =U88+V88 -> 0 | X88: =$Q$88-SUM($U$88:U88)-SUM($V$88:V88) -> #VALUE!
A89: KH cần lưu ý: | M89: =+M88 -> Lần 3 - HĐMB | N89: =N88 -> 45524 | P89: =IF(OR(O89>=N89,O89=""),0,N89-O89) -> 0 | R89: =+R88 -> 0 | S89: =+S88 -> 0 | T89: =Q89-Q89*(1/(1+S89)^P89) -> 0 | U89: =X88/(1+S89)^P89 -> #VALUE! | V89: =U89*(1+S89)^P89-U89 -> #VALUE! | W89: =U89+V89 -> #VALUE! | X89: =$Q$88-SUM($U$88:U89)-SUM($V$88:V89) -> #VALUE!
M90: =+M89 -> Lần 3 - HĐMB | N90: =N89 -> 45524 | P90: =IF(OR(O90>=N90,O90=""),0,N90-O90) -> 0 | R90: =+R89 -> 0 | S90: =+S89 -> 0 | T90: =Q90-Q90*(1/(1+S90)^P90) -> 0 | U90: =X89/(1+S90)^P90 -> #VALUE! | V90: =U90*(1+S90)^P90-U90 -> #VALUE! | W90: =U90+V90 -> #VALUE! | X90: =$Q$88-SUM($U$88:U90)-SUM($V$88:V90) -> #VALUE!
A91: “Trường hợp có sai sót trong tính toán và số liệu mà Bên Bán hoặc Bên Mua chứng minh được là sai theo các điều khoản, điều kiện của Hợp đồng, các Phụ lục và/hoặc các văn bản, thỏa thuận liên quan mà các Bên đã ký thì Bên kia phải chấp nhận số liệu tính toán điều chỉnh”. | M91: =+M90 -> Lần 3 - HĐMB | N91: =N90 -> 45524 | P91: =IF(OR(O91>=N91,O91=""),0,N91-O91) -> 0 | R91: =+R90 -> 0 | S91: =+S90 -> 0 | T91: =Q91-Q91*(1/(1+S91)^P91) -> 0 | U91: =X90/(1+S91)^P91 -> #VALUE! | V91: =U91*(1+S91)^P91-U91 -> #VALUE! | W91: =U91+V91 -> #VALUE! | X91: =$Q$88-SUM($U$88:U91)-SUM($V$88:V91) -> #VALUE!
M92: =+B52 -> Lần 4 - HĐMB | N92: =$E$52 -> 45555 | P92: =IF(OR(O92>=N92,O92=""),0,N92-O92) -> 0 | Q92: =$F$52 -> #VALUE! | R92: =+R91 -> 0 | S92: =+S91 -> 0 | T92: =Q92-Q92*(1/(1+S92)^P92) -> #VALUE! | U92: 1000000000 | V92: =U92*(1+S92)^P92-U92 -> 0 | W92: =U92+V92 -> 1000000000 | X92: =$Q$92-SUM($U$92:U92)-SUM($V$92:V92) -> #VALUE!
M93: =+M92 -> Lần 4 - HĐMB | N93: =N92 -> 45555 | P93: =IF(OR(O93>=N93,O93=""),0,N93-O93) -> 0 | R93: =+R92 -> 0 | S93: =+S92 -> 0 | T93: =Q93-Q93*(1/(1+S93)^P93) -> 0 | U93: =X92/(1+S93)^P93 -> #VALUE! | V93: =U93*(1+S93)^P93-U93 -> #VALUE! | W93: =U93+V93 -> #VALUE! | X93: =$Q$92-SUM($U$92:U93)-SUM($V$92:V93) -> #VALUE!
M94: =+M93 -> Lần 4 - HĐMB | N94: =N93 -> 45555 | P94: =IF(OR(O94>=N94,O94=""),0,N94-O94) -> 0 | R94: =+R93 -> 0 | S94: =+S93 -> 0 | T94: =Q94-Q94*(1/(1+S94)^P94) -> 0 | U94: =X93/(1+S94)^P94 -> #VALUE! | V94: =U94*(1+S94)^P94-U94 -> #VALUE! | W94: =U94+V94 -> #VALUE! | X94: =$Q$92-SUM($U$92:U94)-SUM($V$92:V94) -> #VALUE!
M95: =+M94 -> Lần 4 - HĐMB | N95: =N94 -> 45555 | P95: =IF(OR(O95>=N95,O95=""),0,N95-O95) -> 0 | R95: =+R94 -> 0 | S95: =+S94 -> 0 | T95: =Q95-Q95*(1/(1+S95)^P95) -> 0 | U95: =X94/(1+S95)^P95 -> #VALUE! | V95: =U95*(1+S95)^P95-U95 -> #VALUE! | W95: =U95+V95 -> #VALUE! | X95: =$Q$92-SUM($U$92:U95)-SUM($V$92:V95) -> #VALUE!
M96: =+B53 -> Lần 5 - HĐMB | N96: =$E$53 -> 45585 | P96: =IF(N96="",0,IF(OR(O96>=N96,O96=""),0,N96-O96)) -> 0 | Q96: =$F$53 -> #VALUE! | R96: =+R95 -> 0 | S96: =+S95 -> 0 | T96: =Q96-Q96*(1/(1+S96)^P96) -> #VALUE! | U96: 1000000000 | V96: =U96*(1+S96)^P96-U96 -> 0 | W96: =U96+V96 -> 1000000000 | X96: =$Q$96-SUM($U$96:U96)-SUM($V$96:V96) -> #VALUE!
M97: =+M96 -> Lần 5 - HĐMB | N97: =N96 -> 45585 | P97: =IF(OR(O97>=N97,O97=""),0,N97-O97) -> 0 | R97: =+R96 -> 0 | S97: =+S96 -> 0 | T97: =Q97-Q97*(1/(1+S97)^P97) -> 0 | U97: =X96/(1+S97)^P97 -> #VALUE! | V97: =U97*(1+S97)^P97-U97 -> #VALUE! | W97: =U97+V97 -> #VALUE! | X97: =$Q$96-SUM($U$96:U97)-SUM($V$96:V97) -> #VALUE!
M98: =+M97 -> Lần 5 - HĐMB | N98: =N97 -> 45585 | P98: =IF(OR(O98>=N98,O98=""),0,N98-O98) -> 0 | R98: =+R97 -> 0 | S98: =+S97 -> 0 | T98: =Q98-Q98*(1/(1+S98)^P98) -> 0 | U98: =X97/(1+S98)^P98 -> #VALUE! | V98: =U98*(1+S98)^P98-U98 -> #VALUE! | W98: =U98+V98 -> #VALUE! | X98: =$Q$96-SUM($U$96:U98)-SUM($V$96:V98) -> #VALUE!
M99: =+M98 -> Lần 5 - HĐMB | N99: =N98 -> 45585 | P99: =IF(OR(O99>=N99,O99=""),0,N99-O99) -> 0 | R99: =+R98 -> 0 | S99: =+S98 -> 0 | T99: =Q99-Q99*(1/(1+S99)^P99) -> 0 | U99: =X98/(1+S99)^P99 -> #VALUE! | V99: =U99*(1+S99)^P99-U99 -> #VALUE! | W99: =U99+V99 -> #VALUE! | X99: =$Q$96-SUM($U$96:U99)-SUM($V$96:V99) -> #VALUE!
M100: =+#REF! -> #REF! | N100: =#REF! -> #REF! | P100: =IF(N100="",0,IF(OR(O100>=N100,O100=""),0,N100-O100)) -> #REF! | Q100: =#REF! -> #REF! | R100: =+R99 -> 0 | S100: =+S99 -> 0 | T100: =Q100-Q100*(1/(1+S100)^P100) -> #REF! | U100: 1000000000 | V100: =U100*(1+S100)^P100-U100 -> #REF! | W100: =U100+V100 -> #REF! | X100: =$Q$100-SUM($U$100:U100)-SUM($V$100:V100) -> #REF!
M101: =+M100 -> #REF! | N101: =N100 -> #REF! | P101: =IF(OR(O101>=N101,O101=""),0,N101-O101) -> #REF! | R101: =+R100 -> 0 | S101: =+S100 -> 0 | T101: =Q101-Q101*(1/(1+S101)^P101) -> #REF! | U101: =X100/(1+S101)^P101 -> #REF! | V101: =U101*(1+S101)^P101-U101 -> #REF! | W101: =U101+V101 -> #REF! | X101: =$Q$100-SUM($U$100:U101)-SUM($V$100:V101) -> #REF!
M102: =+M101 -> #REF! | N102: =N101 -> #REF! | P102: =IF(OR(O102>=N102,O102=""),0,N102-O102) -> #REF! | R102: =+R101 -> 0 | S102: =+S101 -> 0 | T102: =Q102-Q102*(1/(1+S102)^P102) -> #REF! | U102: =X101/(1+S102)^P102 -> #REF! | V102: =U102*(1+S102)^P102-U102 -> #REF! | W102: =U102+V102 -> #REF! | X102: =$Q$100-SUM($U$100:U102)-SUM($V$100:V102) -> #REF!
M103: =+M102 -> #REF! | N103: =N102 -> #REF! | P103: =IF(OR(O103>=N103,O103=""),0,N103-O103) -> #REF! | R103: =+R102 -> 0 | S103: =+S102 -> 0 | T103: =Q103-Q103*(1/(1+S103)^P103) -> #REF! | U103: =X102/(1+S103)^P103 -> #REF! | V103: =U103*(1+S103)^P103-U103 -> #REF! | W103: =U103+V103 -> #REF! | X103: =$Q$100-SUM($U$100:U103)-SUM($V$100:V103) -> #REF!
...

Sheet Tinh lai tra cham
A1: Lãi trả chậm | B1: 0.0005
A3: Ngày thanh toán theo tiến độ | B3: Ngày thanh toán thực tế | C3: Số ngày chậm thanh toán | D3: Số tiền thực tế đã thanh toán | E3: Số tiền sẽ phải thanh toán | F3: Lãi chậm trả | G3: Ghi chú
A5: =PTG_CSBH01!B46 -> Lần 1 - Khi ký TTKQ | D5: 1000000000 | E5: =PTG_CSBH01!F46 -> 100000000
A6: =PTG_CSBH01!B49 -> Lần 2 - Ngay khi ký HĐMB | B6: =A7 -> #REF! | D6: =SUBTOTAL(9,D7:D12) -> 2.4135164e+10 | E6: =PTG_CSBH01!F49 -> #VALUE! | F6: =SUBTOTAL(9,F7:F12) -> #VALUE!
A7: =PTG_CSBH01!#REF! -> #REF! | B7: 42073 | C7: =IF(B7<=B6,0,B7-MAX(B6,A7)) -> #REF! | D7: 4000000000 | E7: =E6-D7 -> #VALUE! | F7: =E6*C7*$B$1 -> #VALUE!
A8: =A7 -> #REF! | B8: 42078 | C8: =IF(B8<=B7,0,B8-MAX(B7,A8)) -> #REF! | D8: 1090290998 | E8: =E7-D8 -> #VALUE! | F8: =E7*C8*$B$1 -> #VALUE!
A9: =A8 -> #REF! | B9: 42083 | C9: =IF(B9<=B8,0,B9-MAX(B8,A9)) -> #REF! | D9: 1.9044873e+10 | E9: =E8-D9 -> #VALUE! | F9: =E8*C9*$B$1 -> #VALUE!
A10: =A9 -> #REF! | C10: =IF(B10<=B9,0,B10-MAX(B9,A10)) -> 0 | E10: =E9-D10 -> #VALUE! | F10: =E9*C10*$B$1 -> #VALUE!
A11: =A10 -> #REF! | C11: =IF(B11<=B10,0,B11-MAX(B10,A11)) -> 0 | E11: =E10-D11 -> #VALUE! | F11: =E10*C11*$B$1 -> #VALUE!
A12: =A11 -> #REF! | C12: =IF(B12<=B11,0,B12-MAX(B11,A12)) -> 0 | E12: =E11-D12 -> #VALUE! | F12: =E11*C12*$B$1 -> #VALUE!
A13: 3. Đợt 2 | B13: =A14 -> #REF! | D13: =SUBTOTAL(9,D14:D21) -> 5.0270328e+10 | E13: =PTG_CSBH01!#REF! -> #REF! | F13: =SUBTOTAL(9,F14:F21) -> #REF!
A14: =PTG_CSBH01!#REF! -> #REF! | B14: 42139 | C14: =IF(B14<=B13,0,B14-MAX(B13,A14)) -> #REF! | D14: 10000000000 | E14: =E13-D14 -> #REF! | F14: =E13*C14*$B$1 -> #REF!
A15: =A14 -> #REF! | B15: 42141 | C15: =IF(B15<=B14,0,B15-MAX(B14,A15)) -> #REF! | D15: 2180581997 | E15: =E14-D15 -> #REF! | F15: =E14*C15*$B$1 -> #REF!
A16: =A15 -> #REF! | B16: 42144 | C16: =IF(B16<=B15,0,B16-MAX(B15,A16)) -> #REF! | D16: 3.8089746e+10 | E16: =E15-D16 -> #REF! | F16: =E15*C16*$B$1 -> #REF!
A17: =A16 -> #REF! | C17: =IF(B17<=B16,0,B17-MAX(B16,A17)) -> 0 | E17: =E16-D17 -> #REF! | F17: =E16*C17*$B$1 -> #REF!
A18: =A17 -> #REF! | C18: =IF(B18<=B17,0,B18-MAX(B17,A18)) -> 0 | E18: =E17-D18 -> #REF! | F18: =E17*C18*$B$1 -> #REF!
A19: =A18 -> #REF! | C19: =IF(B19<=B18,0,B19-MAX(B18,A19)) -> 0 | E19: =E18-D19 -> #REF! | F19: =E18*C19*$B$1 -> #REF!
A20: =A19 -> #REF! | C20: =IF(B20<=B19,0,B20-MAX(B19,A20)) -> 0 | E20: =E19-D20 -> #REF! | F20: =E19*C20*$B$1 -> #REF!
A21: =A20 -> #REF! | C21: =IF(B21<=B20,0,B21-MAX(B20,A21)) -> 0 | E21: =E20-D21 -> #REF! | F21: =E20*C21*$B$1 -> #REF!
A22: =PTG_CSBH01!#REF! -> #REF! | B22: =A23 -> #REF! | D22: =SUBTOTAL(9,D23:D30) -> 5.0270328e+10 | E22: =PTG_CSBH01!#REF! -> #REF! | F22: =SUBTOTAL(9,F23:F30) -> #REF!
A23: =PTG_CSBH01!#REF! -> #REF! | B23: 42195 | C23: =IF(B23<=B22,0,B23-MAX(B22,A23)) -> #REF! | D23: 12000000000 | E23: =E22-D23 -> #REF! | F23: =E22*C23*$B$1 -> #REF!
A24: =A23 -> #REF! | B24: 42201 | C24: =IF(B24<=B23,0,B24-MAX(B23,A24)) -> #REF! | D24: 1203581997 | E24: =E23-D24 -> #REF! | F24: =E23*C24*$B$1 -> #REF!
A25: =A24 -> #REF! | B25: 42205 | C25: =IF(B25<=B24,0,B25-MAX(B24,A25)) -> #REF! | D25: 3.7066746e+10 | E25: =E24-D25 -> #REF! | F25: =E24*C25*$B$1 -> #REF!
A26: =A25 -> #REF! | C26: =IF(B26<=B25,0,B26-MAX(B25,A26)) -> 0 | E26: =E25-D26 -> #REF! | F26: =E25*C26*$B$1 -> #REF!
A27: =A26 -> #REF! | C27: =IF(B27<=B26,0,B27-MAX(B26,A27)) -> 0 | E27: =E26-D27 -> #REF! | F27: =E26*C27*$B$1 -> #REF!
A28: =A27 -> #REF! | C28: =IF(B28<=B27,0,B28-MAX(B27,A28)) -> 0 | E28: =E27-D28 -> #REF! | F28: =E27*C28*$B$1 -> #REF!
A29: =A28 -> #REF! | C29: =IF(B29<=B28,0,B29-MAX(B28,A29)) -> 0 | E29: =E28-D29 -> #REF! | F29: =E28*C29*$B$1 -> #REF!
A30: =A29 -> #REF! | C30: =IF(B30<=B29,0,B30-MAX(B29,A30)) -> 0 | E30: =E29-D30 -> #REF! | F30: =E29*C30*$B$1 -> #REF!
A31: Tổng cộng | D31: =D6+D5+D13+D22 -> 1.2567582e+11 | E31: =E6+E5+E13+E22 -> #VALUE! | F31: =F6+F5+F13+F22 -> #VALUE!
D32: =D31=E31 -> #VALUE! | E32: =E31=PTG_CSBH01!F56 -> #VALUE!

Sheet HTLS
A1: Phân khu | C1: =PTG_CSBH01!F8 -> LK01 | F1: Thủ tục tự cập nhật thông tin vào các ô bôi vàng
A2: Ngày vào HDMB | C2: =+PTG_CSBH01!E49 -> 45499
A3: Giá trị nhà ở (gồm VAT) | C3: =+PTG_CSBH01!F26 -> #VALUE!
A4: Giá trị nhà ở (chưa VAT) | C4: =+PTG_CSBH01!F27 -> #VALUE!
A5: VAT | C5: =+PTG_CSBH01!F28 -> #VALUE! | Q5: Từ | S5: Đến
D6: TCB | E6: Thủ tục chọn trong droplist | Q6: 43424 | S6: 43465
A8: Giai đoạn HĐMB | D8: Thủ tục điền ngày giải ngân thực tế | Q8: TCB | R8: MBB | T8: TCB | U8: MBB
A9: Giá trị nhà ở | B9: Tỷ lệ vay được hỗ trợ | C9: Giá trị khoản vay | D9: Ngày giải ngân | E9: Ngày dừng hỗ trợ | F9: Tháng hỗ trợ | G9: LS chi hộ | H9: % TNTH | I9: Lãi | J9: Phí TNTH | K9: Tổng cộng | N9: Nội dung | O9: LS | P9: Tỷ lệ TNTH | Q9: LS | R9: LS | S9: LS | T9: Tỷ lệ TNTH | U9: Tỷ lệ TNTH | V9: Tỷ lệ TNTH
A10: =C3 -> #VALUE! | B10: =C10/C3 -> #VALUE! | C10: 6.3740195e+09 | D10: =+PTG_CSBH01!E65 -> 45514 | E10: =VLOOKUP($C$1,PTG_CSBH01!$M:$N,2,0) -> 45580 | F10: =IF(D10>E10,0,DAYS360(D10,E10)/30) -> 2.1666667 | G10: =IF(F10<=6,$O$10,IF(F10<=12,$O$11,IF(F10<=18,$O$12,IF(F10<=24,$O$13,"Check lại")))) -> 0.071 | H10: =IF(G10<=6,$P$10,IF(G10<=12,$P$11,IF(G10<=18,$P$12,IF(G10<=24,$P$13,"Check lại")))) -> 0.01 | I10: =C10*G10/365*(E10-D10) -> 81831932 | J10: =IF(I10>0,C10*H10,0) -> 63740195 | K10: =SUM(I10:J10) -> 1.4557213e+08 | N10: Thời hạn vay từ 1-6 tháng | O10: =SUMIFS($Q10:$S10,$Q$8:$S$8,$D$6) -> 0.071 | P10: =SUMIFS($T10:$V10,$T$8:$V$8,$D$6) -> 0.01 | Q10: 0.071 | T10: 0.01
N11: Thời hạn vay từ 7-12 tháng | O11: =SUMIFS($Q11:$S11,$Q$8:$S$8,$D$6) -> 0.0765 | P11: =SUMIFS($T11:$V11,$T$8:$V$8,$D$6) -> 0.01 | Q11: 0.0765 | T11: 0.01
A12: Tổng | B12: =IF(C10/C3>70%,"check","ok") -> #VALUE! | C12: =IF(C10<=PTG_CSBH01!H65,"ok","GN vượt xem lại") -> #VALUE! | I12: =SUM(I10:I11) -> 81831932 | J12: =SUM(J10:J11) -> 63740195 | K12: =SUM(K10:K11) -> 1.4557213e+08 | N12: Thời hạn vay từ 13-18 tháng | O12: =SUMIFS($Q12:$S12,$Q$8:$S$8,$D$6) -> 0.08325 | P12: =SUMIFS($T12:$V12,$T$8:$V$8,$D$6) -> 0.01 | Q12: 0.08325 | T12: 0.01
N13: Thời hạn vay từ 19-24 tháng | O13: =SUMIFS($Q13:$S13,$Q$8:$S$8,$D$6) -> 0.0867 | P13: =SUMIFS($T13:$V13,$T$8:$V$8,$D$6) -> 0.01 | Q13: 0.0867 | T13: 0.01
