Workbook
Name data_hdvv: #REF!
Name data_hdvv: #REF!
Name data_hdvv: #REF!
Name data_hdvv: #REF!
Name data_hdvv: #REF!
Name data_hdvv: #REF!
Name data_hdvv_royalcity: #REF!
Name data_hdvv_royalcity: #REF!
Name data_hdvv_royalcity: #REF!
Name data_hdvv_royalcity: #REF!
Name data_hdvv_royalcity: #REF!
Name data_hdvv_royalcity: #REF!
Name data_hdvv_timescity: #REF!
Name data_hdvv_timescity: #REF!
Name data_hdvv_timescity: #REF!
Name data_hdvv_timescity: #REF!
Name data_hdvv_timescity: #REF!
Name data_hdvv_timescity: #REF!
Name data_r2_hdmb_4060: #REF!
Name data_r2_hdmb_4060: #REF!
Name data_r2_hdmb_4060: #REF!
Name data_r2_hdmb_4060: #REF!
Name data_r2_hdmb_4060: #REF!
Name data_r2_hdmb_4060: #REF!
Name data_r2_hdmb_cpi: #REF!
Name data_r2_hdmb_cpi: #REF!
Name data_r2_hdmb_cpi: #REF!
Name data_r2_hdmb_cpi: #REF!
Name data_r2_hdmb_cpi: #REF!
Name data_r2_hdmb_cpi: #REF!
Name data_r3: #REF!
Name data_r3: #REF!
Name data_r3: #REF!
Name data_r3: #REF!
Name data_r3: #REF!
Name data_r3: #REF!
Name data_r4: #REF!
Name data_r4: #REF!
Name data_r4: #REF!
Name data_r4: #REF!
Name data_r4: #REF!
Name data_r4: #REF!
Name data_r5: #REF!
Name data_r5: #REF!
Name data_r5: #REF!
Name data_r5: #REF!
Name data_r5: #REF!
Name data_r5: #REF!
Name data_r6: #REF!
Name data_r6: #REF!
Name data_r6: #REF!
Name data_r6: #REF!
Name data_r6: #REF!
Name data_r6: #REF!
Name dataR3: #REF!
Name dataR3: #REF!
Name dataR3: #REF!
Name dataR3: #REF!
Name dataR3: #REF!
Name dataR3: #REF!

Sheet foxz

Sheet PTG_CSBH17.09
A1: CÔNG TY TNHH ĐẦU TƯ VÀ PHÁT TRIỂN BẤT ĐỘNG SẢN VẠN PHÚC ĐIỀN
A3: PHIẾU TÍNH GIÁ | J3: Thủ tục tự cập nhật thông tin vào các ô bôi vàng
A4: DỰ ÁN GOLDEN POINT
A5: (CSBH V04_ÁP DỤNG: 04/09/2024) | I5: Option thanh toán
I6: 1 | J6: Thanh toán theo tiến độ chuẩn bằng VTC
I7: 2 | J7: TTS từng đợt tròn tiến độ | N7: Hạn dừng HTLS | O7: Tỷ lệ CK TTS 100%
E8: PHÂN KHU: | F8: LK01 | G8: Thủ tục chọn trong droplist | I8: 3 | J8: Vay Hỗ trợ lãi suất | M8: LK01 | N8: =TODAY()+30 -> 45582 | O8: 0.11
B9: Nhóm KH | F9: Cá nhân | G9: Thủ tục chọn trong droplist | I9: 4 | J9: TT sớm 100% bằng vốn tự có trong 15 ngày kể từ khi kí HĐMB | M9: LK02 | N9: =TODAY()+30 -> 45582 | O9: 0.11
B10: Khách hàng lựa chọn phương án | D10: =VLOOKUP($F$10,$I$6:$K$9,2,0) -> TT sớm 100% bằng vốn tự có trong 15 ngày kể từ khi kí HĐMB | F10: 4 | I10: 0
A11: 1 | B11: Họ và tên khách | G11: Thủ tục điền | I11: 0.01
A12: 2 | B12: Ký hiệu căn | F12: TĐ2-19 | G12: Thủ tục điền mã căn
A13: 3 | B13: Tính toán giá trị | I13: QSD đất/m2 đất | J13: 22866119
A14: 3.1 | B14: Diện tích đất (m2) | F14: =VLOOKUP(F12,[2]Sheet1!$B:$C,2,0) -> 67.5 | G14: Thủ tục điền
A15: 3.2 | B15: Diện tích Sàn xây dựng Nhà ở (m2) | F15: =VLOOKUP(F12,[2]Sheet1!$B:$D,3,0) -> 243.2 | G15: Thủ tục điền diện tích tính giá (S sàn xây dựng)
A16: 3.3 | B16: Đơn giá (CHƯA bao gồm VAT) | F16: =F17/F15 -> 19622144 | G16: Thủ tục điền
B17: Tổng giá trị Nhà ở chưa gồm VAT | F17: =VLOOKUP(F12,[3]Sheet1!$B:$H,7,0) -> 4772105421 | H17: =VLOOKUP(F12,[3]Sheet1!$B:$I,8,0) -> 0
B18: Tổng giá trị Nhà Ở đã gồm VAT | F18: =ROUND(F17+(F17-F14*J13)*10%,0) -> 5094969660
B19: Các khoản giảm trừ vào giá khi KH ký HĐMB
B20: Chiết khấu quà tặng gói nội thất | F20: =IF($F$17>10000000000,200000000,IF($F$17<7000000000,100000000,150000000)) -> 100000000 | G20: Tính trên giá net (không gồm VAT)
B21: CK không nhận bảo lãnh ngân hàng | D21: KHÔNG | F21: =IF(D21="Có",0,1%) -> 0.01 | G21: Thủ tục chọn trong droplist
B22: CK cho KH lựa chọn TTS 100% bằng VTC trong vòng 15 ngày | F22: =+IF($F$10=4,11%,0) -> 0.11
B23: CK cho KH lựa chọn TT theo tiến độ thông thường bằng VTC | F23: =+IF(OR($F$10=1, $F$10=2),5%,0) -> 0
B24: Chiết khấu khác (%, nếu có) | F24: 0 | G24: Thủ tục điền % giảm trừ theo PD
B25: Đơn giá (CHƯA bao gồm VAT) sau giảm giá | F25: =ROUND((F16-(F20/F15))*(1-F21)*(1-F22)*(1-F23)*(1-F24),0) -> 16926777 | I25: =F17-F20 -> 4672105421
B26: Đơn giá (ĐÃ bao gồm VAT) | F26: =ROUND(F25+(F25-$J$13*F14/F15)*10%,0) -> 17984807 | G26: (F16-(F19/F15)) | I26: =I25*F21 -> 46721054
A27: 4 | B27: Tổng giá trị Nhà Ở vào HĐMB
B28: Tổng giá trị Nhà Ở đã gồm VAT | F28: =ROUND(+F29+F30,0) -> 4373905079 | G28: =SUM(F29:F30)=F28 -> TRUE | J28: BẢNG TÍNH LÃI CHẬM
B29: Tổng giá trị Nhà Ở chưa gồm VAT | F29: =ROUND(+F25*F15,0) -> 4116592166 | G29: =F25*F15=F29 -> FALSE | J29: Hạn TT | K29: Ngày tính lãi | L29: Ngày thực TT | M29: Số ngày chậm | N29: Số tiền | O29: Lãi
B30: Tổng thuế GTGT | F30: =ROUND((F29-J13*F14)*10%,0) -> 257312913 | J30: LK01-92 | O30: =0.05%*N30*M30 -> 0
A31: 6 | B31: Chiết khấu thanh toán sớm VTC giảm trừ vào giá thanh toán | F31: =F32+F33-F34 -> 0 | J31: 45318 | K31: =J31+1 -> 45319 | L31: 45350 | M31: =L31-K31 -> 31 | N31: =924309979-300000000 -> 624309979 | O31: =0.05%*N31*M31 -> 9676804.7
B32: CK TTS giảm trừ vào tiến độ HĐMB | F32: =IF($F$10=2,SUM(V81:V105),0) -> 0 | G32: Số tiền này vào TT CK TTS | K32: =J32+1 -> 1 | M32: =L32-K32 -> -1 | O32: =0.05%*N32*M32 -> 0
B33: Lãi vay từ HĐV dự kiến KH được hưởng | F33: =IF($F$10=2,SUM(V106:V109),0) -> 0 | G33: Số tiền lãi (sau khấu trừ PIT) trừ vào lần thanh toán tiếp theo | K33: =J33+1 -> 1 | M33: =L33-K33 -> -1 | O33: =0.05%*N33*M33 -> 0
B34: Thuế TNCN KH chịu | F34: =IF($F$9="Cá nhân",F33*5%,0) -> 0 | K34: =J34+1 -> 1 | M34: =L34-K34 -> -1 | O34: =0.05%*N34*M34 -> 0
B35: Số tiền KH phải thanh toán sau khi giảm trừ CK TTS | F35: =+F28-F31 -> 4373905079 | K35: =J35+1 -> 1 | M35: =L35-K35 -> -1 | O35: =0.05%*N35*M35 -> 0
B36: Số tiền KH phải thanh toán sau khi giảm trừ CK TTS bao gồm PBT | F36: =+F35+#REF! -> #REF!
A37: 7 | B37: Số tiền vào HĐV | F37: =IF($F$10=3,F28*25%,IF(F10=4,F28*25%+F30*5%,IF(F10=2,SUM(U106:U109),0))) -> 1.1063419e+09
A38: 8 | B38: Số tiền vào TTĐC | F38: =$F$29*5% -> 2.0582961e+08
B39: Lãi cọc tạm tính | F39: =U115 -> 19421292
B40: Thuế TNCN KH chịu | F40: =IF($F$9="Cá nhân",F39*5%,0) -> 971064.62
B41: Lãi cọc KH thực nhận | F41: =+F39-F40 -> 18450228
...

Sheet PTG_CSBH04.09
A1: CÔNG TY TNHH ĐẦU TƯ VÀ PHÁT TRIỂN BẤT ĐỘNG SẢN VẠN PHÚC ĐIỀN
A3: PHIẾU TÍNH GIÁ | J3: Thủ tục tự cập nhật thông tin vào các ô bôi vàng
A4: DỰ ÁN GOLDEN POINT
A5: (CSBH V04_ÁP DỤNG: 04/09/2024) | I5: Option thanh toán
I6: 1 | J6: Thanh toán theo tiến độ chuẩn bằng VTC
I7: 2 | J7: TTS từng đợt tròn tiến độ | N7: Hạn dừng HTLS | O7: Tỷ lệ CK TTS 100%
E8: PHÂN KHU: | F8: LK01 | G8: Thủ tục chọn trong droplist | I8: 3 | J8: Vay Hỗ trợ lãi suất | M8: LK01 | N8: =TODAY()+30 -> 45582 | O8: 0.11
B9: Nhóm KH | F9: Cá nhân | G9: Thủ tục chọn trong droplist | I9: 4 | J9: TT sớm 100% bằng vốn tự có trong 15 ngày kể từ khi kí HĐMB | M9: LK02 | N9: =TODAY()+30 -> 45582 | O9: 0.11
B10: Khách hàng lựa chọn phương án | D10: =VLOOKUP($F$10,$I$6:$K$9,2,0) -> TT sớm 100% bằng vốn tự có trong 15 ngày kể từ khi kí HĐMB | F10: 4 | I10: 0
A11: 1 | B11: Họ và tên khách | G11: Thủ tục điền | I11: 0.01
A12: 2 | B12: Ký hiệu căn | F12: TĐ2-19 | G12: Thủ tục điền mã căn
A13: 3 | B13: Tính toán giá trị | I13: QSD đất/m2 đất | J13: 22866119
A14: 3.1 | B14: Diện tích đất (m2) | F14: =VLOOKUP(F12,[2]Sheet1!$B:$C,2,0) -> 67.5 | G14: Thủ tục điền
A15: 3.2 | B15: Diện tích Sàn xây dựng Nhà ở (m2) | F15: =VLOOKUP(F12,[2]Sheet1!$B:$D,3,0) -> 243.2 | G15: Thủ tục điền diện tích tính giá (S sàn xây dựng)
A16: 3.3 | B16: Đơn giá (CHƯA bao gồm VAT) | F16: =F17/F15 -> 19622144 | G16: Thủ tục điền
B17: Tổng giá trị Nhà ở chưa gồm VAT | F17: =VLOOKUP(F12,[3]Sheet1!$B:$H,7,0) -> 4772105421 | H17: =VLOOKUP(F12,[3]Sheet1!$B:$I,8,0) -> 0
B18: Tổng giá trị Nhà Ở đã gồm VAT | F18: =ROUND(F17+(F17-F14*J13)*10%,0) -> 5094969660
B19: Các khoản giảm trừ vào giá khi KH ký HĐMB
B20: Chiết khấu quà tặng gói nội thất | F20: =IF($F$17>10000000000,100000000,IF($F$17<7000000000,50000000,70000000)) -> 50000000 | G20: Tính trên giá net (không gồm VAT)
B21: CK không nhận bảo lãnh ngân hàng | D21: KHÔNG | F21: =IF(D21="Có",0,1%) -> 0.01 | G21: Thủ tục chọn trong droplist
B22: CK cho KH lựa chọn TTS 100% bằng VTC trong vòng 15 ngày | F22: =+IF($F$10=4,11%,0) -> 0.11
B23: CK cho KH lựa chọn TT theo tiến độ thông thường bằng VTC | F23: =+IF(OR($F$10=1, $F$10=2),5%,0) -> 0
B24: Chiết khấu khác (%, nếu có) | F24: 0 | G24: Thủ tục điền % giảm trừ theo PD
B25: Đơn giá (CHƯA bao gồm VAT) sau giảm giá | F25: =ROUND((F16-(F20/F15))*(1-F21)*(1-F22)*(1-F23)*(1-F24),0) -> 17107924 | I25: =F17-F20 -> 4722105421
B26: Đơn giá (ĐÃ bao gồm VAT) | F26: =ROUND(F25+(F25-$J$13*F14/F15)*10%,0) -> 18184069 | G26: (F16-(F19/F15)) | I26: =I25*F21 -> 47221054
A27: 4 | B27: Tổng giá trị Nhà Ở vào HĐMB
B28: Tổng giá trị Nhà Ở đã gồm VAT | F28: =ROUND(+F29+F30,0) -> 4422365525 | G28: =SUM(F29:F30)=F28 -> TRUE | J28: BẢNG TÍNH LÃI CHẬM
B29: Tổng giá trị Nhà Ở chưa gồm VAT | F29: =ROUND(+F25*F15,0) -> 4160647117 | G29: =F25*F15=F29 -> FALSE | J29: Hạn TT | K29: Ngày tính lãi | L29: Ngày thực TT | M29: Số ngày chậm | N29: Số tiền | O29: Lãi
B30: Tổng thuế GTGT | F30: =ROUND((F29-J13*F14)*10%,0) -> 261718408 | J30: LK01-92 | O30: =0.05%*N30*M30 -> 0
A31: 6 | B31: Chiết khấu thanh toán sớm VTC giảm trừ vào giá thanh toán | F31: =F32+F33-F34 -> 0 | J31: 45318 | K31: =J31+1 -> 45319 | L31: 45350 | M31: =L31-K31 -> 31 | N31: =924309979-300000000 -> 624309979 | O31: =0.05%*N31*M31 -> 9676804.7
B32: CK TTS giảm trừ vào tiến độ HĐMB | F32: =IF($F$10=2,SUM(V81:V105),0) -> 0 | G32: Số tiền này vào TT CK TTS | K32: =J32+1 -> 1 | M32: =L32-K32 -> -1 | O32: =0.05%*N32*M32 -> 0
B33: Lãi vay từ HĐV dự kiến KH được hưởng | F33: =IF($F$10=2,SUM(V106:V109),0) -> 0 | G33: Số tiền lãi (sau khấu trừ PIT) trừ vào lần thanh toán tiếp theo | K33: =J33+1 -> 1 | M33: =L33-K33 -> -1 | O33: =0.05%*N33*M33 -> 0
B34: Thuế TNCN KH chịu | F34: =IF($F$9="Cá nhân",F33*5%,0) -> 0 | K34: =J34+1 -> 1 | M34: =L34-K34 -> -1 | O34: =0.05%*N34*M34 -> 0
B35: Số tiền KH phải thanh toán sau khi giảm trừ CK TTS | F35: =+F28-F31 -> 4422365525 | K35: =J35+1 -> 1 | M35: =L35-K35 -> -1 | O35: =0.05%*N35*M35 -> 0
B36: Số tiền KH phải thanh toán sau khi giảm trừ CK TTS bao gồm PBT | F36: =+F35+#REF! -> #REF!
A37: 7 | B37: Số tiền vào HĐV | F37: =IF($F$10=3,F28*25%,IF(F10=4,F28*25%+F30*5%,IF(F10=2,SUM(U106:U109),0))) -> 1.1186773e+09
A38: 8 | B38: Số tiền vào TTĐC | F38: =$F$29*5% -> 2.0803236e+08
B39: Lãi cọc tạm tính | F39: =U115 -> 19629135
B40: Thuế TNCN KH chịu | F40: =IF($F$9="Cá nhân",F39*5%,0) -> 981456.76
B41: Lãi cọc KH thực nhận | F41: =+F39-F40 -> 18647678
...

Sheet PTG_CSBH05.08
A1: CÔNG TY TNHH ĐẦU TƯ VÀ PHÁT TRIỂN BẤT ĐỘNG SẢN VẠN PHÚC ĐIỀN
A3: PHIẾU TÍNH GIÁ TẠM TÍNH | J3: Thủ tục tự cập nhật thông tin vào các ô bôi vàng
A4: DỰ ÁN GOLDEN POINT
A5: (CSBH V02_ÁP DỤNG: 04/08/2024) | I5: Option thanh toán
I6: 1 | J6: Thanh toán theo tiến độ chuẩn bằng VTC
I7: 2 | J7: TTS từng đợt tròn tiến độ | N7: Hạn dừng HTLS | O7: Tỷ lệ CK TTS 100%
E8: PHÂN KHU: | F8: LK01 | I8: 3 | J8: Vay Hỗ trợ lãi suất | M8: LK01 | N8: =TODAY()+30 -> 45582 | O8: 0.11
B9: Nhóm KH | F9: Cá nhân | I9: 4 | J9: TT sớm 100% bằng vốn tự có trong 15 ngày kể từ khi kí HĐMB | M9: LK02 | N9: =TODAY()+30 -> 45582 | O9: 0.11
B10: Khách hàng lựa chọn phương án | D10: =VLOOKUP($F$10,$I$6:$K$9,2,0) -> TT sớm 100% bằng vốn tự có trong 15 ngày kể từ khi kí HĐMB | F10: 4 | I10: 0
A11: 1 | B11: Họ và tên khách | I11: 0.01
A12: 2 | B12: Ký hiệu căn | F12: HG1-13
A13: 3 | B13: Tính toán giá trị | I13: QSD đất/m2 đất | J13: 22866119
A14: 3.1 | B14: Diện tích đất (m2) | F14: =VLOOKUP(F12,[2]Sheet1!$B:$C,2,0) -> 67.5
A15: 3.2 | B15: Diện tích Sàn xây dựng Nhà ở (m2) | F15: =VLOOKUP(F12,[2]Sheet1!$B:$D,3,0) -> 243.9
A16: 3.3 | B16: Đơn giá (CHƯA bao gồm VAT) | F16: =F17/F15 -> 22551403 | G16: 8j | H16: =VLOOKUP(F12,[4]Sheet1!$B:$I,8,0) -> 5.8959696e+09
B17: Tổng giá trị biệt thư chưa gồm VAT | F17: =VLOOKUP(F12,[4]Sheet1!$B:$H,7,0) -> 5.5002872e+09 | H17: =H16/F15 -> 24173717
B18: Các khoản giảm trừ vào giá khi KH ký HĐMB
B19: Chiết khấu quà tặng gói nội thất | F19: =IF(H16>10000000000,100000000,IF(H16<7000000000,50000000,70000000)) -> 50000000
B20: CK không nhận bảo lãnh ngân hàng | D20: KHÔNG | F20: 0.01
B21: CK cho KH lựa chọn TTS 100% bằng VTC trong vòng 15 ngày | F21: =+IF($F$10=4,11%,0) -> 0.11
B22: CK cho KH lựa chọn TT theo tiến độ thông thường bằng VTC | F22: =+IF(OR($F$10=1, $F$10=2),6%,0) -> 0
B23: Chiết khấu khác (%, nếu có) | F23: 0
B24: Đơn giá (CHƯA bao gồm VAT) sau giảm giá | F24: =ROUND((F16-(F19/F15))*(1-F20)*(1-F21)*(1-F22)*(1-F23),0) -> 19689414 | I24: =F17-F19 -> 5.4502872e+09
B25: Đơn giá (ĐÃ bao gồm VAT) | F25: =ROUND(F24+(F24-$J$13*F14/F15)*10%,0) -> 21025529 | I25: =I24*F20 -> 54502872
A26: 4 | B26: Tổng giá trị biệt thự vào HĐMB
B27: Tổng giá trị biệt thự đã gồm VAT | F27: =ROUND(+F28+F29,0) -> 5128126579 | G27: =SUM(F28:F29)=F27 -> TRUE | J27: BẢNG TÍNH LÃI CHẬM | O27: =SUM(O29:O42) -> 13278491
B28: Tổng giá trị biệt thự chưa gồm VAT | F28: =ROUND(+F24*F15,0) -> 4802248075 | G28: =ROUND(F24*F15,0)=F28 -> TRUE | J28: Hạn TT | K28: Ngày tính lãi | L28: Ngày thực TT | M28: Số ngày chậm | N28: Số tiền | O28: Lãi chậm
B29: Tổng thuế GTGT | F29: =ROUND((F28-J13*F14)*10%,0) -> 325878504 | J29: =F12 -> HG1-13 | K29: 45499 | L29: 45530 | M29: =L29-K29-1 -> 30 | N29: =F50 -> 240112404 | O29: =0.05%*N29*M29 -> 3601686.1 | P29: chậm thanh toán
A30: 6 | B30: Chiết khấu thanh toán sớm VTC giảm trừ vào giá thanh toán | F30: =F31+F32-F33 -> 0 | J30: 45318 | K30: =J30+1 -> 45319 | L30: 45350 | M30: =L30-K30 -> 31 | N30: =924309979-300000000 -> 624309979 | O30: =0.05%*N30*M30 -> 9676804.7
B31: CK TTS giảm trừ vào tiến độ HĐMB | F31: =IF($F$10=2,SUM(V81:V105),0) -> 0 | G31: Số tiền này vào TT CK TTS | K31: =J31+1 -> 1 | M31: =L31-K31 -> -1 | O31: =0.05%*N31*M31 -> 0
B32: Lãi vay từ HĐV dự kiến KH được hưởng | F32: =IF($F$10=2,SUM(V106:V109),0) -> 0 | G32: Số tiền lãi (sau khấu trừ PIT) trừ vào lần thanh toán tiếp theo | K32: =J32+1 -> 1 | M32: =L32-K32 -> -1 | O32: =0.05%*N32*M32 -> 0
B33: Thuế TNCN KH chịu | F33: =IF($F$9="Cá nhân",F32*5%,0) -> 0 | K33: =J33+1 -> 1 | M33: =L33-K33 -> -1 | O33: =0.05%*N33*M33 -> 0
B34: Số tiền KH phải thanh toán sau khi giảm trừ CK TTS | F34: =+F27-F30 -> 5128126579 | G34: =F34*25% -> 1.2820316e+09 | K34: =J34+1 -> 1 | M34: =L34-K34 -> -1 | O34: =0.05%*N34*M34 -> 0
B35: Số tiền KH phải thanh toán sau khi giảm trừ CK TTS bao gồm PBT | F35: =+F34+#REF! -> #REF! | O35: =0.05%*N35*M35 -> 0
A36: 7 | B36: Số tiền vào HĐV | F36: =IF($F$10=3,F27*25%,IF(F10=4,F27*25%+F29*5%,IF(F10=2,SUM(U106:U109),0))) -> 1.2983256e+09 | G36: Lãi HĐV | O36: =0.05%*N36*M36 -> 0
A37: 8 | B37: Số tiền vào TTĐC | F37: =$F$28*5% -> 2.401124e+08 | G37: =F28*8% -> 384179846 | O37: =0.05%*N37*M37 -> 0
B38: Lãi cọc tạm tính | F38: =U115 -> 0 | O38: =0.05%*N38*M38 -> 0
B39: Thuế TNCN KH chịu | F39: =IF($F$9="Cá nhân",F38*5%,0) -> 0 | O39: =0.05%*N39*M39 -> 0
B40: Lãi cọc KH thực nhận | F40: =+F38-F39 -> 0 | O40: =0.05%*N40*M40 -> 0
A41: 5 | B41: Ngày dự kiến bàn giao và cấp GCN quyền sở hữu
...

Sheet PTG_CSBH025.07
A1: CÔNG TY TNHH ĐẦU TƯ VÀ PHÁT TRIỂN BẤT ĐỘNG SẢN VẠN PHÚC ĐIỀN
A3: PHIẾU TÍNH GIÁ | J3: Thủ tục tự cập nhật thông tin vào các ô bôi vàng
A4: DỰ ÁN GOLDEN POINT
A5: (CSBH V02_ÁP DỤNG: 25/07/2024) | I5: Option thanh toán
G6: =VLOOKUP(F12,#REF!,2,0) -> #REF! | I6: 1 | J6: Thanh toán theo tiến độ chuẩn bằng VTC
I7: 2 | J7: TTS từng đợt tròn tiến độ | N7: Hạn dừng HTLS | O7: Tỷ lệ CK TTS 100%
E8: PHÂN KHU: | F8: LK01 | G8: Thủ tục chọn trong droplist | I8: 3 | J8: Vay Hỗ trợ lãi suất | M8: LK01 | N8: =TODAY()+30 -> 45582 | O8: 0.11
B9: Nhóm KH | F9: Cá nhân | G9: Thủ tục chọn trong droplist | I9: 4 | J9: TT sớm 100% bằng vốn tự có trong 15 ngày kể từ khi kí HĐMB | M9: LK02 | N9: =TODAY()+30 -> 45582 | O9: 0.11
B10: Khách hàng lựa chọn phương án | D10: =VLOOKUP($F$10,$I$6:$K$9,2,0) -> Vay Hỗ trợ lãi suất | F10: 3 | I10: 0
A11: 1 | B11: Họ và tên khách | G11: Thủ tục điền | I11: 0.01
A12: 2 | B12: Ký hiệu căn | F12: TĐ2-19 | G12: Thủ tục điền mã căn
A13: 3 | B13: Tính toán giá trị | I13: QSD đất/m2 đất | J13: 22866119
A14: 3.1 | B14: Diện tích đất (m2) | F14: =VLOOKUP(F12,[2]Sheet1!$B:$C,2,0) -> 67.5 | G14: Thủ tục điền
A15: 3.2 | B15: Diện tích Sàn xây dựng Nhà ở (m2) | F15: =VLOOKUP(F12,[2]Sheet1!$B:$D,3,0) -> 243.2 | G15: Thủ tục điền diện tích tính giá (S sàn xây dựng)
A16: 3.3 | B16: Đơn giá (CHƯA bao gồm VAT) | F16: =VLOOKUP(F12,[2]Sheet1!$B:$T,19,0) -> 19622144 | G16: Thủ tục điền | H16: =VLOOKUP(F12,[4]Sheet1!$B:$I,8,0) -> 0
B17: Tổng giá trị biệt thư chưa gồm VAT | F17: 4772105421 | H17: =H16/F15 -> 0
B18: Các khoản giảm trừ vào giá khi KH ký HĐMB
B19: Chiết khấu quà tặng tiền mặt | F19: 0
B20: CK không nhận bảo lãnh ngân hàng | F20: 0.01 | G20: Thủ tục chọn trong droplist
B21: CK cho KH lựa chọn TTS 100% bằng VTC trong vòng 15 ngày | F21: =+IF($F$10=4,11%,0) -> 0
B22: CK cho KH lựa chọn TT theo tiến độ thông thường bằng VTC | F22: =+IF(OR($F$10=1, $F$10=2),9%,0) -> 0
B23: Chiết khấu khác (%, nếu có) | F23: 0 | G23: Thủ tục điền % giảm trừ theo PD
B24: Đơn giá (CHƯA bao gồm VAT) sau giảm giá | F24: =ROUND((F16-(F19/F15))*(1-F20)*(1-F21)*(1-F22)*(1-F23),0) -> 19425923 | I24: =F17-F19 -> 4772105421
B25: Đơn giá (ĐÃ bao gồm VAT) | F25: =ROUND(F24+(F24-$J$13*F14/F15)*10%,0) -> 20733868 | G25: (F16-(F19/F15)) | I25: =I24*F20 -> 47721054
A26: 4 | B26: Tổng giá trị biệt thự vào HĐMB
B27: Tổng giá trị biệt thự đã gồm VAT | F27: =ROUND(+F28+F29,0) -> 5042476618 | G27: =SUM(F28:F29)=F27 -> TRUE | J27: BẢNG TÍNH LÃI CHẬM | O27: =SUM(O29:O42) -> 45777237
B28: Tổng giá trị biệt thự chưa gồm VAT | F28: =ROUND(+F24*F15,0) -> 4724384474 | G28: =F24*F15=F28 -> FALSE | J28: Hạn TT | K28: Ngày tính lãi | L28: Ngày thực TT | M28: Số ngày chậm | N28: Số tiền | O28: Lãi chậm
B29: Tổng thuế GTGT | F29: =ROUND((F28-J13*F14)*10%,0) -> 318092144 | J29: =F12 -> TĐ2-19 | K29: =E49 -> 45474 | L29: 45530 | M29: =L29-K29-1 -> 55 | N29: =F49+F51 -> 1312742986 | O29: =0.05%*N29*M29 -> 36100432 | P29: chậm thanh toán
A30: 6 | B30: Chiết khấu thanh toán sớm VTC giảm trừ vào giá thanh toán | F30: =F31+F32-F33 -> 0 | J30: 45318 | K30: =J30+1 -> 45319 | L30: 45350 | M30: =L30-K30 -> 31 | N30: =924309979-300000000 -> 624309979 | O30: =0.05%*N30*M30 -> 9676804.7
B31: CK TTS giảm trừ vào tiến độ HĐMB | F31: =IF($F$10=2,SUM(V81:V105),0) -> 0 | G31: Số tiền này vào TT CK TTS | K31: =J31+1 -> 1 | M31: =L31-K31 -> -1 | O31: =0.05%*N31*M31 -> 0
B32: Lãi vay từ HĐV dự kiến KH được hưởng | F32: =IF($F$10=2,SUM(V106:V109),0) -> 0 | G32: Số tiền lãi (sau khấu trừ PIT) trừ vào lần thanh toán tiếp theo | K32: =J32+1 -> 1 | M32: =L32-K32 -> -1 | O32: =0.05%*N32*M32 -> 0
B33: Thuế TNCN KH chịu | F33: =IF($F$9="Cá nhân",F32*5%,0) -> 0 | K33: =J33+1 -> 1 | M33: =L33-K33 -> -1 | O33: =0.05%*N33*M33 -> 0
B34: Số tiền KH phải thanh toán sau khi giảm trừ CK TTS | F34: =+F27-F30 -> 5042476618 | K34: =J34+1 -> 1 | M34: =L34-K34 -> -1 | O34: =0.05%*N34*M34 -> 0
B35: Số tiền KH phải thanh toán sau khi giảm trừ CK TTS bao gồm PBT | F35: =+F34+#REF! -> #REF! | G35: Lãi HĐV | O35: =0.05%*N35*M35 -> 0
A36: 7 | B36: Số tiền vào HĐV | F36: =IF($F$10=3,F27*25%,IF(F10=4,F27*25%+F29*5%,IF(F10=2,SUM(U106:U109),0))) -> 1.2606192e+09 | G36: =F28*8% -> 3.7795076e+08 | O36: =0.05%*N36*M36 -> 0
A37: 8 | B37: Số tiền vào TTĐC | F37: =$F$28*5% -> 2.3621922e+08 | O37: =0.05%*N37*M37 -> 0
B38: Lãi cọc tạm tính | F38: =U115 -> 21201484 | O38: =0.05%*N38*M38 -> 0
B39: Thuế TNCN KH chịu | F39: =IF($F$9="Cá nhân",F38*5%,0) -> 1060074.2 | O39: =0.05%*N39*M39 -> 0
B40: Lãi cọc KH thực nhận | F40: =+F38-F39 -> 20141410 | O40: =0.05%*N40*M40 -> 0
A41: 9 | B41: Ngày dự kiến bàn giao và cấp GCN quyền sở hữu
...

Sheet PTG_CSBH01.6.24
A1: CÔNG TY TNHH ĐẦU TƯ VÀ PHÁT TRIỂN BẤT ĐỘNG SẢN VẠN PHÚC ĐIỀN
A3: PHIẾU TÍNH GIÁ | J3: Thủ tục tự cập nhật thông tin vào các ô bôi vàng
A4: DỰ ÁN GOLDEN POINT
A5: (CSBH V01_ÁP DỤNG: 01/06/2024) | I5: Option thanh toán
G6: =VLOOKUP(F12,#REF!,2,0) -> #REF! | I6: 1 | J6: Thanh toán theo tiến độ chuẩn bằng VTC
I7: 2 | J7: TTS từng đợt tròn tiến độ | N7: Hạn dừng HTLS | O7: Tỷ lệ CK TTS 100%
E8: PHÂN KHU: | F8: LK01 | G8: Thủ tục chọn trong droplist | I8: 3 | J8: Vay Hỗ trợ lãi suất | M8: LK01 | N8: =TODAY()+30 -> 45582 | O8: 0.11
B9: Nhóm KH | F9: Cá nhân | G9: Thủ tục chọn trong droplist | I9: 4 | J9: TT sớm 100% bằng vốn tự có trong 15 ngày kể từ khi kí HĐMB | M9: LK02 | N9: =TODAY()+30 -> 45582 | O9: 0.11
B10: Khách hàng lựa chọn phương án | D10: =VLOOKUP($F$10,$I$6:$K$9,2,0) -> TT sớm 100% bằng vốn tự có trong 15 ngày kể từ khi kí HĐMB | F10: 4 | I10: 0
A11: 1 | B11: Họ và tên khách | F11: =VLOOKUP($F$12,'[5]Báo cáo TTKQ'!$B:$C,2,0) -> #N/A | G11: Thủ tục điền | I11: 0.01
A12: 2 | B12: Ký hiệu căn | F12: TĐ3-19 | G12: Thủ tục điền mã căn
A13: 3 | B13: Tính toán giá trị | I13: QSD đất/m2 đất | J13: 22866119
A14: 3.1 | B14: Diện tích đất (m2) | F14: =VLOOKUP(F12,[2]Sheet1!$B:$C,2,0) -> 67.5 | G14: Thủ tục điền | H14: 8.045.759.373
A15: 3.2 | B15: Diện tích Sàn xây dựng Nhà ở (m2) | F15: =VLOOKUP(F12,[2]Sheet1!$B:$D,3,0) -> 243.2 | G15: Thủ tục điền diện tích tính giá (S sàn xây dựng) | H15: =H14*90% -> #VALUE!
A16: 3.3 | B16: Đơn giá (CHƯA bao gồm VAT) | F16: =F17/F15 -> 21698437 | G16: Thủ tục điền | H16: =VLOOKUP(F12,[4]Sheet1!$B:$I,8,0) -> 0 | I16: =H14*90% -> #VALUE!
B17: Tổng giá trị biệt thư chưa gồm VAT | F17: =VLOOKUP(F12,'[6]Tổng hợp'!$B:$C,2,0) -> 5277059897 | H17: =vlo -> #NAME?
B18: Các khoản giảm trừ vào giá khi KH ký HĐMB
B19: CK không nhận bảo lãnh ngân hàng | F19: 0.01 | G19: Thủ tục chọn trong droplist
B20: CK cho KH lựa chọn TTS 100% bằng VTC trong vòng 15 ngày | F20: =+IF(F10=4,11%,0) -> 0.11
B21: CK cho KH lựa chọn TT theo tiến độ thông thường bằng VTC | F21: =+IF(OR(F10=1, F10=2),9%,0) -> 0 | J21: 8.045.759.373
B22: Chiết khấu khác (%, nếu có) | F22: 0 | G22: Thủ tục điền % giảm trừ theo PD | J22: =J21*10% -> #VALUE!
B23: Đơn giá (CHƯA bao gồm VAT) sau giảm giá | F23: =F16*(1-F19)*(1-F20)*(1-F21)*(1-F22) -> 19118493
B24: Đơn giá (ĐÃ bao gồm VAT) | F24: =+F23+(F23-$J$13*F14/F15)*10% -> 20395695 | G24: =F24*F15=F26 -> TRUE
A25: 4 | B25: Tổng giá trị biệt thự vào HĐMB
B26: Tổng giá trị biệt thự đã gồm VAT | F26: =+F27+F28 -> 4.9602329e+09 | G26: =SUM(F27:F28)=F26 -> TRUE | J26: BẢNG TÍNH LÃI CHẬM | O26: =SUM(O28:O41) -> 12276576
B27: Tổng giá trị biệt thự chưa gồm VAT | F27: =+F23*F15 -> 4.6496175e+09 | G27: =F23*F15=F27 -> TRUE | J27: Hạn TT | K27: Ngày tính lãi | L27: Ngày thực TT | M27: Số ngày chậm | N27: Số tiền | O27: Lãi chậm
B28: Tổng thuế GTGT | F28: =(F27-J13*F14)*10% -> 3.1061544e+08 | J28: =F12 -> TĐ3-19 | K28: 45514 | L28: 45534 | M28: =L28-K28-1 -> 19 | N28: =F49 -> 216328948 | O28: =0.05%*N28*M28 -> 2055125 | P28: chậm ký quỹ
A29: 6 | B29: Chiết khấu thanh toán sớm VTC giảm trừ vào giá thanh toán | F29: =F30+F31-F32 -> 0 | J29: 45318 | K29: 45524 | L29: 45534 | M29: =L29-K29-1 -> 9 | N29: =F51 -> 7.4403494e+08 | O29: =0.05%*N29*M29 -> 3348157.2
B30: CK TTS giảm trừ vào tiến độ HĐMB | F30: =IF($F$10=2,SUM(V83:V107),0) -> 0 | G30: Số tiền này vào TT CK TTS | K30: =J30+1 -> 1 | M30: =L30-K30 -> -1 | O30: =0.05%*N30*M30 -> 0
B31: Lãi vay từ HĐV dự kiến KH được hưởng | F31: =IF($F$10=2,SUM(V108:V111),0) -> 0 | G31: Số tiền lãi (sau khấu trừ PIT) trừ vào lần thanh toán tiếp theo | K31: =J31+1 -> 1 | M31: =L31-K31 -> -1 | O31: =0.05%*N31*M31 -> 0
B32: Thuế TNCN KH chịu | F32: =IF($F$9="Cá nhân",F31*5%,0) -> 0 | K32: =J32+1 -> 1 | M32: =L32-K32 -> -1 | O32: =0.05%*N32*M32 -> 0
B33: Số tiền KH phải thanh toán sau khi giảm trừ CK TTS | F33: =+F26-F29 -> 4.9602329e+09 | K33: =J33+1 -> 1 | M33: =L33-K33 -> -1 | O33: =0.05%*N33*M33 -> 0
B34: Số tiền KH phải thanh toán sau khi giảm trừ CK TTS bao gồm PBT | F34: =+F33+#REF! -> #REF! | O34: =0.05%*N34*M34 -> 0
A35: 7 | B35: Số tiền vào HĐV | F35: =IF($F$10=3,F26*25%,IF(F10=4,F26*25%+F28*5%,IF(F10=2,SUM(U108:U111),0))) -> 1.255589e+09 | I35: Lãi HĐV | O35: =0.05%*N35*M35 -> 0
A36: 8 | B36: Số tiền vào TTĐC | F36: =$F$27*5% -> 2.3248087e+08 | I36: =F27*8% -> 3.719694e+08 | O36: =0.05%*N36*M36 -> 0
B37: Lãi cọc tạm tính | F37: =U117 -> 17139891 | I37: =F27*8% -> 3.719694e+08 | O37: =0.05%*N37*M37 -> 0
B38: Thuế TNCN KH chịu | F38: =IF($F$9="Cá nhân",F37*5%,0) -> 856994.56 | O38: =0.05%*N38*M38 -> 0
B39: Lãi cọc KH thực nhận | F39: =+F37-F38 -> 16282897 | O39: =0.05%*N39*M39 -> 0
A40: 9 | B40: Ngày dự kiến bàn giao và cấp GCN quyền sở hữu | K40: 45514 | L40: 45534 | M40: =L40-K40-1 -> 19 | N40: =F46+F47 -> 5.2770599e+08 | O40: =0.05%*N40*M40 -> 5013206.9 | P40: chậm ký
B41: Ngày dự kiến bàn giao: | F41: =+$E$54 -> 45657 | K41: 45524 | L41: 45530 | M41: =L41-K41-1 -> 5 | N41: =F51 -> 7.4403494e+08 | O41: =0.05%*N41*M41 -> 1860087.3 | P41: chậm thanh toán
...

Sheet Tinh lai tra cham
A1: Lãi trả chậm | B1: 0.0005
A3: Ngày thanh toán theo tiến độ | B3: Ngày thanh toán thực tế | C3: Số ngày chậm thanh toán | D3: Số tiền thực tế đã thanh toán | E3: Số tiền sẽ phải thanh toán | F3: Lãi chậm trả | G3: Ghi chú
A5: =PTG_CSBH01.6.24!B46 -> Lần 1 - Khi ký TTKQ | D5: 1000000000 | E5: =PTG_CSBH01.6.24!F46 -> 100000000
A6: =PTG_CSBH01.6.24!B49 -> Lần 2 - Ngay khi ký HĐMB | B6: =A7 -> #REF! | D6: =SUBTOTAL(9,D7:D12) -> 2.4135164e+10 | E6: =PTG_CSBH01.6.24!F49 -> 216328948 | F6: =SUBTOTAL(9,F7:F12) -> #REF!
A7: =PTG_CSBH01.6.24!#REF! -> #REF! | B7: 42073 | C7: =IF(B7<=B6,0,B7-MAX(B6,A7)) -> #REF! | D7: 4000000000 | E7: =E6-D7 -> -3783671052 | F7: =E6*C7*$B$1 -> #REF!
A8: =A7 -> #REF! | B8: 42078 | C8: =IF(B8<=B7,0,B8-MAX(B7,A8)) -> #REF! | D8: 1090290998 | E8: =E7-D8 -> -4873962050 | F8: =E7*C8*$B$1 -> #REF!
A9: =A8 -> #REF! | B9: 42083 | C9: =IF(B9<=B8,0,B9-MAX(B8,A9)) -> #REF! | D9: 1.9044873e+10 | E9: =E8-D9 -> -2.3918835e+10 | F9: =E8*C9*$B$1 -> #REF!
A10: =A9 -> #REF! | C10: =IF(B10<=B9,0,B10-MAX(B9,A10)) -> 0 | E10: =E9-D10 -> -2.3918835e+10 | F10: =E9*C10*$B$1 -> 0
A11: =A10 -> #REF! | C11: =IF(B11<=B10,0,B11-MAX(B10,A11)) -> 0 | E11: =E10-D11 -> -2.3918835e+10 | F11: =E10*C11*$B$1 -> 0
A12: =A11 -> #REF! | C12: =IF(B12<=B11,0,B12-MAX(B11,A12)) -> 0 | E12: =E11-D12 -> -2.3918835e+10 | F12: =E11*C12*$B$1 -> 0
A13: 3. Đợt 2 | B13: =A14 -> #REF! | D13: =SUBTOTAL(9,D14:D21) -> 5.0270328e+10 | E13: =PTG_CSBH01.6.24!#REF! -> #REF! | F13: =SUBTOTAL(9,F14:F21) -> #REF!
A14: =PTG_CSBH01.6.24!#REF! -> #REF! | B14: 42139 | C14: =IF(B14<=B13,0,B14-MAX(B13,A14)) -> #REF! | D14: 10000000000 | E14: =E13-D14 -> #REF! | F14: =E13*C14*$B$1 -> #REF!
A15: =A14 -> #REF! | B15: 42141 | C15: =IF(B15<=B14,0,B15-MAX(B14,A15)) -> #REF! | D15: 2180581997 | E15: =E14-D15 -> #REF! | F15: =E14*C15*$B$1 -> #REF!
A16: =A15 -> #REF! | B16: 42144 | C16: =IF(B16<=B15,0,B16-MAX(B15,A16)) -> #REF! | D16: 3.8089746e+10 | E16: =E15-D16 -> #REF! | F16: =E15*C16*$B$1 -> #REF!
A17: =A16 -> #REF! | C17: =IF(B17<=B16,0,B17-MAX(B16,A17)) -> 0 | E17: =E16-D17 -> #REF! | F17: =E16*C17*$B$1 -> #REF!
A18: =A17 -> #REF! | C18: =IF(B18<=B17,0,B18-MAX(B17,A18)) -> 0 | E18: =E17-D18 -> #REF! | F18: =E17*C18*$B$1 -> #REF!
A19: =A18 -> #REF! | C19: =IF(B19<=B18,0,B19-MAX(B18,A19)) -> 0 | E19: =E18-D19 -> #REF! | F19: =E18*C19*$B$1 -> #REF!
A20: =A19 -> #REF! | C20: =IF(B20<=B19,0,B20-MAX(B19,A20)) -> 0 | E20: =E19-D20 -> #REF! | F20: =E19*C20*$B$1 -> #REF!
A21: =A20 -> #REF! | C21: =IF(B21<=B20,0,B21-MAX(B20,A21)) -> 0 | E21: =E20-D21 -> #REF! | F21: =E20*C21*$B$1 -> #REF!
A22: =PTG_CSBH01.6.24!#REF! -> #REF! | B22: =A23 -> #REF! | D22: =SUBTOTAL(9,D23:D30) -> 5.0270328e+10 | E22: =PTG_CSBH01.6.24!#REF! -> #REF! | F22: =SUBTOTAL(9,F23:F30) -> #REF!
A23: =PTG_CSBH01.6.24!#REF! -> #REF! | B23: 42195 | C23: =IF(B23<=B22,0,B23-MAX(B22,A23)) -> #REF! | D23: 12000000000 | E23: =E22-D23 -> #REF! | F23: =E22*C23*$B$1 -> #REF!
A24: =A23 -> #REF! | B24: 42201 | C24: =IF(B24<=B23,0,B24-MAX(B23,A24)) -> #REF! | D24: 1203581997 | E24: =E23-D24 -> #REF! | F24: =E23*C24*$B$1 -> #REF!
A25: =A24 -> #REF! | B25: 42205 | C25: =IF(B25<=B24,0,B25-MAX(B24,A25)) -> #REF! | D25: 3.7066746e+10 | E25: =E24-D25 -> #REF! | F25: =E24*C25*$B$1 -> #REF!
A26: =A25 -> #REF! | C26: =IF(B26<=B25,0,B26-MAX(B25,A26)) -> 0 | E26: =E25-D26 -> #REF! | F26: =E25*C26*$B$1 -> #REF!
A27: =A26 -> #REF! | C27: =IF(B27<=B26,0,B27-MAX(B26,A27)) -> 0 | E27: =E26-D27 -> #REF! | F27: =E26*C27*$B$1 -> #REF!
A28: =A27 -> #REF! | C28: =IF(B28<=B27,0,B28-MAX(B27,A28)) -> 0 | E28: =E27-D28 -> #REF! | F28: =E27*C28*$B$1 -> #REF!
A29: =A28 -> #REF! | C29: =IF(B29<=B28,0,B29-MAX(B28,A29)) -> 0 | E29: =E28-D29 -> #REF! | F29: =E28*C29*$B$1 -> #REF!
A30: =A29 -> #REF! | C30: =IF(B30<=B29,0,B30-MAX(B29,A30)) -> 0 | E30: =E29-D30 -> #REF! | F30: =E29*C30*$B$1 -> #REF!
A31: Tổng cộng | D31: =D6+D5+D13+D22 -> 1.2567582e+11 | E31: =E6+E5+E13+E22 -> #REF! | F31: =F6+F5+F13+F22 -> #REF!
D32: =D31=E31 -> #REF! | E32: =E31=PTG_CSBH01.6.24!F56 -> #REF!

Sheet HTLS
A1: Phân khu | C1: =PTG_CSBH01.6.24!F8 -> LK01 | F1: Thủ tục tự cập nhật thông tin vào các ô bôi vàng
A2: Ngày vào HDMB | C2: =+PTG_CSBH01.6.24!E49 -> 45539
A3: Giá trị nhà ở (gồm VAT) | C3: =+PTG_CSBH01.6.24!F26 -> 4.9602329e+09
A4: Giá trị nhà ở (chưa VAT) | C4: =+PTG_CSBH01.6.24!F27 -> 4.6496175e+09
A5: VAT | C5: =+PTG_CSBH01.6.24!F28 -> 3.1061544e+08 | Q5: Từ | S5: Đến
D6: TCB | E6: Thủ tục chọn trong droplist | Q6: 43424 | S6: 43465
A8: Giai đoạn HĐMB | D8: Thủ tục điền ngày giải ngân thực tế | Q8: TCB | R8: MBB | T8: TCB | U8: MBB
A9: Giá trị nhà ở | B9: Tỷ lệ vay được hỗ trợ | C9: Giá trị khoản vay | D9: Ngày giải ngân | E9: Ngày dừng hỗ trợ | F9: Tháng hỗ trợ | G9: LS chi hộ | H9: % TNTH | I9: Lãi | J9: Phí TNTH | K9: Tổng cộng | N9: Nội dung | O9: LS | P9: Tỷ lệ TNTH | Q9: LS | R9: LS | S9: LS | T9: Tỷ lệ TNTH | U9: Tỷ lệ TNTH | V9: Tỷ lệ TNTH
A10: =C3 -> 4.9602329e+09 | B10: =C10/C3 -> 1.2850242 | C10: 6.3740195e+09 | D10: =+PTG_CSBH01.6.24!E65 -> 45514 | E10: =VLOOKUP($C$1,PTG_CSBH01.6.24!$M:$N,2,0) -> 45582 | F10: =IF(D10>E10,0,DAYS360(D10,E10)/30) -> 2.2333333 | G10: =IF(F10<=6,$O$10,IF(F10<=12,$O$11,IF(F10<=18,$O$12,IF(F10<=24,$O$13,"Check lại")))) -> 0.071 | H10: =IF(G10<=6,$P$10,IF(G10<=12,$P$11,IF(G10<=18,$P$12,IF(G10<=24,$P$13,"Check lại")))) -> 0.01 | I10: =C10*G10/365*(E10-D10) -> 84311688 | J10: =IF(I10>0,C10*H10,0) -> 63740195 | K10: =SUM(I10:J10) -> 1.4805188e+08 | N10: Thời hạn vay từ 1-6 tháng | O10: =SUMIFS($Q10:$S10,$Q$8:$S$8,$D$6) -> 0.071 | P10: =SUMIFS($T10:$V10,$T$8:$V$8,$D$6) -> 0.01 | Q10: 0.071 | T10: 0.01
N11: Thời hạn vay từ 7-12 tháng | O11: =SUMIFS($Q11:$S11,$Q$8:$S$8,$D$6) -> 0.0765 | P11: =SUMIFS($T11:$V11,$T$8:$V$8,$D$6) -> 0.01 | Q11: 0.0765 | T11: 0.01
A12: Tổng | B12: =IF(C10/C3>70%,"check","ok") -> check | C12: =IF(C10<=PTG_CSBH01.6.24!H65,"ok","GN vượt xem lại") -> GN vượt xem lại | I12: =SUM(I10:I11) -> 84311688 | J12: =SUM(J10:J11) -> 63740195 | K12: =SUM(K10:K11) -> 1.4805188e+08 | N12: Thời hạn vay từ 13-18 tháng | O12: =SUMIFS($Q12:$S12,$Q$8:$S$8,$D$6) -> 0.08325 | P12: =SUMIFS($T12:$V12,$T$8:$V$8,$D$6) -> 0.01 | Q12: 0.08325 | T12: 0.01
N13: Thời hạn vay từ 19-24 tháng | O13: =SUMIFS($Q13:$S13,$Q$8:$S$8,$D$6) -> 0.0867 | P13: =SUMIFS($T13:$V13,$T$8:$V$8,$D$6) -> 0.01 | Q13: 0.0867 | T13: 0.01
