Workbook
Name List_MB: '[1]Tinh lai gia HDMB CPI'!$C$8:$C$800
Name List_MB: '[1]Tinh lai gia HDMB CPI'!$C$8:$C$800
Name tivi: '[2]Đừng xóa'!$B$1:$B$2

Sheet PTG
H1: THỦ TỤC ĐIỀN
B2: PHIẾU TÍNH GIÁ TẠM TÍNH
B3: DIAMOND CROWN HẢI PHÒNG
B4: Áp dụng cho | C4: CSBH 10/11/2022
C6: Lựa chọn HTLS/Không HTLS | F6: Không HTLS | G6: Thủ tục chọn trong droplist | I6: Không TTS
C7: Ngân hàng vay vốn | F7: 0 | I7: TTS | M7: Có
C8: Viên kim cương 8 Hearts and 8 Arrows 01 carat | F8: không nhận quà | M8: Không
C9: Chương trình quà tặng thiết bị Hi-end | F9: Không
C10: Tham gia chương trình TTS 95% giá bán chưa gồm VAT +100% VAT + KPBT | F10: TTS | G10: Thủ tục chọn trong droplist
B12: I. Thông tin khách hàng:
B13: Mã căn hộ | F13: SV-08A
B14: Tên khách hàng: | F14: Nguyễn Văn A
B15: Loại căn: | F15: =LEFT(F13,2) -> SV
B16: Số căn: | F16: =IF(RIGHT(F13,1)="A",RIGHT(F13,3),RIGHT(F13,2)) -> 08A
B17: II.Giá bán
A18: II.1 | B18: Diện tích theo thông thủy (m2): | F18: 56.4
B19: Đơn giá thông thủy (chưa VAT) | F19: 52711227
B20: '- Đơn giá QSD đất không chịu VAT | F20: 3926889
B21: Giảm giá do không nhận Viên kim cương 8 Hearts and 8 Arrows 01 carat | F21: =IF(F8="không nhận quà",200000000,0) -> 200000000
B22: CK được phê duyệt Chương trình quà tặng thiết bị Hi-end | F22: =IF(AND(F15="SV",F9="Không"),200000000/1.1,IF(AND(F15="DL",F9="Không"),100000000/1.1,0)) -> 1.8181818e+08
B23: CK bằng tiền khác | F23: 0
B24: Chiết khấu không HTLS | F24: =+IF(F6="Không HTLS", "4.5%",0) -> 4.5%
B25: Giảm giá khác (%) | G25: >> Thủ tục điền theo phê duyệt riêng cho từng căn
B26: Đơn giá thông thủy (chưa VAT) sau giảm giá | F26: =(F19-F21/F18-F22/F18-F23/F18)*(1-F24)*(1-F25) -> 43874038
B27: Giá Bán Căn Hộ (chưa bao gồm VAT và KPBT) sau giảm giá | F27: =F18*F26 -> 2.4744958e+09
B28: Thuế VAT | F28: =+(F27-F20*F18)*10% -> 2.2530192e+08
B29: Giá Bán Căn Hộ (đã bao gồm VAT) | F29: =SUM(F27,F28) -> 2.6997977e+09
B30: Phí bảo trì 2% | F30: =F27*2% -> 49489915
B31: Tổng Giá Bán Căn Hộ (đã bao gồm VAT và KPBT) | F31: =SUM(F29:F30) -> 2.7492876e+09 | M31: =L31-L29 -> 0
B32: Đơn giá bán bao gồm VAT + KPBT (thông thủy) | F32: =F31/F18 -> 48746234
A33: II.2 | B33: CKTTS_Khách vay | F33: =IF(F6="HTLS",'HTLS '!H25,0) -> 0 | G33: >> Vào TT CKTTS | J33: =K33-K27 -> 0 | M33: =L33-L27 -> 0
B34: Hỗ trợ lãi suất_sau HĐMB | F34: =IF(F6="HTLS",'HTLS '!M13) -> FALSE
A35: II.3 | B35: Chiết khấu thanh toán sớm_khách không vay | F35: =IF(F6="HTLS",0,T101) -> 2.651931e+08
A36: II.4 | B36: Số tiền sau chiết khấu | F36: =F31-F33-F35 -> 2.4840945e+09
B38: III. Tiến độ Thanh toán | D38: Ngày thanh toán | E38: Tỷ lệ | F38: Số tiền thanh toán
B40: Lần đặt cọc: Ngay khi ký TTĐC | D40: =RIGHT(C4,10) -> 10/11/2022 | F40: 200000000
B41: Lần 1: Ngay khi ký HĐMB (Trong vòng 20 ngày kể từ ngày ký TTĐC) | D41: =D40+20 -> 44895 | E41: 0.15 | F41: =F29*E41-F40 -> 2.0496965e+08 | G41: =$F$28*E41 -> 33795288
B42: Lần 2: Trong vòng 30 ngày kể từ ngày ký HĐMB | D42: =D41+30 -> 44925 | E42: 0.05 | F42: =F29*E42 -> 1.3498988e+08 | G42: =$F$28*E42 -> 11265096
B43: Lần 3: Trong vòng 90 ngày kể từ ngày thanh toán lần 2 | D43: =D42+90 -> 45015 | E43: 0.1 | F43: =E43*$F$29 -> 2.6997977e+08 | G43: =$F$28*E43 -> 22530192
B44: Lần 4: Trong vòng 90 ngày kể từ ngày thanh toán lần 3 | D44: =D43+90 -> 45105 | E44: 0.1 | F44: =E44*$F$29 -> 2.6997977e+08 | G44: =$F$28*E44 -> 22530192
...

Sheet SS
B3: CSBH ban hành 11/07/2022 | E3: CSBH ban hành 15/09/2022
B4: 1. Miễn phí dịch vụ 2 năm
B5: Áp dụng tất cả các căn | E5: Vẫn áp dụng
B6: 2. Chương trình ưu đãi cho Khách hàng
B7: Không áp dụng | E7: Tặng 01 thẻ Doji Elite Club hạng Diamond
E8: Ưu tiên chỗ đỗ xe ô tô: Cam kết mỗi KH mua sản phẩm tại Dự án Diamond Crown Hai Phong có 01 chỗ đỗ ô tô tại Dư án
E9: Thang máy đặc quyền: Các KH mua sản phẩm sẽ được sử dụng 01 thang máy riêng dành đặc quyền mới nhiều tính năng đặc biệt
E10: Tặng 01 thẻ VIP của TPBank Signature: cho các KH với đặc quyền được vào Phòng chờ thương gia của 1600 sân bay trên toàn thế giới
B11: 3. Chương trình quà tặng Kim Cương
B12: Tặng 01 Viên kim cương 8 Hearts & 8 Arrows 1 carat trị giá 250.000.000 đồng cho các KH mua căn DL, PH, SV | E12: Vẫn áp dụng
B14: 4. Chương trình quà tặng Đặc biệt
B15: Không áp dụng | E15: Các KH mua căn PH, SV sẽ được tặng 100 tr/căn – quà tặng trừ trực tiếp vào giá bán (chưa VAT) – Chương trình chỉ áp dụng cho KH có phê duyệt được tặng của WeLand.
B17: 5. Tiến độ thanh toán
C18: Ngày thanh toán | D18: Tỷ lệ | F18: Ngày thanh toán | G18: Tỷ lệ
B19: Ngay khi ký TTĐC | C19: 44753 | D19: =G19 -> 200 trđ | E19: Ngay khi ký TTĐC | F19: =PTG!D40 -> 10/11/2022 | G19: 200 trđ
B20: Lần 1: Ngay khi ký HĐMB (Trong vòng 20 ngày kể từ ngày ký TTĐC) | C20: =C19+20 -> 44773 | D20: 0.15 | E20: Lần 1: Ngay khi ký HĐMB (Trong vòng 20 ngày kể từ ngày ký TTĐC) | F20: =PTG!D41 -> 44895 | G20: =PTG!E41 -> 0.15
B21: Lần 2: Trong vòng 30 ngày kể từ ngày ký HĐMB | C21: =$C$20+30 -> 44803 | D21: 0.05 | E21: =PTG!B42 -> Lần 2: Trong vòng 30 ngày kể từ ngày ký HĐMB | F21: =PTG!D42 -> 44925 | G21: =PTG!E42 -> 0.05
B22: Lần 3: Trong vòng 60 ngày kể từ ngày ký HĐMB | C22: =$C$20+60 -> 44833 | D22: 0.1 | E22: =PTG!B43 -> Lần 3: Trong vòng 90 ngày kể từ ngày thanh toán lần 2 | F22: =PTG!D43 -> 45015 | G22: =PTG!E43 -> 0.1
B23: Lần 4: Trong vòng 90 ngày kể từ ngày ký HĐMB | C23: =$C$20+90 -> 44863 | D23: 0.1 | E23: =PTG!B44 -> Lần 4: Trong vòng 90 ngày kể từ ngày thanh toán lần 3 | F23: =PTG!D44 -> 45105 | G23: =PTG!E44 -> 0.1
B24: Lần 5: | C24: 44920 | D24: 0.1 | E24: =PTG!B45 -> Lần 5: Trong vòng 90 ngày kể từ ngày thanh toán lần 4 | F24: =PTG!D45 -> 45195 | G24: =PTG!E45 -> 0.1
B25: Lần 6: | C25: 44982 | D25: 0.1 | E25: =PTG!B46 -> Lần 6: Trong vòng 90 ngày kể từ ngày thanh toán lần 5 | F25: =PTG!D46 -> 45285 | G25: =PTG!E46 -> 0.1
B26: Lần 7: | C26: 45041 | D26: 0.1 | E26: =PTG!B47 -> Lần 7: Trong vòng 90 ngày kể từ ngày thanh toán lần 6 | F26: =PTG!D47 -> 45375 | G26: =PTG!E47 -> 0.1
B27: Lần 8: Theo TB bàn giao nhà (gồm cả 2% KPBT và thuế GTGT của 5% giá bán CH) | C27: 45291 | D27: 0.25 | E27: =PTG!B48 -> Lần 8: Khi nhận bàn giao CH (gồm cả 2% KPBT và thuế GTGT của 5% giá bán CH) | F27: =PTG!D48 -> 45382 | G27: =PTG!E48 -> 0.25
B28: Lần 9: Theo TB bàn giao GCN của CĐT, dự kiến. | C28: 45656 | D28: 0.05 | E28: =PTG!B49 -> Lần 9: Theo TB bàn giao GCN của CĐT, dự kiến | F28: =PTG!D49 -> 45747 | G28: =PTG!E49 -> 0.05
B29: 6. Chính sách hỗ trợ cho KH vay vốn ngân hàng
B30: Giá trị HTLS: lên tới 70% giá bán Căn hộ bao gồm VAT | E30: Vẫn áp dụng
B31: Thời gian : 18 tháng kể từ ngày giải ngân đầu tiên
B32: 7. Chính sách hỗ trợ cho KH không vay vốn ngân hàng
B33: KH không vay được giảm 4,5% giá trị trước VAT | E33: Vẫn áp dụng và giữ nguyên so với các CSBH đã ban hành
B34: 8. Lãi suất trả trước và các khoản thanh toán trước hạn
B35: Giữ nguyên so với các CSBH đã ban hành áp dụng cho căn hộ | E35: Vẫn áp dụng và giữ nguyên so với các CSBH đã ban hành

Sheet HTLS 
O1: KHÔNG XÓA | Q1: BẢNG LÃI SUẤT NGÂN HÀNG ÁP DỤNG CHO KHÁCH MUA CĂN HỘ
C2: Ngân hàng | D2: =+PTG!F10 -> TTS | O2: Nội dung | P2: LS | Q2: Tỷ lệ TNTH | R2: LS | S2: Tỷ lệ TNTH
A3: Giá trị căn hộ (chưa bao gồm VAT) | C3: =PTG!F27 -> 2.4744958e+09
A4: Kinh phí bảo trì | C4: =PTG!F32 -> 48746234
A5: VAT | C5: =PTG!F28 -> 2.2530192e+08
A6: Giá trị căn hộ (bao gồm VAT) | C6: =PTG!F29 -> 2.6997977e+09
B10: Giá trị căn hộ (gồm VAT) | D10: Tỷ lệ vay được hỗ trợ (<=70%) | E10: Giá trị khoản vay | F10: Ngày giải ngân khoản vay | G10: Ngày dừng HTLS | H10: Thời hạn hỗ trợ (tháng) | I10: LS | J10: Lãi | K10: Phí TNTH | L10: TNTH | M10: Tổng CP
B11: =PTG!F29 -> 2.6997977e+09 | D11: 0.7 | E11: =+B11*0.7 -> 1.8898584e+09 | F11: =PTG!D59 -> 44925 | G11: =EDATE(F11,18) -> 45473 | H11: 18 | I11: =R10 -> 0 | J11: =P3 -> 0 | K11: =S10 -> 0 | L11: =Q3 -> 0 | M11: =SUM(J11,L11) -> 0
B12: =B11 -> 2.6997977e+09 | D12: 0.05 | E12: =+B12*0.05 -> 1.3498988e+08 | F12: =PTG!D60 -> 45382 | G12: 45199 | I12: =R10 -> 0 | J12: =P3 -> 0 | K12: =S10 -> 0 | L12: =Q3 -> 0 | M12: =SUM(J12,L12) -> 0
D13: =+IF(D11<=80%, "OK", "CHECK") -> OK | M13: =SUM(M11:M12) -> 0
A15: Thủ tục điền ngày giải ngân thực tế | F15: LS CKTTS | G15: 0.08
A16: Ngày giải ngân | B16: Ngày thanh toán theo tiến độ | C16: Lần tiến độ thanh toán | D16: Tiến độ | E16: Số ngày TTS | F16: Giá trị thanh toán theo tiến độ | G16: Tỷ lệ CK | H16: Tiền CK
A17: 44651 | B17: =PTG!D42 -> 44925 | C17: Lần 2 | D17: 0.05 | E17: =MAX(0,B17-A17) -> 274 | F17: =$C$3*D17 -> 1.2372479e+08 | G17: =(1+$G$15/365)^E17 -> 1.0618877 | H17: =F17-F17/G17 -> 7210788.5
A18: =A17 -> 44651 | B18: =PTG!D43 -> 45015 | C18: Lần 3 | D18: 0.1 | E18: =MAX(0,B18-A18) -> 364 | F18: =$C$3*D18 -> 2.4744958e+08 | G18: =(1+$G$15/365)^E18 -> 1.0830402 | H18: =F18-F18/G18 -> 18972759
A19: =A18 -> 44651 | B19: =PTG!D44 -> 45105 | C19: Lần 4 | D19: 0.1 | E19: =MAX(0,B19-A19) -> 454 | F19: =$C$3*D19 -> 2.4744958e+08 | G19: =(1+$G$15/365)^E19 -> 1.104614 | H19: =F19-F19/G19 -> 23435054
A20: =A19 -> 44651 | B20: =PTG!D45 -> 45195 | C20: Lần 5 | D20: 0.1 | E20: =MAX(0,B20-A20) -> 544 | F20: =$C$3*D20 -> 2.4744958e+08 | G20: =(1+$G$15/365)^E20 -> 1.1266175 | H20: =F20-F20/G20 -> 27810197
A21: =A20 -> 44651 | B21: =PTG!D46 -> 45285 | C21: Lần 6 | D21: 0.1 | E21: =MAX(0,B21-A21) -> 634 | F21: =$C$3*D21 -> 2.4744958e+08 | G21: =(1+$G$15/365)^E21 -> 1.1490594 | H21: =F21-F21/G21 -> 32099891
A22: =A21 -> 44651 | B22: =PTG!D47 -> 45375 | C22: Lần 7 | D22: 0.1 | E22: =MAX(0,B22-A22) -> 724 | F22: =$C$3*D22 -> 2.4744958e+08 | G22: =(1+$G$15/365)^E22 -> 1.1719483 | H22: =F22-F22/G22 -> 36305804
A23: =A22 -> 44651 | B23: =PTG!D48 -> 45382 | C23: Lần 8 | D23: 0.15 | E23: =MAX(0,B23-A23) -> 731 | F23: =$C$3*D23 -> 3.7117436e+08 | G23: =(1+$G$15/365)^E23 -> 1.1737475 | H23: =F23-F23/G23 -> 54944201
A24: 45107 | B24: =B23 -> 45382 | C24: Lần 9 | D24: 0.05 | E24: =MAX(0,B24-A24) -> 275 | F24: =$C$3*D24 -> 1.2372479e+08 | G24: =(1+$G$15/365)^E24 -> 1.0621205 | H24: =F24-F24/G24 -> 7236320.2
D25: =SUM(D17:D24) -> 0.75 | F25: =SUM(F17:F24) -> 1.8558718e+09 | H25: =SUM(H17:H24) -> 2.0801501e+08

Sheet Sheet1
A1: VCB
A2: TPB
A4: Vay
A5: Không vay
