Workbook
Name List_MB: '[1]Tinh lai gia HDMB CPI'!$C$8:$C$800
Name List_MB: '[1]Tinh lai gia HDMB CPI'!$C$8:$C$800
Name tivi: '[2]Đừng xóa'!$B$1:$B$2

Sheet PTG
H1: THỦ TỤC ĐIỀN
B2: PHIẾU TÍNH GIÁ TẠM TÍNH
B3: DIAMOND CROWN HẢI PHÒNG
B4: Áp dụng cho | C4: CSBH 10/11/2022
C6: Lựa chọn HTLS/Không HTLS | F6: Không HTLS | G6: Thủ tục chọn trong droplist | I6: Không TTS
C7: Ngân hàng vay vốn | F7: 0 | I7: TTS | M7: Có
C8: Viên kim cương 8 Hearts and 8 Arrows 01 carat | F8: không nhận quà | M8: Không
C9: Chương trình quà tặng thiết bị Hi-end | F9: Không
C10: Tham gia chương trình TTS 95% giá bán chưa gồm VAT +100% VAT + KPBT | F10: TTS | G10: Thủ tục chọn trong droplist
B12: I. Thông tin khách hàng:
B13: Mã căn hộ | F13: SV-08A
B14: Tên khách hàng: | F14: Nguyễn Văn A
B15: Loại căn: | F15: =LEFT(F13,2) -> SV
B16: Số căn: | F16: =IF(RIGHT(F13,1)="A",RIGHT(F13,3),RIGHT(F13,2)) -> 08A
B17: II.Giá bán
A18: II.1 | B18: Diện tích theo thông thủy (m2): | F18: 56.4
B19: Đơn giá thông thủy (chưa VAT) | F19: 52711227
B20: '- Đơn giá QSD đất không chịu VAT | F20: 3926889
B21: Giảm giá do không nhận Viên kim cương 8 Hearts and 8 Arrows 01 carat | F21: =IF(F8="không nhận quà",200000000,0) -> 200000000
B22: CK được phê duyệt Chương trình quà tặng thiết bị Hi-end | F22: =IF(AND(F15="SV",F9="Không"),200000000/1.1,IF(AND(F15="DL",F9="Không"),100000000/1.1,0)) -> 1.8181818e+08
B23: CK bằng tiền khác | F23: 0
B24: Chiết khấu không HTLS | F24: =+IF(F6="Không HTLS", "4.5%",0) -> 4.5%
B25: Giảm giá khác (%) | G25: >> Thủ tục điền theo phê duyệt riêng cho từng căn
B26: Đơn giá thông thủy (chưa VAT) sau giảm giá | F26: =(F19-F21/F18-F22/F18-F23/F18)*(1-F24)*(1-F25) -> 43874038
B27: Giá Bán Căn Hộ (chưa bao gồm VAT và KPBT) sau giảm giá | F27: =F18*F26 -> 2.4744958e+09
B28: Thuế VAT | F28: =+(F27-F20*F18)*10% -> 2.2530192e+08
B29: Giá Bán Căn Hộ (đã bao gồm VAT) | F29: =SUM(F27,F28) -> 2.6997977e+09
B30: Phí bảo trì 2% | F30: =F27*2% -> 49489915
B31: Tổng Giá Bán Căn Hộ (đã bao gồm VAT và KPBT) | F31: =SUM(F29:F30) -> 2.7492876e+09 | M31: =L31-L29 -> 0
B32: Đơn giá bán bao gồm VAT + KPBT (thông thủy) | F32: =F31/F18 -> 48746234
A33: II.2 | B33: CKTTS_Khách vay | F33: =IF(F6="HTLS",'HTLS '!H25,0) -> 0 | G33: >> Vào TT CKTTS | J33: =K33-K27 -> 0 | M33: =L33-L27 -> 0
B34: Hỗ trợ lãi suất_sau HĐMB | F34: =IF(F6="HTLS",'HTLS '!M13) -> FALSE
A35: II.3 | B35: Chiết khấu thanh toán sớm_khách không vay | F35: =IF(F6="HTLS",0,T101) -> 2.651931e+08
A36: II.4 | B36: Số tiền sau chiết khấu | F36: =F31-F33-F35 -> 2.4840945e+09
B38: III. Tiến độ Thanh toán | D38: Ngày thanh toán | E38: Tỷ lệ | F38: Số tiền thanh toán
B40: Lần đặt cọc: Ngay khi ký TTĐC | D40: =RIGHT(C4,10) -> 10/11/2022 | F40: 200000000
B41: Lần 1: Ngay khi ký HĐMB (Trong vòng 20 ngày kể từ ngày ký TTĐC) | D41: =D40+20 -> 44895 | E41: 0.15 | F41: =F29*E41-F40 -> 2.0496965e+08 | G41: =$F$28*E41 -> 33795288
B42: Lần 2: Trong vòng 30 ngày kể từ ngày ký HĐMB | D42: =D41+30 -> 44925 | E42: 0.05 | F42: =F29*E42 -> 1.3498988e+08 | G42: =$F$28*E42 -> 11265096
B43: Lần 3: Trong vòng 90 ngày kể từ ngày thanh toán lần 2 | D43: =D42+90 -> 45015 | E43: 0.1 | F43: =E43*$F$29 -> 2.6997977e+08 | G43: =$F$28*E43 -> 22530192
B44: Lần 4: Trong vòng 90 ngày kể từ ngày thanh toán lần 3 | D44: =D43+90 -> 45105 | E44: 0.1 | F44: =E44*$F$29 -> 2.6997977e+08 | G44: =$F$28*E44 -> 22530192
B45: Lần 5: Trong vòng 90 ngày kể từ ngày thanh toán lần 4 | D45: =D44+90 -> 45195 | E45: 0.1 | F45: =E45*$F$29 -> 2.6997977e+08 | G45: =$F$28*E45 -> 22530192
B46: Lần 6: Trong vòng 90 ngày kể từ ngày thanh toán lần 5 | D46: =D45+90 -> 45285 | E46: 0.1 | F46: =E46*$F$29 -> 2.6997977e+08 | G46: =$F$28*E46 -> 22530192
B47: Lần 7: Trong vòng 90 ngày kể từ ngày thanh toán lần 6 | D47: =D46+90 -> 45375 | E47: 0.1 | F47: =E47*$F$29 -> 2.6997977e+08 | G47: =$F$28*E47 -> 22530192
B48: Lần 8: Khi nhận bàn giao CH (gồm cả 2% KPBT và thuế GTGT của 5% giá bán CH) | D48: 45382 | E48: 0.25 | F48: =E48*$F$29+F30+F28*5% -> 7.3570443e+08
B49: Lần 9: Theo TB bàn giao GCN của CĐT, dự kiến | D49: =D48+365 -> 45747 | E49: 0.05 | F49: =+F29*E49-F28*5% -> 1.2372479e+08 | G49: =F27*5%=F49 -> TRUE
B50: Tổng cộng: | E50: =SUM(E41:E49) -> 1 | F50: =SUM(F39:F49) -> 2.7492876e+09 | G50: =ROUND(F31,0)=ROUND(F50,0) -> TRUE
B52: Người lập biểu | C52: TP Thủ tục | E52: Khách hàng
B53: (Ghi rõ họ tên) | C53: (Ghi rõ họ tên) | E53: (Ghi rõ họ tên) | F53: (Ghi rõ họ tên)
B55: IV. Thanh toán (KH tham gia chương trình HTLS) | D55: Ngày thanh toán theo tiến độ | E55: Tỷ lệ | F55: Số tiền | G55: Vốn tự có tối thiểu | H55: Ngân hàng giải ngân tối đa
F56: =+F39 -> 0 | G56: =+F56 -> 0
B57: Lần đặt cọc: Ngay khi ký TTĐC | D57: =D40 -> 10/11/2022 | F57: =F40 -> 200000000 | G57: =F57 -> 200000000
B58: Lần 1: Ngay khi ký HĐMB (Trong vòng 20 ngày kể từ ngày ký TTĐC) | D58: =D57+20 -> 44895 | E58: =+E41 -> 0.15 | F58: =SUM(F27:F28)*15%-SUM(F57:F57) -> 2.0496965e+08 | G58: =+F58 -> 2.0496965e+08
B59: Lần 2: Trong vòng 30 ngày kể từ ngày ký HĐMB | D59: =D58+30 -> 44925 | E59: 0.75 | F59: =F29*75% -> 2.0248483e+09 | G59: =F29*5% -> 1.3498988e+08 | H59: =F29*70% -> 1.8898584e+09
B60: Lần 3: Theo TB bàn giao nhà (gồm cả 2% KPBT và thuế GTGT của 5% giá bán CH) | D60: =+D48 -> 45382 | E60: 5% GTCH + KPBT+VAT 5% | F60: =F29*5%+F28*5%+F30 -> 1.957449e+08 | G60: =+F30+F28*5% -> 60755011 | H60: =F29*5% -> 1.3498988e+08
B61: Lần 4: Theo TB bàn giao GCN của CĐT, dự kiến | D61: =D60+365 -> 45747 | E61: 0.05 | F61: =F27*5% -> 1.2372479e+08 | G61: =+F61 -> 1.2372479e+08
B62: Tổng cộng | E62: 1 | F62: =SUM(F56:F61) -> 2.7492876e+09 | G62: =SUM(G56:G61) -> 7.2443934e+08 | H62: =SUM(H58:H61) -> 2.0248483e+09
F63: =F50-F62 -> 0 | H63: =ROUND(H62+G62,0)=ROUND(F62,0) -> TRUE
I64: Thanh toán sớm (không vay)- Chiết khấu TTS
D65: KH cần lưu ý: | M65: LSCK | Q65: =IF(F6="HTLS",0,IF(F10="TTS",8.5%,8%)) -> 0.085 | R65: CK vào giá trước VAT
D66: “Trường hợp có sai sót trong tính toán và số liệu mà Bên Bán hoặc Bên Mua chứng minh được là sai theo các điều khoản, điều kiện của Hợp đồng, các Phụ lục và/hoặc các văn bản, thỏa thuận liên quan mà các Bên đã ký thì Bên kia phải chấp nhận số liệu tính toán điều chỉnh”. | I66: Lần thanh toán | J66: Ngày thanh toán theo hạn | K66: Ngày thanh toán thực tế | L66: Số ngày thanh toán sớm | M66: Số tiền tính TTS | N66: VAT | O66: KPBT | P66: Tổng tiền thanh toán cho CĐT | Q66: LS CK TTS | R66: Tỷ lệ CK | S66: Số tiền | T66: Lãi thanh toán sớm
P67: =+M67 -> 0 | S67: =M67 -> 0
I68: =B57 -> Lần đặt cọc: Ngay khi ký TTĐC | J68: =D40 -> 10/11/2022 | M68: 200000000 | P68: =F40 -> 200000000
I69: =B41 -> Lần 1: Ngay khi ký HĐMB (Trong vòng 20 ngày kể từ ngày ký TTĐC)
J70: =D41 -> 44895 | K70: 44753 | L70: =IF(J70<>0,IF(OR(J70<=K70,K70=""),0,J70-K70),"") -> 142 | M70: =+F27*E41-M68 -> 1.7117436e+08 | N70: =+F28*E41 -> 33795288 | P70: =F41 -> 2.0496965e+08 | Q70: =$Q$65 -> 0.085 | R70: =(1+Q70/365)^L70 -> 1.0336174 | S70: =+M70/R70 -> 1.6560709e+08 | T70: =M70-S70 -> 5567272.2
J71: =J70 -> 44895 | L71: =IF(J71<>0,IF(OR(J71<=K71,K71=""),0,J71-K71),"") -> 0 | Q71: =$Q$65 -> 0.085 | R71: =(1+Q71/365)^L71 -> 1 | S71: =+M71/R71 -> 0 | T71: =M71-S71 -> 0
J72: =J71 -> 44895 | L72: =IF(J72<>0,IF(OR(J72<=K72,K72=""),0,J72-K72),"") -> 0 | Q72: =$Q$65 -> 0.085 | R72: =(1+Q72/365)^L72 -> 1 | S72: =+M72/R72 -> 0 | T72: =M72-S72 -> 0
I73: =B42 -> Lần 2: Trong vòng 30 ngày kể từ ngày ký HĐMB
J74: =D42 -> 44925 | K74: 44630 | L74: =IF(J74<>0,IF(OR(J74<=K74,K74=""),0,J74-K74),"") -> 295 | M74: =P74/$F$29*$F$27 -> 1.2372479e+08 | N74: =P74/$F$29*$F$28 -> 11265096 | P74: =F42 -> 1.3498988e+08 | Q74: =$Q$65 -> 0.085 | R74: =(1+Q74/365)^L74 -> 1.0711048 | S74: =+M74/R74 -> 1.1551138e+08 | T74: =M74-S74 -> 8213412.4
J75: =J74 -> 44925 | L75: =IF(J75<>0,IF(OR(J75<=K75,K75=""),0,J75-K75),"") -> 0 | Q75: =$Q$65 -> 0.085 | R75: =(1+Q75/365)^L75 -> 1 | S75: =+M75/R75 -> 0 | T75: =M75-S75 -> 0
J76: =J75 -> 44925 | L76: =IF(J76<>0,IF(OR(J76<=K76,K76=""),0,J76-K76),"") -> 0 | Q76: =$Q$65 -> 0.085 | R76: =(1+Q76/365)^L76 -> 1 | S76: =+M76/R76 -> 0 | T76: =M76-S76 -> 0
I77: =B43 -> Lần 3: Trong vòng 90 ngày kể từ ngày thanh toán lần 2
J78: =D43 -> 45015 | K78: 44630 | L78: =IF(J78<>0,IF(OR(J78<=K78,K78=""),0,J78-K78),"") -> 385 | M78: =P78/$F$29*$F$27 -> 2.4744958e+08 | N78: =P78/$F$29*$F$28 -> 22530192 | P78: =F43 -> 2.6997977e+08 | Q78: =$Q$65 -> 0.085 | R78: =(1+Q78/365)^L78 -> 1.0937882 | S78: =+M78/R78 -> 2.2623171e+08 | T78: =M78-S78 -> 21217868
J79: =J78 -> 45015 | L79: =IF(J79<>0,IF(OR(J79<=K79,K79=""),0,J79-K79),"") -> 0 | Q79: =$Q$65 -> 0.085 | R79: =(1+Q79/365)^L79 -> 1 | S79: =+M79/R79 -> 0 | T79: =M79-S79 -> 0
J80: =J79 -> 45015 | L80: =IF(J80<>0,IF(OR(J80<=K80,K80=""),0,J80-K80),"") -> 0 | Q80: =$Q$65 -> 0.085 | R80: =(1+Q80/365)^L80 -> 1 | S80: =+M80/R80 -> 0 | T80: =M80-S80 -> 0
I81: =B44 -> Lần 4: Trong vòng 90 ngày kể từ ngày thanh toán lần 3
J82: =D44 -> 45105 | K82: 44630 | L82: =IF(J82<>0,IF(OR(J82<=K82,K82=""),0,J82-K82),"") -> 475 | M82: =P82/$F$29*$F$27 -> 2.4744958e+08 | N82: =P82/$F$29*$F$28 -> 22530192 | P82: =F44 -> 2.6997977e+08 | Q82: =$Q$65 -> 0.085 | R82: =(1+Q82/365)^L82 -> 1.116952 | S82: =+M82/R82 -> 2.2154002e+08 | T82: =M82-S82 -> 25909552
J83: =+J82 -> 45105 | L83: =IF(J83<>0,IF(OR(J83<=K83,K83=""),0,J83-K83),"") -> 0 | Q83: =$Q$65 -> 0.085 | R83: =(1+Q83/365)^L83 -> 1 | S83: =+M83/R83 -> 0 | T83: =M83-S83 -> 0
J84: =+J83 -> 45105 | L84: =IF(J84<>0,IF(OR(J84<=K84,K84=""),0,J84-K84),"") -> 0 | Q84: =$Q$65 -> 0.085 | R84: =(1+Q84/365)^L84 -> 1 | S84: =+M84/R84 -> 0 | T84: =M84-S84 -> 0
I85: =B45 -> Lần 5: Trong vòng 90 ngày kể từ ngày thanh toán lần 4
J86: =D45 -> 45195 | K86: 44630 | L86: =IF(J86<>0,IF(OR(J86<=K86,K86=""),0,J86-K86),"") -> 565 | M86: =P86/$F$29*$F$27 -> 2.4744958e+08 | N86: =P86/$F$29*$F$28 -> 22530192 | P86: =F45 -> 2.6997977e+08 | Q86: =$Q$65 -> 0.085 | R86: =(1+Q86/365)^L86 -> 1.1406064 | S86: =+M86/R86 -> 2.1694564e+08 | T86: =M86-S86 -> 30503939
J87: =+J86 -> 45195 | L87: =IF(J87<>0,IF(OR(J87<=K87,K87=""),0,J87-K87),"") -> 0 | Q87: =$Q$65 -> 0.085 | R87: =(1+Q87/365)^L87 -> 1 | S87: =+M87/R87 -> 0 | T87: =M87-S87 -> 0
J88: =+J87 -> 45195 | L88: =IF(J88<>0,IF(OR(J88<=K88,K88=""),0,J88-K88),"") -> 0 | Q88: =$Q$65 -> 0.085 | R88: =(1+Q88/365)^L88 -> 1 | S88: =+M88/R88 -> 0 | T88: =M88-S88 -> 0
I89: =B46 -> Lần 6: Trong vòng 90 ngày kể từ ngày thanh toán lần 5
J90: =D46 -> 45285 | K90: 44630 | L90: =IF(J90<>0,IF(OR(J90<=K90,K90=""),0,J90-K90),"") -> 655 | M90: =P90/$F$29*$F$27 -> 2.4744958e+08 | N90: =P90/$F$29*$F$28 -> 22530192 | P90: =F46 -> 2.6997977e+08 | Q90: =$Q$65 -> 0.085 | R90: =(1+Q90/365)^L90 -> 1.1647617 | S90: =+M90/R90 -> 2.1244653e+08 | T90: =M90-S90 -> 35003045
J91: =+J90 -> 45285 | L91: =IF(J91<>0,IF(OR(J91<=K91,K91=""),0,J91-K91),"") -> 0 | Q91: =$Q$65 -> 0.085 | R91: =(1+Q91/365)^L91 -> 1 | S91: =+M91/R91 -> 0 | T91: =M91-S91 -> 0
J92: =+J91 -> 45285 | L92: =IF(J92<>0,IF(OR(J92<=K92,K92=""),0,J92-K92),"") -> 0 | Q92: =$Q$65 -> 0.085 | R92: =(1+Q92/365)^L92 -> 1 | S92: =+M92/R92 -> 0 | T92: =M92-S92 -> 0
I93: =B47 -> Lần 7: Trong vòng 90 ngày kể từ ngày thanh toán lần 6
J94: =D47 -> 45375 | K94: 44630 | L94: =IF(J94<>0,IF(OR(J94<=K94,K94=""),0,J94-K94),"") -> 745 | M94: =P94/$F$29*$F$27 -> 2.4744958e+08 | N94: =P94/$F$29*$F$28 -> 22530192 | P94: =F47 -> 2.6997977e+08 | Q94: =$Q$65 -> 0.085 | R94: =(1+Q94/365)^L94 -> 1.1894285 | S94: =+M94/R94 -> 2.0804073e+08 | T94: =M94-S94 -> 39408847
J95: =+J94 -> 45375 | L95: =IF(J95<>0,IF(OR(J95<=K95,K95=""),0,J95-K95),"") -> 0 | Q95: =$Q$65 -> 0.085 | R95: =(1+Q95/365)^L95 -> 1 | S95: =+M95/R95 -> 0 | T95: =M95-S95 -> 0
J96: =+J95 -> 45375 | L96: =IF(J96<>0,IF(OR(J96<=K96,K96=""),0,J96-K96),"") -> 0 | Q96: =$Q$65 -> 0.085 | R96: =(1+Q96/365)^L96 -> 1 | S96: =+M96/R96 -> 0 | T96: =M96-S96 -> 0
I97: =B48 -> Lần 8: Khi nhận bàn giao CH (gồm cả 2% KPBT và thuế GTGT của 5% giá bán CH) | M97: =F27*25% -> 6.1862394e+08 | N97: =30%*F28 -> 67590577 | O97: =F27*2% -> 49489915 | P97: =F48 -> 7.3570443e+08
J98: =D48 -> 45382 | K98: 44630 | L98: =IF(J98<>0,IF(OR(J98<=K98,K98=""),0,J98-K98),"") -> 752 | M98: =M97*N98/N97 -> 6.1862394e+08 | N98: =IF(P98>P97-O97,N97,N97*P98/(P97-O97)) -> 67590577 | O98: =IF(P98-M98-N98<0,0,P98-M98-N98) -> 49489915 | P98: =F48 -> 7.3570443e+08 | Q98: =$Q$65 -> 0.085 | R98: =(1+Q98/365)^L98 -> 1.1913688 | S98: =+M98/R98 -> 5.1925478e+08 | T98: =M98-S98 -> 99369165
J99: =+J98 -> 45382 | L99: =IF(J99<>0,IF(OR(J99<=K99,K99=""),0,J99-K99),"") -> 0 | Q99: =$Q$65 -> 0.085 | R99: =(1+Q99/365)^L99 -> 1 | S99: =+M99/R99 -> 0 | T99: =M99-S99 -> 0
J100: =+J99 -> 45382 | L100: =IF(J100<>0,IF(OR(J100<=K100,K100=""),0,J100-K100),"") -> 0 | Q100: =$Q$65 -> 0.085 | R100: =(1+Q100/365)^L100 -> 1 | S100: =+M100/R100 -> 0 | T100: =M100-S100 -> 0
J101: Tổng cộng | M101: =M97+M94+M90+M86+M82+M78+M74+M70+M68 -> 2.350771e+09 | N101: =N97+N94+N90+N86+N82+N78+N74+N70+N68 -> 2.2530192e+08 | O101: =O97+O94+O90+O86+O82+O78+O74+O70+O68 -> 49489915 | P101: =SUM(P67:P100) -> 3.3612673e+09 | S101: =SUM(S67:S100) -> 1.8855779e+09 | T101: =SUM(T67:T100) -> 2.651931e+08
M102: =ROUND(SUM(F39:F48)-N101-O101,0)=ROUND(M101,0) -> TRUE | N102: =N101=F28 -> FALSE | O102: =+O101=F30 -> TRUE

Sheet SS
B3: CSBH ban hành 11/07/2022 | E3: CSBH ban hành 15/09/2022
B4: 1. Miễn phí dịch vụ 2 năm
B5: Áp dụng tất cả các căn | E5: Vẫn áp dụng
B6: 2. Chương trình ưu đãi cho Khách hàng
B7: Không áp dụng | E7: Tặng 01 thẻ Doji Elite Club hạng Diamond
E8: Ưu tiên chỗ đỗ xe ô tô: Cam kết mỗi KH mua sản phẩm tại Dự án Diamond Crown Hai Phong có 01 chỗ đỗ ô tô tại Dư án
E9: Thang máy đặc quyền: Các KH mua sản phẩm sẽ được sử dụng 01 thang máy riêng dành đặc quyền mới nhiều tính năng đặc biệt
E10: Tặng 01 thẻ VIP của TPBank Signature: cho các KH với đặc quyền được vào Phòng chờ thương gia của 1600 sân bay trên toàn thế giới
B11: 3. Chương trình quà tặng Kim Cương
B12: Tặng 01 Viên kim cương 8 Hearts & 8 Arrows 1 carat trị giá 250.000.000 đồng cho các KH mua căn DL, PH, SV | E12: Vẫn áp dụng
B14: 4. Chương trình quà tặng Đặc biệt
B15: Không áp dụng | E15: Các KH mua căn PH, SV sẽ được tặng 100 tr/căn – quà tặng trừ trực tiếp vào giá bán (chưa VAT) – Chương trình chỉ áp dụng cho KH có phê duyệt được tặng của WeLand.
B17: 5. Tiến độ thanh toán
C18: Ngày thanh toán | D18: Tỷ lệ | F18: Ngày thanh toán | G18: Tỷ lệ
B19: Ngay khi ký TTĐC | C19: 44753 | D19: =G19 -> 200 trđ | E19: Ngay khi ký TTĐC | F19: =PTG!D40 -> 10/11/2022 | G19: 200 trđ
B20: Lần 1: Ngay khi ký HĐMB (Trong vòng 20 ngày kể từ ngày ký TTĐC) | C20: =C19+20 -> 44773 | D20: 0.15 | E20: Lần 1: Ngay khi ký HĐMB (Trong vòng 20 ngày kể từ ngày ký TTĐC) | F20: =PTG!D41 -> 44895 | G20: =PTG!E41 -> 0.15
B21: Lần 2: Trong vòng 30 ngày kể từ ngày ký HĐMB | C21: =$C$20+30 -> 44803 | D21: 0.05 | E21: =PTG!B42 -> Lần 2: Trong vòng 30 ngày kể từ ngày ký HĐMB | F21: =PTG!D42 -> 44925 | G21: =PTG!E42 -> 0.05
B22: Lần 3: Trong vòng 60 ngày kể từ ngày ký HĐMB | C22: =$C$20+60 -> 44833 | D22: 0.1 | E22: =PTG!B43 -> Lần 3: Trong vòng 90 ngày kể từ ngày thanh toán lần 2 | F22: =PTG!D43 -> 45015 | G22: =PTG!E43 -> 0.1
B23: Lần 4: Trong vòng 90 ngày kể từ ngày ký HĐMB | C23: =$C$20+90 -> 44863 | D23: 0.1 | E23: =PTG!B44 -> Lần 4: Trong vòng 90 ngày kể từ ngày thanh toán lần 3 | F23: =PTG!D44 -> 45105 | G23: =PTG!E44 -> 0.1
B24: Lần 5: | C24: 44920 | D24: 0.1 | E24: =PTG!B45 -> Lần 5: Trong vòng 90 ngày kể từ ngày thanh toán lần 4 | F24: =PTG!D45 -> 45195 | G24: =PTG!E45 -> 0.1
B25: Lần 6: | C25: 44982 | D25: 0.1 | E25: =PTG!B46 -> Lần 6: Trong vòng 90 ngày kể từ ngày thanh toán lần 5 | F25: =PTG!D46 -> 45285 | G25: =PTG!E46 -> 0.1
B26: Lần 7: | C26: 45041 | D26: 0.1 | E26: =PTG!B47 -> Lần 7: Trong vòng 90 ngày kể từ ngày thanh toán lần 6 | F26: =PTG!D47 -> 45375 | G26: =PTG!E47 -> 0.1
B27: Lần 8: Theo TB bàn giao nhà (gồm cả 2% KPBT và thuế GTGT của 5% giá bán CH) | C27: 45291 | D27: 0.25 | E27: =PTG!B48 -> Lần 8: Khi nhận bàn giao CH (gồm cả 2% KPBT và thuế GTGT của 5% giá bán CH) | F27: =PTG!D48 -> 45382 | G27: =PTG!E48 -> 0.25
B28: Lần 9: Theo TB bàn giao GCN của CĐT, dự kiến. | C28: 45656 | D28: 0.05 | E28: =PTG!B49 -> Lần 9: Theo TB bàn giao GCN của CĐT, dự kiến | F28: =PTG!D49 -> 45747 | G28: =PTG!E49 -> 0.05
B29: 6. Chính sách hỗ trợ cho KH vay vốn ngân hàng
B30: Giá trị HTLS: lên tới 70% giá bán Căn hộ bao gồm VAT | E30: Vẫn áp dụng
B31: Thời gian : 18 tháng kể từ ngày giải ngân đầu tiên
B32: 7. Chính sách hỗ trợ cho KH không vay vốn ngân hàng
B33: KH không vay được giảm 4,5% giá trị trước VAT | E33: Vẫn áp dụng và giữ nguyên so với các CSBH đã ban hành
B34: 8. Lãi suất trả trước và các khoản thanh toán trước hạn
B35: Giữ nguyên so với các CSBH đã ban hành áp dụng cho căn hộ | E35: Vẫn áp dụng và giữ nguyên so với các CSBH đã ban hành

Sheet HTLS 
O1: KHÔNG XÓA | Q1: BẢNG LÃI SUẤT NGÂN HÀNG ÁP DỤNG CHO KHÁCH MUA CĂN HỘ
C2: Ngân hàng | D2: =+PTG!F10 -> TTS | O2: Nội dung | P2: LS | Q2: Tỷ lệ TNTH | R2: LS | S2: Tỷ lệ TNTH
A3: Giá trị căn hộ (chưa bao gồm VAT) | C3: =PTG!F27 -> 2.4744958e+09
A4: Kinh phí bảo trì | C4: =PTG!F32 -> 48746234
A5: VAT | C5: =PTG!F28 -> 2.2530192e+08
A6: Giá trị căn hộ (bao gồm VAT) | C6: =PTG!F29 -> 2.6997977e+09
B10: Giá trị căn hộ (gồm VAT) | D10: Tỷ lệ vay được hỗ trợ (<=70%) | E10: Giá trị khoản vay | F10: Ngày giải ngân khoản vay | G10: Ngày dừng HTLS | H10: Thời hạn hỗ trợ (tháng) | I10: LS | J10: Lãi | K10: Phí TNTH | L10: TNTH | M10: Tổng CP
B11: =PTG!F29 -> 2.6997977e+09 | D11: 0.7 | E11: =+B11*0.7 -> 1.8898584e+09 | F11: =PTG!D59 -> 44925 | G11: =EDATE(F11,18) -> 45473 | H11: 18 | I11: =R10 -> 0 | J11: =P3 -> 0 | K11: =S10 -> 0 | L11: =Q3 -> 0 | M11: =SUM(J11,L11) -> 0
B12: =B11 -> 2.6997977e+09 | D12: 0.05 | E12: =+B12*0.05 -> 1.3498988e+08 | F12: =PTG!D60 -> 45382 | G12: 45199 | I12: =R10 -> 0 | J12: =P3 -> 0 | K12: =S10 -> 0 | L12: =Q3 -> 0 | M12: =SUM(J12,L12) -> 0
D13: =+IF(D11<=80%, "OK", "CHECK") -> OK | M13: =SUM(M11:M12) -> 0
A15: Thủ tục điền ngày giải ngân thực tế | F15: LS CKTTS | G15: 0.08
A16: Ngày giải ngân | B16: Ngày thanh toán theo tiến độ | C16: Lần tiến độ thanh toán | D16: Tiến độ | E16: Số ngày TTS | F16: Giá trị thanh toán theo tiến độ | G16: Tỷ lệ CK | H16: Tiền CK
A17: 44651 | B17: =PTG!D42 -> 44925 | C17: Lần 2 | D17: 0.05 | E17: =MAX(0,B17-A17) -> 274 | F17: =$C$3*D17 -> 1.2372479e+08 | G17: =(1+$G$15/365)^E17 -> 1.0618877 | H17: =F17-F17/G17 -> 7210788.5
A18: =A17 -> 44651 | B18: =PTG!D43 -> 45015 | C18: Lần 3 | D18: 0.1 | E18: =MAX(0,B18-A18) -> 364 | F18: =$C$3*D18 -> 2.4744958e+08 | G18: =(1+$G$15/365)^E18 -> 1.0830402 | H18: =F18-F18/G18 -> 18972759
A19: =A18 -> 44651 | B19: =PTG!D44 -> 45105 | C19: Lần 4 | D19: 0.1 | E19: =MAX(0,B19-A19) -> 454 | F19: =$C$3*D19 -> 2.4744958e+08 | G19: =(1+$G$15/365)^E19 -> 1.104614 | H19: =F19-F19/G19 -> 23435054
A20: =A19 -> 44651 | B20: =PTG!D45 -> 45195 | C20: Lần 5 | D20: 0.1 | E20: =MAX(0,B20-A20) -> 544 | F20: =$C$3*D20 -> 2.4744958e+08 | G20: =(1+$G$15/365)^E20 -> 1.1266175 | H20: =F20-F20/G20 -> 27810197
A21: =A20 -> 44651 | B21: =PTG!D46 -> 45285 | C21: Lần 6 | D21: 0.1 | E21: =MAX(0,B21-A21) -> 634 | F21: =$C$3*D21 -> 2.4744958e+08 | G21: =(1+$G$15/365)^E21 -> 1.1490594 | H21: =F21-F21/G21 -> 32099891
A22: =A21 -> 44651 | B22: =PTG!D47 -> 45375 | C22: Lần 7 | D22: 0.1 | E22: =MAX(0,B22-A22) -> 724 | F22: =$C$3*D22 -> 2.4744958e+08 | G22: =(1+$G$15/365)^E22 -> 1.1719483 | H22: =F22-F22/G22 -> 36305804
A23: =A22 -> 44651 | B23: =PTG!D48 -> 45382 | C23: Lần 8 | D23: 0.15 | E23: =MAX(0,B23-A23) -> 731 | F23: =$C$3*D23 -> 3.7117436e+08 | G23: =(1+$G$15/365)^E23 -> 1.1737475 | H23: =F23-F23/G23 -> 54944201
A24: 45107 | B24: =B23 -> 45382 | C24: Lần 9 | D24: 0.05 | E24: =MAX(0,B24-A24) -> 275 | F24: =$C$3*D24 -> 1.2372479e+08 | G24: =(1+$G$15/365)^E24 -> 1.0621205 | H24: =F24-F24/G24 -> 7236320.2
D25: =SUM(D17:D24) -> 0.75 | F25: =SUM(F17:F24) -> 1.8558718e+09 | H25: =SUM(H17:H24) -> 2.0801501e+08

Sheet Sheet1
A1: VCB
A2: TPB
A4: Vay
A5: Không vay
