Workbook

Sheet KHÔNG VAY (Chiết khấu 3%)
B1: MINATO VIET NAM CO,.LTD
C3: PHIẾU TÍNH GIÁ THE MINATO RESIDENCE
C5: Thời gian áp dụng: Từ ngày 10/02/2023 đến 10/05/2023
C7: Nhóm khách hàng: | F7: Cá nhân
C8: Tòa nhà: | F8: CT1
B9: KHÁCH KHÔNG LỰA CHỌN GÓI VAY ƯU ĐÃI LÃI SUẤT TỪ NGÂN HÀNG (TRẢ TIỀN TRỰC TIẾP)
B10: 1 | C10: Họ và tên khách hàng
B11: 2 | C11: Ký hiệu căn hộ số | F11: 619 | H11: THỦ TỤC ĐIỀN
B12: 3 | C12: Tầng | F12: =IF(LEFT(F11,3)="12A","12A",IF(LEFT(F11,3)="12B","12B",IF(LEFT(F11,3)="22A","22A",IF(LEFT(F11,3)="22B","22B",IF(LEN(F11)=5,LEFT(F11,2),IF(AND(LEN(F11)=4,VALUE(LEFT(F11,3))>500),LEFT(F11,1),IF(AND(LEN(F11)=4,VALUE(LEFT(F11,3))<500),LEFT(F11,2),LEFT(F11,1)))))))) -> 6
B13: 4 | C13: Diện tích sàn xây dựng (m2) | F13: =VLOOKUP(F11,Sheet2!B3:E464,2,0) -> 45.73
B14: 5 | C14: Diện tích sử dụng (m2) | F14: =VLOOKUP(F11,Sheet2!B3:E464,3,0) -> 40.9
B15: 6 | C15: Loại căn hộ | F15: =VLOOKUP(F11,Sheet2!B3:F464,5,0) -> C-3
C16: Loại | F16: =VLOOKUP(F11,Sheet2!B3:J464,9,0) -> 1PN
B17: 7 | C17: Tổng giá trị căn hộ (đã bao gồm VAT) | F17: =VLOOKUP(F11,Sheet2!B3:G464,6,0) -> 2358900000 | H17: Giá gốc chưa bao gồm chính sách
B18: 7.1 | C18: Giá bán thuần | F18: =(((F17-(1454064*F14))/1.1+(1454064*F14))) -> 2.149861e+09
B19: 7.2 | C19: Thuế GTGT | F19: =F17-F18 -> 2.0903898e+08
B20: 8 | C20: CHÍNH SÁCH BÁN HÀNG | F20: =F21+F22+F23+F25 -> 180767000 | H20: Tổng giảm trừ trực tiếp vào giá | Q20: 1PN | R20: 2PN | S20: 3PN
B21: 8.1 | C21: Chiết khấu 3% giá bán căn hộ đã bao gồm VAT | F21: =F17*3% -> 70767000 | P21: 1 | Q21: 0 | R21: 0 | S21: 0
B22: 8.2 | C22: Tặng vàng SJC | F22: =VLOOKUP(F15,Sheet2!F3:H464,3,0) -> 70000000 | P22: 2 | Q22: 20000000 | R22: 20000000 | S22: 25000000
B23: 8.3 | C23: Tặng chuyến du lịch Nhật Bản | F23: =VLOOKUP(F15,Sheet2!F3:I464,4,0) -> 40000000 | P23: 3 | Q23: 35000000 | R23: 35000000 | S23: 45000000
B24: 8.4 | C24: Tổng số lượng căn hộ đã ký Đơn đăng ký giữ chỗ | F24: 1 | H24: THỦ TỤC ĐIỀN NẾU KHÁCH MUA NHIỀU CĂN | P24: 4 | Q24: 50000000 | R24: 50000000 | S24: 70000000
B25: 8.5 | C25: Chiết khấu khi mua nhiều căn hộ | F25: =IF(F16="1PN",VLOOKUP(F24,P20:Q28,2,0), IF(F16="2PN",VLOOKUP(F24,P20:R28,3,0),IF(F16="3PN",VLOOKUP(F24,P20:S28,4,0)))) -> 0 | P25: 5 | Q25: 70000000 | R25: 70000000 | S25: 90000000
B26: 9 | C26: Tổng giá bán căn hộ sau chiết khấu (đã bao gồm VAT) | F26: =F17-F20 -> 2178133000 | H26: Giá trên Hợp đồng mua bán | P26: 6 | Q26: 70000000 | R26: 70000000 | S26: 90000000
B27: 9.1 | C27: Giá bán thuần | F27: =(((F26-(1454064*F14))/1.1+(1454064*F14))) -> 1.9855274e+09 | P27: 7 | Q27: 70000000 | R27: 70000000 | S27: 90000000
B28: 9.2 | C28: Thuế GTGT | F28: =F26-F27 -> 1.9260562e+08 | P28: 8 | Q28: 70000000 | R28: 70000000 | S28: 90000000
B29: 10 | C29: Phí bảo trì 2% giá bán căn hộ ước tính (không bao gồm VAT) | E29: 0.02 | F29: =F27*2% -> 39710548 | H29: Kinh phí bảo trì đóng khi nhận nhà
B30: 11 | C30: Miễn phí 2 năm phí quản lý chung cư | F30: =F14*19000*24 -> 18650400 | H30: Giá thực mua (không phải đóng 1 năm phí quản lý)
B31: ※Không bao gồm phí phát hành sổ hồng
B32: STT | C32: Tiến độ thanh toán | D32: Tỷ lệ thanh toán | E32: Ngày dự kiến thanh toán | F32: Tổng số tiền thanh toán các đợt theo tiến độ
B33: Đặt cọc | C33: Khi ký Đơn đăng ký giữ chỗ | D33: 100 triệu | F33: 100000000
B34: Lần 2 | C34: Khi ký HĐMB (20 ngày kể từ ngày ký đơn ĐKGC) | D34: 20% giá bán căn hộ (đã bao gồm VAT) | F34: =F26*20%-F33 -> 335626600
B35: Lần 3 | C35: Trong vòng 30 ngày, kể từ ngày ký HĐMB | D35: 10% giá bán căn hộ (đã bao gồm VAT) | F35: =F26*10% -> 217813300
B36: Lần 4 | C36: Trong vòng 60 ngày, kể từ ngày ký HĐMB | D36: 10% giá bán căn hộ (đã bao gồm VAT) | F36: =F26*10% -> 217813300
B37: Lần 5 | C37: Trong vòng 90 ngày, kể từ ngày ký HĐMB | D37: 10% giá bán căn hộ (đã bao gồm VAT) | F37: =F26*10% -> 217813300
B38: Lần 6 | C38: Vào ngày bàn giao căn hộ - Dự kiến Quý II/2024 | D38: 45% giá bán căn hộ (đã bao gồm VAT), và phí bảo trì: 2% giá trị căn hộ | F38: =F26*45%+F29 -> 1.0198704e+09
B39: Lần 7 | C39: Khi cấp sổ hồng - Dự kiến Tháng 8/2024 | D39: 5% giá bán căn hộ (đã bao gồm VAT) | F39: =F26*5% -> 108906650
B40: TỔNG/TOTAL | F40: =SUM(F33:F39) -> 2.2178435e+09 | H40: Tổng giá mua đã bao gồm 2% KPBT
F42: 4060231077

Sheet Sheet2
A2: STT | B2: Mã căn hộ | C2: Diện tích tim tường (m2) | D2: Diện tích thông thủy (m2) | E2: Diện tích sân vườn ở tầng 5 (m2) | F2: Loại căn hộ | G2: Bảng giá | H2: Tặng vàng | I2: Tặng chuyến du lịch Nhật Bản | J2: Loại | K2: 1PN | L2: 2PN | M2: 3PN
A3: 01 | B3: 501 | C3: 81.97 | D3: 73.4 | F3: B-5 | G3: ='Bảng Giá CT1_TÒA BẮC'!B112 -> 0 | H3: 105000000 | I3: 40000000 | J3: 2PN | K3: 3 | L3: 5 | M3: 8
A4: 02 | B4: 502 | C4: 81.54 | D4: 74.3 | F4: B-4 | G4: ='Bảng Giá CT1_TÒA BẮC'!C112 -> 0 | H4: 105000000 | I4: 40000000 | J4: 2PN
A5: 03 | B5: 503 | C5: 78.72 | D5: 72 | F5: B-7 | G5: ='Bảng Giá CT1_TÒA BẮC'!D112 -> 0 | H5: 105000000 | I5: 40000000 | J5: 2PN
A6: 04 | B6: 504 | C6: 109.67 | D6: 99.58 | F6: A-1 | G6: ='Bảng Giá CT1_TÒA BẮC'!E112 -> 0 | H6: 140000000 | I6: 40000000 | J6: 3PN
A7: 05 | B7: 505 | C7: 50.99 | D7: 45.8 | F7: C-2 | G7: ='Bảng Giá CT1_TÒA BẮC'!F112 -> 0 | H7: 70000000 | I7: 40000000 | J7: 1PN
A8: 06 | B8: 506 | C8: 78.11 | D8: 70.7 | F8: B-6 | G8: ='Bảng Giá CT1_TÒA BẮC'!G112 -> 0 | H8: 105000000 | I8: 40000000 | J8: 2PN
A9: 07 | B9: 507 | C9: 82.18 | D9: 74.4 | F9: B 2-1 | G9: ='Bảng Giá CT1_TÒA BẮC'!H112 -> 0 | H9: 105000000 | I9: 40000000 | J9: 2PN
A10: 08 | B10: 508 | C10: 82.18 | D10: 74.4 | F10: B 2-1 | G10: ='Bảng Giá CT1_TÒA BẮC'!I112 -> 0 | H10: 105000000 | I10: 40000000 | J10: 2PN
A11: 09 | B11: 509 | C11: 82.18 | D11: 74.4 | F11: B 2-1 | G11: ='Bảng Giá CT1_TÒA BẮC'!J112 -> 0 | H11: 105000000 | I11: 40000000 | J11: 2PN
A12: 10 | B12: 510 | C12: 82.24 | D12: 74.5 | F12: B 2-2 | G12: ='Bảng Giá CT1_TÒA BẮC'!K112 -> 0 | H12: 105000000 | I12: 40000000 | J12: 2PN
A13: 11 | B13: 511 | C13: 83.24 | D13: 74.7 | F13: B 2-3 | G13: ='Bảng Giá CT1_TÒA BẮC'!L112 -> 0 | H13: 105000000 | I13: 40000000 | J13: 2PN
A14: 12 | B14: 512A | C14: 87.87 | D14: 80.8 | F14: B-1 | G14: ='Bảng Giá CT1_TÒA BẮC'!M112 -> 0 | H14: 105000000 | I14: 40000000 | J14: 2PN
A15: 13 | B15: 512B | C15: 107.58 | D15: 97.1 | F15: A 3-1 | G15: ='Bảng Giá CT1_TÒA BẮC'!N112 -> 0 | H15: 140000000 | I15: 40000000 | J15: 3PN
A16: 14 | B16: 514 | C16: 96.86 | D16: 88.1 | E16: 71 | F16: B-8 | G16: ='Bảng Giá CT1_TÒA BẮC'!O112 -> 0 | H16: 105000000 | I16: 40000000 | J16: 2PN
A17: 15 | B17: 515 | C17: 84.24 | D17: 76.46 | E17: 83.9 | F17: B-3 | G17: ='Bảng Giá CT1_TÒA BẮC'!P112 -> 0 | H17: 105000000 | I17: 40000000 | J17: 2PN
A18: 16 | B18: 516 | C18: 84.24 | D18: 76.46 | E18: 83.9 | F18: B-3 | G18: ='Bảng Giá CT1_TÒA BẮC'!Q112 -> 0 | H18: 105000000 | I18: 40000000 | J18: 2PN
A19: 17 | B19: 517 | C19: 84.24 | D19: 76.46 | E19: 83.9 | F19: B-3 | G19: ='Bảng Giá CT1_TÒA BẮC'!R112 -> 0 | H19: 105000000 | I19: 40000000 | J19: 2PN
A20: 18 | B20: 518 | C20: 51.47 | D20: 46 | E20: 52.2 | F20: C-1 | G20: ='Bảng Giá CT1_TÒA BẮC'!S112 -> 0 | H20: 70000000 | I20: 40000000 | J20: 1PN
A21: 19 | B21: 519 | C21: 45.73 | D21: 40.9 | E21: 16.5 | F21: C-3 | G21: ='Bảng Giá CT1_TÒA BẮC'!T112 -> 0 | H21: 70000000 | I21: 40000000 | J21: 1PN
A22: 20 | B22: 520 | C22: 73.8 | D22: 66.1 | E22: 9.2 | F22: B-9 | G22: ='Bảng Giá CT1_TÒA BẮC'!U112 -> 0 | H22: 105000000 | I22: 40000000 | J22: 2PN
A23: 21 | B23: 521 | C23: 121.16 | D23: 111.3 | F23: A 2-1 | G23: ='Bảng Giá CT1_TÒA BẮC'!V112 -> 0 | H23: 140000000 | I23: 40000000 | J23: 3PN
A24: 22 | B24: 601 | C24: 81.97 | D24: 73.4 | F24: B-5 | G24: ='Bảng Giá CT1_TÒA BẮC'!B107 -> 4105200000 | H24: 105000000 | I24: 40000000 | J24: 2PN
A25: 23 | B25: 602 | C25: 81.54 | D25: 74.3 | F25: B-4 | G25: ='Bảng Giá CT1_TÒA BẮC'!C107 -> 4150600000 | H25: 105000000 | I25: 40000000 | J25: 2PN
A26: 24 | B26: 603 | C26: 78.72 | D26: 72 | F26: B-7 | G26: ='Bảng Giá CT1_TÒA BẮC'!D107 -> 4034400000 | H26: 105000000 | I26: 40000000 | J26: 2PN
A27: 25 | B27: 604 | C27: 109.67 | D27: 99.58 | F27: A-1 | G27: ='Bảng Giá CT1_TÒA BẮC'!E107 -> 5379100000 | H27: 105000000 | I27: 40000000 | J27: 3PN
A28: 26 | B28: 605 | C28: 50.99 | D28: 45.8 | F28: C-2 | G28: ='Bảng Giá CT1_TÒA BẮC'!F107 -> 2655600000 | H28: 35000000 | I28: 40000000 | J28: 1PN
A29: 27 | B29: 606 | C29: 78.11 | D29: 70.7 | F29: B-6 | G29: ='Bảng Giá CT1_TÒA BẮC'!G107 -> 3968300000 | H29: 105000000 | I29: 40000000 | J29: 2PN
A30: 28 | B30: 607 | C30: 82.18 | D30: 74.4 | F30: B 2-1 | G30: ='Bảng Giá CT1_TÒA BẮC'!H107 -> 4155800000 | H30: 105000000 | I30: 40000000 | J30: 2PN
A31: 29 | B31: 608 | C31: 82.18 | D31: 74.4 | F31: B 2-1 | G31: ='Bảng Giá CT1_TÒA BẮC'!I107 -> 4155800000 | H31: 105000000 | I31: 40000000 | J31: 2PN
A32: 30 | B32: 609 | C32: 82.18 | D32: 74.4 | F32: B 2-1 | G32: ='Bảng Giá CT1_TÒA BẮC'!J107 -> 4155800000 | H32: 105000000 | I32: 40000000 | J32: 2PN
A33: 31 | B33: 610 | C33: 82.24 | D33: 74.5 | F33: B 2-2 | G33: ='Bảng Giá CT1_TÒA BẮC'!K107 -> 4160800000 | H33: 105000000 | I33: 40000000 | J33: 2PN
A34: 32 | B34: 611 | C34: 83.24 | D34: 74.7 | F34: B 2-3 | G34: ='Bảng Giá CT1_TÒA BẮC'!L107 -> 4170800000 | H34: 105000000 | I34: 40000000 | J34: 2PN
A35: 33 | B35: 612A | C35: 87.87 | D35: 80.8 | F35: B-1 | G35: ='Bảng Giá CT1_TÒA BẮC'!M107 -> 4475200000 | H35: 105000000 | I35: 40000000 | J35: 2PN
A36: 34 | B36: 612B | C36: 107.58 | D36: 97.1 | F36: A 3-1 | G36: ='Bảng Giá CT1_TÒA BẮC'!N107 -> 5262600000 | H36: 105000000 | I36: 40000000 | J36: 3PN
A37: 35 | B37: 614 | C37: 96.86 | D37: 88.1 | F37: B-8 | G37: ='Bảng Giá CT1_TÒA BẮC'!O107 -> 4827700000 | H37: 105000000 | I37: 40000000 | J37: 2PN
A38: 36 | B38: 615 | C38: 84.24 | D38: 76.46 | F38: B-3 | G38: ='Bảng Giá CT1_TÒA BẮC'!P107 -> 4266200000 | H38: 105000000 | I38: 40000000 | J38: 2PN
A39: 37 | B39: 616 | C39: 84.24 | D39: 76.46 | F39: B-3 | G39: ='Bảng Giá CT1_TÒA BẮC'!Q107 -> 4266200000 | H39: 105000000 | I39: 40000000 | J39: 2PN
A40: 38 | B40: 617 | C40: 84.24 | D40: 76.46 | F40: B-3 | G40: ='Bảng Giá CT1_TÒA BẮC'!R107 -> 4271200000 | H40: 105000000 | I40: 40000000 | J40: 2PN
A41: 39 | B41: 618 | C41: 51.47 | D41: 46 | F41: C-1 | G41: ='Bảng Giá CT1_TÒA BẮC'!S107 -> 2666500000 | H41: 35000000 | I41: 40000000 | J41: 1PN
A42: 40 | B42: 619 | C42: 45.73 | D42: 40.9 | F42: C-3 | G42: ='Bảng Giá CT1_TÒA BẮC'!T107 -> 2358900000 | H42: 35000000 | I42: 40000000 | J42: 1PN
A43: 41 | B43: 620 | C43: 73.8 | D43: 66.1 | F43: B-9 | G43: ='Bảng Giá CT1_TÒA BẮC'!U107 -> 3732600000 | H43: 105000000 | I43: 40000000 | J43: 2PN
A44: 42 | B44: 621 | C44: 121.16 | D44: 111.3 | F44: A 2-1 | G44: ='Bảng Giá CT1_TÒA BẮC'!V107 -> 5918100000 | H44: 105000000 | I44: 40000000 | J44: 3PN
A45: 43 | B45: 701 | C45: 81.97 | D45: 73.4 | F45: B-5 | G45: ='Bảng Giá CT1_TÒA BẮC'!B102 -> 0 | H45: 105000000 | I45: 40000000 | J45: 2PN
A46: 44 | B46: 702 | C46: 81.54 | D46: 74.3 | F46: B-4 | G46: ='Bảng Giá CT1_TÒA BẮC'!C102 -> 0 | H46: 105000000 | I46: 40000000 | J46: 2PN
A47: 45 | B47: 703 | C47: 78.72 | D47: 72 | F47: B-7 | G47: ='Bảng Giá CT1_TÒA BẮC'!D102 -> 0 | H47: 105000000 | I47: 40000000 | J47: 2PN
A48: 46 | B48: 704 | C48: 109.67 | D48: 99.58 | F48: A-1 | G48: ='Bảng Giá CT1_TÒA BẮC'!E102 -> 0 | H48: 140000000 | I48: 40000000 | J48: 3PN
A49: 47 | B49: 705 | C49: 50.99 | D49: 45.8 | F49: C-2 | G49: ='Bảng Giá CT1_TÒA BẮC'!F102 -> 0 | H49: 70000000 | I49: 40000000 | J49: 1PN
A50: 48 | B50: 706 | C50: 78.11 | D50: 70.7 | F50: B-6 | G50: ='Bảng Giá CT1_TÒA BẮC'!G102 -> 0 | H50: 105000000 | I50: 40000000 | J50: 2PN
A51: 49 | B51: 707 | C51: 82.18 | D51: 74.4 | F51: B 2-1 | G51: ='Bảng Giá CT1_TÒA BẮC'!H102 -> 0 | H51: 105000000 | I51: 40000000 | J51: 2PN
A52: 50 | B52: 708 | C52: 82.18 | D52: 74.4 | F52: B 2-1 | G52: ='Bảng Giá CT1_TÒA BẮC'!I102 -> 0 | H52: 105000000 | I52: 40000000 | J52: 2PN
A53: 51 | B53: 709 | C53: 82.18 | D53: 74.4 | F53: B 2-1 | G53: ='Bảng Giá CT1_TÒA BẮC'!J102 -> 0 | H53: 105000000 | I53: 40000000 | J53: 2PN
A54: 52 | B54: 710 | C54: 82.24 | D54: 74.5 | F54: B 2-2 | G54: ='Bảng Giá CT1_TÒA BẮC'!K102 -> 0 | H54: 105000000 | I54: 40000000 | J54: 2PN
A55: 53 | B55: 711 | C55: 83.24 | D55: 74.7 | F55: B 2-3 | G55: ='Bảng Giá CT1_TÒA BẮC'!L102 -> 0 | H55: 105000000 | I55: 40000000 | J55: 2PN
A56: 54 | B56: 712A | C56: 87.87 | D56: 80.8 | F56: B-1 | G56: ='Bảng Giá CT1_TÒA BẮC'!M102 -> 0 | H56: 105000000 | I56: 40000000 | J56: 2PN
A57: 55 | B57: 712B | C57: 107.58 | D57: 97.1 | F57: A 3-1 | G57: ='Bảng Giá CT1_TÒA BẮC'!N102 -> 0 | H57: 140000000 | I57: 40000000 | J57: 3PN
A58: 56 | B58: 714 | C58: 96.86 | D58: 88.1 | F58: B-8 | G58: ='Bảng Giá CT1_TÒA BẮC'!O102 -> 0 | H58: 105000000 | I58: 40000000 | J58: 2PN
A59: 57 | B59: 715 | C59: 84.24 | D59: 76.46 | F59: B-3 | G59: ='Bảng Giá CT1_TÒA BẮC'!P102 -> 0 | H59: 105000000 | I59: 40000000 | J59: 2PN
A60: 58 | B60: 716 | C60: 84.24 | D60: 76.46 | F60: B-3 | G60: ='Bảng Giá CT1_TÒA BẮC'!Q102 -> 0 | H60: 105000000 | I60: 40000000 | J60: 2PN
A61: 59 | B61: 717 | C61: 84.24 | D61: 76.46 | F61: B-3 | G61: ='Bảng Giá CT1_TÒA BẮC'!R102 -> 0 | H61: 105000000 | I61: 40000000 | J61: 2PN
A62: 60 | B62: 718 | C62: 51.47 | D62: 46 | F62: C-1 | G62: ='Bảng Giá CT1_TÒA BẮC'!S102 -> 0 | H62: 70000000 | I62: 40000000 | J62: 1PN
A63: 61 | B63: 719 | C63: 45.73 | D63: 40.9 | F63: C-3 | G63: ='Bảng Giá CT1_TÒA BẮC'!T102 -> 0 | H63: 70000000 | I63: 40000000 | J63: 1PN
A64: 62 | B64: 720 | C64: 73.8 | D64: 66.1 | F64: B-9 | G64: ='Bảng Giá CT1_TÒA BẮC'!U102 -> 0 | H64: 105000000 | I64: 40000000 | J64: 2PN
A65: 63 | B65: 721 | C65: 121.16 | D65: 111.3 | F65: A 2-1 | G65: ='Bảng Giá CT1_TÒA BẮC'!V102 -> 0 | H65: 140000000 | I65: 40000000 | J65: 3PN
A66: 64 | B66: 801 | C66: 81.97 | D66: 73.4 | F66: B-5 | G66: ='Bảng Giá CT1_TÒA BẮC'!B97 -> 0 | H66: 105000000 | I66: 40000000 | J66: 2PN
A67: 65 | B67: 802 | C67: 81.54 | D67: 74.3 | F67: B-4 | G67: ='Bảng Giá CT1_TÒA BẮC'!C97 -> 0 | H67: 105000000 | I67: 40000000 | J67: 2PN
A68: 66 | B68: 803 | C68: 78.72 | D68: 72 | F68: B-7 | G68: ='Bảng Giá CT1_TÒA BẮC'!D97 -> 0 | H68: 105000000 | I68: 40000000 | J68: 2PN
A69: 67 | B69: 804 | C69: 109.67 | D69: 99.58 | F69: A-1 | G69: ='Bảng Giá CT1_TÒA BẮC'!E97 -> 0 | H69: 140000000 | I69: 40000000 | J69: 3PN
A70: 68 | B70: 805 | C70: 50.99 | D70: 45.8 | F70: C-2 | G70: ='Bảng Giá CT1_TÒA BẮC'!F97 -> 0 | H70: 70000000 | I70: 40000000 | J70: 1PN
A71: 69 | B71: 806 | C71: 78.11 | D71: 70.7 | F71: B-6 | G71: ='Bảng Giá CT1_TÒA BẮC'!G97 -> 0 | H71: 105000000 | I71: 40000000 | J71: 2PN
A72: 70 | B72: 807 | C72: 82.18 | D72: 74.4 | F72: B 2-1 | G72: ='Bảng Giá CT1_TÒA BẮC'!H97 -> 0 | H72: 105000000 | I72: 40000000 | J72: 2PN
A73: 71 | B73: 808 | C73: 82.18 | D73: 74.4 | F73: B 2-1 | G73: ='Bảng Giá CT1_TÒA BẮC'!I97 -> 0 | H73: 105000000 | I73: 40000000 | J73: 2PN
A74: 72 | B74: 809 | C74: 82.18 | D74: 74.4 | F74: B 2-1 | G74: ='Bảng Giá CT1_TÒA BẮC'!J97 -> 0 | H74: 105000000 | I74: 40000000 | J74: 2PN
A75: 73 | B75: 810 | C75: 82.24 | D75: 74.5 | F75: B 2-2 | G75: ='Bảng Giá CT1_TÒA BẮC'!K97 -> 0 | H75: 105000000 | I75: 40000000 | J75: 2PN
A76: 74 | B76: 811 | C76: 83.24 | D76: 74.7 | F76: B 2-3 | G76: ='Bảng Giá CT1_TÒA BẮC'!L97 -> 0 | H76: 105000000 | I76: 40000000 | J76: 2PN
A77: 75 | B77: 812A | C77: 87.87 | D77: 80.8 | F77: B-1 | G77: ='Bảng Giá CT1_TÒA BẮC'!M97 -> 0 | H77: 105000000 | I77: 40000000 | J77: 2PN
A78: 76 | B78: 812B | C78: 107.58 | D78: 97.1 | F78: A 3-1 | G78: ='Bảng Giá CT1_TÒA BẮC'!N97 -> 0 | H78: 140000000 | I78: 40000000 | J78: 3PN
A79: 77 | B79: 814 | C79: 96.86 | D79: 88.1 | F79: B-8 | G79: ='Bảng Giá CT1_TÒA BẮC'!O97 -> 0 | H79: 105000000 | I79: 40000000 | J79: 2PN
A80: 78 | B80: 815 | C80: 84.24 | D80: 76.46 | F80: B-3 | G80: ='Bảng Giá CT1_TÒA BẮC'!P97 -> 0 | H80: 105000000 | I80: 40000000 | J80: 2PN
A81: 79 | B81: 816 | C81: 84.24 | D81: 76.46 | F81: B-3 | G81: ='Bảng Giá CT1_TÒA BẮC'!Q97 -> 0 | H81: 105000000 | I81: 40000000 | J81: 2PN
A82: 80 | B82: 817 | C82: 84.24 | D82: 76.46 | F82: B-3 | G82: ='Bảng Giá CT1_TÒA BẮC'!R97 -> 0 | H82: 105000000 | I82: 40000000 | J82: 2PN
A83: 81 | B83: 818 | C83: 51.47 | D83: 46 | F83: C-1 | G83: ='Bảng Giá CT1_TÒA BẮC'!S97 -> 0 | H83: 70000000 | I83: 40000000 | J83: 1PN
A84: 82 | B84: 819 | C84: 45.73 | D84: 40.9 | F84: C-3 | G84: ='Bảng Giá CT1_TÒA BẮC'!T97 -> 0 | H84: 70000000 | I84: 40000000 | J84: 1PN
A85: 83 | B85: 820 | C85: 73.8 | D85: 66.1 | F85: B-9 | G85: ='Bảng Giá CT1_TÒA BẮC'!U97 -> 0 | H85: 105000000 | I85: 40000000 | J85: 2PN
A86: 84 | B86: 821 | C86: 121.16 | D86: 111.3 | F86: A 2-1 | G86: ='Bảng Giá CT1_TÒA BẮC'!V97 -> 0 | H86: 140000000 | I86: 40000000 | J86: 3PN
A87: 85 | B87: 901 | C87: 81.97 | D87: 73.4 | F87: B-5 | G87: ='Bảng Giá CT1_TÒA BẮC'!B92 -> 0 | H87: 105000000 | I87: 40000000 | J87: 2PN
A88: 86 | B88: 902 | C88: 81.54 | D88: 74.3 | F88: B-4 | G88: ='Bảng Giá CT1_TÒA BẮC'!C92 -> 0 | H88: 105000000 | I88: 40000000 | J88: 2PN
A89: 87 | B89: 903 | C89: 78.72 | D89: 72 | F89: B-7 | G89: ='Bảng Giá CT1_TÒA BẮC'!D92 -> 0 | H89: 105000000 | I89: 40000000 | J89: 2PN
A90: 88 | B90: 904 | C90: 109.67 | D90: 99.58 | F90: A-1 | G90: ='Bảng Giá CT1_TÒA BẮC'!E92 -> 0 | H90: 140000000 | I90: 40000000 | J90: 3PN
A91: 89 | B91: 905 | C91: 50.99 | D91: 45.8 | F91: C-2 | G91: ='Bảng Giá CT1_TÒA BẮC'!F92 -> 0 | H91: 70000000 | I91: 40000000 | J91: 1PN
A92: 90 | B92: 906 | C92: 78.11 | D92: 70.7 | F92: B-6 | G92: ='Bảng Giá CT1_TÒA BẮC'!G92 -> 0 | H92: 105000000 | I92: 40000000 | J92: 2PN
A93: 91 | B93: 907 | C93: 82.18 | D93: 74.4 | F93: B 2-1 | G93: ='Bảng Giá CT1_TÒA BẮC'!H92 -> 0 | H93: 105000000 | I93: 40000000 | J93: 2PN
A94: 92 | B94: 908 | C94: 82.18 | D94: 74.4 | F94: B 2-1 | G94: ='Bảng Giá CT1_TÒA BẮC'!I92 -> 0 | H94: 105000000 | I94: 40000000 | J94: 2PN
A95: 93 | B95: 909 | C95: 82.18 | D95: 74.4 | F95: B 2-1 | G95: ='Bảng Giá CT1_TÒA BẮC'!J92 -> 0 | H95: 105000000 | I95: 40000000 | J95: 2PN
A96: 94 | B96: 910 | C96: 82.24 | D96: 74.5 | F96: B 2-2 | G96: ='Bảng Giá CT1_TÒA BẮC'!K92 -> 0 | H96: 105000000 | I96: 40000000 | J96: 2PN
A97: 95 | B97: 911 | C97: 83.24 | D97: 74.7 | F97: B 2-3 | G97: ='Bảng Giá CT1_TÒA BẮC'!L92 -> 0 | H97: 105000000 | I97: 40000000 | J97: 2PN
A98: 96 | B98: 912A | C98: 87.87 | D98: 80.8 | F98: B-1 | G98: ='Bảng Giá CT1_TÒA BẮC'!M92 -> 0 | H98: 105000000 | I98: 40000000 | J98: 2PN
A99: 97 | B99: 912B | C99: 107.58 | D99: 97.1 | F99: A 3-1 | G99: ='Bảng Giá CT1_TÒA BẮC'!N92 -> 0 | H99: 140000000 | I99: 40000000 | J99: 3PN
A100: 98 | B100: 914 | C100: 96.86 | D100: 88.1 | F100: B-8 | G100: ='Bảng Giá CT1_TÒA BẮC'!O92 -> 0 | H100: 105000000 | I100: 40000000 | J100: 2PN
A101: 99 | B101: 915 | C101: 84.24 | D101: 76.46 | F101: B-3 | G101: ='Bảng Giá CT1_TÒA BẮC'!P92 -> 0 | H101: 105000000 | I101: 40000000 | J101: 2PN
...

Sheet VAY 24 Tháng
B1: MINATO VIET NAM CO,.LTD
C3: PHIẾU TÍNH GIÁ THE MINATO RESIDENCE
C5: Thời gian áp dụng: Từ ngày 10/02/2023 đến 10/05/2023
C7: Nhóm khách hàng: | F7: Cá nhân
C8: Tòa nhà: | F8: CT1
B9: KHÁCH HÀNG CHỌN GÓI HỖ TRỢ VAY ƯU ĐÃI 0% LÃI SUẤT 24 THÁNG
B10: 1 | C10: Họ và tên khách hàng
B11: 2 | C11: Ký hiệu căn hộ số | F11: 1920 | H11: THỦ TỤC ĐIỀN
B12: 3 | C12: Tầng | F12: =IF(LEFT(F11,3)="12A","12A",IF(LEFT(F11,3)="12B","12B",IF(LEFT(F11,3)="22A","22A",IF(LEFT(F11,3)="22B","22B",IF(LEN(F11)=5,LEFT(F11,2),IF(AND(LEN(F11)=4,VALUE(LEFT(F11,3))>500),LEFT(F11,1),IF(AND(LEN(F11)=4,VALUE(LEFT(F11,3))<500),LEFT(F11,2),LEFT(F11,1)))))))) -> 19
B13: 4 | C13: Diện tích sàn xây dựng (m2) | F13: =VLOOKUP(F11,Sheet2!B3:E464,2,0) -> 73.8
B14: 5 | C14: Diện tích sử dụng (m2) | F14: =VLOOKUP(F11,Sheet2!B4:E464,3,0) -> 66.1
B15: 6 | C15: Loại căn hộ | F15: =VLOOKUP(F11,Sheet2!B3:F464,5,0) -> B-9
C16: Loại | F16: =VLOOKUP(F11,Sheet2!B3:J464,9,0) -> 2PN
B17: 7 | C17: Tổng giá trị căn hộ (đã bao gồm VAT) | F17: =VLOOKUP(F11,Sheet2!B3:G464,6,0) -> 3985700000 | H17: Giá gốc chưa bao gồm chính sách
B18: 7.1 | C18: Giá bán thuần | F18: =(((F17-(1454064*F14))/1.1+(1454064*F14))) -> 3.6321012e+09
B19: 7.2 | C19: Thuế GTGT | F19: =F17-F18 -> 3.5359876e+08
B20: 8 | C20: CHÍNH SÁCH BÁN HÀNG: | F20: =F23 -> 0 | H20: Tổng giảm trừ trực tiếp vào giá | U20: 1PN | V20: 2PN | W20: 3PN
B21: 8.1 | C21: HTLS 0% trong vòng 24 tháng | F21: =Q35 -> 3.6730409e+08 | T21: 1 | U21: 0 | V21: 0 | W21: 0
B22: 8.2 | C22: Tổng số lượng căn hộ đã ký Đơn đăng ký giữ chỗ | F22: 1 | H22: THỦ TỤC ĐIỀN NẾU KHÁCH MUA NHIỀU CĂN | T22: 2 | U22: 20000000 | V22: 20000000 | W22: 25000000
B23: 8.3 | C23: Chiết khấu khi mua nhiều căn hộ | F23: =IF(F16="1PN",VLOOKUP(F22,T20:U27,2,0),IF(F16="2PN",VLOOKUP(F22,T20:V27,3,0),IF(F16="3PN",VLOOKUP(F22,T20:W27,4,0)))) -> 0 | T23: 3 | U23: 35000000 | V23: 35000000 | W23: 45000000
B24: 9 | C24: Tổng giá bán căn hộ sau chiết khấu (đã bao gồm VAT) | F24: =F17-F20 -> 3985700000 | H24: Giá trên Hợp đồng mua bán | T24: 4 | U24: 50000000 | V24: 50000000 | W24: 70000000
B25: 10 | C25: Miễn phí 2 năm phí quản lý chung cư | F25: =F14*19000*24 -> 30141600 | J25: BẢNG TÍNH LÃI VAY DỰ KIẾN | T25: 5 | U25: 70000000 | V25: 70000000 | W25: 90000000
B26: ※Không bao gồm phí phát hành sổ hồng | T26: 6 | U26: 70000000 | V26: 70000000 | W26: 90000000
B27: STT/ No. | C27: Tiến độ thanh toán | D27: Tỷ lệ thanh toán | E27: Ngày dự kiến thanh toán | F27: Tổng số tiền thanh toán các đợt theo tiến độ | J27: Dự kiến thời gian | K27: Khách hàng thanh toán | M27: Ngân hàng giải ngân | O27: Lũy kế VTC | P27: Lũy kế vốn vay | Q27: Tổng lãi suất 1 kỳ | R27: Số tháng được HTLS | T27: 7 | U27: 70000000 | V27: 70000000 | W27: 90000000
B28: Đặt cọc | C28: Khi ký Đơn đăng ký giữ chỗ | D28: 100 triệu | F28: 100000000 | H28: Khách hàng nộp tiền mặt | K28: 100000000 | O28: =K28 -> 100000000 | P28: =M28 -> 0
B29: Lần 2 | C29: Khi ký HĐMB (20 ngày kể từ ngày ký đơn ĐKGC) | D29: 20% giá bán căn hộ (đã bao gồm VAT) | F29: =F24*20%-F28 -> 697140000 | H29: =F28+F29 -> 797140000 | J29: Tháng 2.2023 | K29: =F29 -> 697140000 | L29: 0.2 | O29: =O28+K29 -> 797140000 | P29: =P28+M29 -> 0
B30: Lần 3 | C30: Trong vòng 30 ngày, kể từ ngày ký HĐMB | D30: 10% giá bán căn hộ (đã bao gồm VAT) | F30: =F24*10% -> 398570000 | J30: 01/03/2023 | M30: =F30 -> 398570000 | N30: 0.1 | O30: =O29+K30 -> 797140000 | P30: =P29+M30 -> 398570000 | Q30: ='Tính lãi suất vay '!F27 -> 73495216 | R30: 22
B31: Lần 4 | C31: Trong vòng 60 ngày, kể từ ngày ký HĐMB | D31: 10% giá bán căn hộ (đã bao gồm VAT) | F31: =F24*10% -> 398570000 | H31: Ngân hàng giải Ngân Chốt chặn lãi suất 9%/năm | J31: 01/04/2023 | M31: =F31 -> 398570000 | N31: 0.1 | O31: =O30+K31 -> 797140000 | P31: =P30+M31 -> 797140000 | Q31: ='Tính lãi suất vay '!M26 -> 69940845 | R31: 21
B32: Lần 5 | C32: Trong vòng 90 ngày, kể từ ngày ký HĐMB | D32: 10% giá bán căn hộ (đã bao gồm VAT) | F32: =F24*10% -> 398570000 | J32: 01/05/2023 | M32: =F32 -> 398570000 | N32: 0.1 | O32: =O31+K32 -> 797140000 | P32: =P31+M32 -> 1195710000 | Q32: ='Tính lãi suất vay '!T25 -> 66501132 | R32: 20
B33: Lần 6 | C33: Vào ngày bàn giao căn hộ - Dự kiến Quý II/2024 | D33: (1) 45% giá bán căn hộ (đã bao gồm VAT) | F33: =F24*45% -> 1793565000 | H33: Ngân hàng giải Ngân 40% Chốt chặn lãi suất 9%/năm Khách nộp 5% và 2% kinh phí bảo trì | J33: Dự kiến quý II/2024 | K33: =F24*L33 -> 199285000 | L33: 0.05 | M33: =F24*N33 -> 1594280000 | N33: =45%-L33 -> 0.4 | O33: =O32+K33 -> 996425000 | P33: =P32+M33 -> 2789990000 | Q33: ='Tính lãi suất vay '!AA12 -> 1.573669e+08 | R33: 9
D34: (2) Phí bảo trì: 2% giá trị căn hộ | F34: =F18*2% -> 72642025 | J34: Dự kiến quý III/2024 | K34: =F24*L34 -> 199285000 | L34: 0.05 | O34: =O33+K34 -> 1195710000
D35: Tổng số tiền nộp lần 2 = (1) + (2) | F35: =F33+F34 -> 1.866207e+09 | K35: =SUM(K28:K34) -> 1195710000 | L35: =SUM(L28:L34) -> 0.3 | M35: =SUM(M28:M34) -> 2789990000 | N35: =SUM(N28:N34) -> 0.7 | Q35: =SUM(Q30:Q33) -> 3.6730409e+08
B36: Lần 7 | C36: Khi cấp sổ hồng - Dự kiến Tháng 8/2024 | D36: 5% giá bán căn hộ (đã bao gồm VAT) | F36: =F24*5% -> 199285000 | H36: Khách nộp tiền mặt | J36: TỔNG | K36: =K35+M35 -> 3985700000 | L36: =L35+N35 -> 1 | M36: Bằng HĐMB
B37: TỔNG/TOTAL | F37: =F28+F29+F30+F31+F32+F35+F36 -> 4.058342e+09 | H37: Tổng giá mua đã bao gồmVAT và 2% KPBT

Sheet Tính lãi suất vay 
A1: LD 01 (THANH TOÁN ĐỢT 3 - 10%) | H1: LD 02 (THANH TOÁN ĐỢT 4 - 10%) | O1: LD 03 (THANH TOÁN ĐỢT 5 - 10%) | V1: LD 04 (THANH TOÁN ĐỢT 6 - 45%)
A2: STT | B2: NGÀY | C2: SỐ NGÀY | D2: DƯ NỢ GỐC | E2: GỐC PHẢI TRẢ | F2: LÃI SUẤT 10,5%/NĂM TRONG 24 THÁNG | H2: STT | I2: NGÀY | J2: SỐ NGÀY | K2: DƯ NỢ GỐC | L2: GỐC PHẢI TRẢ | M2: LÃI SUẤT 10.5%/NĂM TRONG 24 THÁNG | O2: STT | P2: NGÀY | Q2: SỐ NGÀY | R2: DƯ NỢ GỐC | S2: GỐC PHẢI TRẢ | T2: LÃI SUẤT 10.5%/NĂM TRONG 24 THÁNG | V2: STT | W2: NGÀY | X2: SỐ NGÀY | Y2: DƯ NỢ GỐC | Z2: GỐC PHẢI TRẢ | AA2: LÃI SUẤT 10.5%/NĂM TRONG 24 THÁNG
A3: 1 | B3: 01/03/2023 | C3: 0 | D3: ='VAY 24 Tháng'!F30 -> 398570000 | E3: 0 | H3: 1 | I3: 01/04/2023 | J3: 0 | K3: ='VAY 24 Tháng'!F30 -> 398570000 | L3: 0 | O3: 1 | P3: 01/5/2023 | Q3: 0 | R3: ='VAY 24 Tháng'!F30 -> 398570000 | S3: 0 | V3: 1 | W3: 45383 | X3: 0 | Y3: ='VAY 24 Tháng'!F33 -> 1793565000 | Z3: 0
A4: 2 | B4: 01/04/2023 | C4: =+B4-B3 -> 31 | D4: =+D3 -> 398570000 | E4: 0 | F4: =+D4*10.5%/365*C4 -> 3554370.8 | H4: 2 | I4: 01/05/2023 | J4: =+I4-I3 -> 30 | K4: =+K3 -> 398570000 | L4: 0 | M4: =+K4*10.5%/365*J4 -> 3439713.7 | O4: 2 | P4: 01/06/2023 | Q4: =+P4-P3 -> 31 | R4: =+R3 -> 398570000 | S4: 0 | T4: =+R4*10.5%/365*Q4 -> 3554370.8 | V4: 2 | W4: 45413 | X4: =+W4-W3 -> 30 | Y4: =+Y3-Z3 -> 1793565000 | Z4: 0 | AA4: =+Y4*10.5%/365*X4 -> 15478712
A5: 3 | B5: 01/05/2023 | C5: =+B5-B4 -> 30 | D5: =+D4 -> 398570000 | E5: 0 | F5: =+D5*10.5%/365*C5 -> 3439713.7 | H5: 3 | I5: 01/06/2023 | J5: =+I5-I4 -> 31 | K5: =+K4 -> 398570000 | L5: 0 | M5: =+K5*10.5%/365*J5 -> 3554370.8 | O5: 3 | P5: 01/07/2023 | Q5: =+P5-P4 -> 30 | R5: =+R4 -> 398570000 | S5: 0 | T5: =+R5*10.5%/365*Q5 -> 3439713.7 | V5: 3 | W5: 45444 | X5: =+W5-W4 -> 31 | Y5: =+Y4-Z4 -> 1793565000 | Z5: 0 | AA5: =+Y5*10.5%/365*X5 -> 15994669
A6: 4 | B6: 01/06/2023 | C6: =+B6-B5 -> 31 | D6: =+D5 -> 398570000 | E6: 0 | F6: =+D6*10.5%/365*C6 -> 3554370.8 | H6: 4 | I6: 01/07/2023 | J6: =+I6-I5 -> 30 | K6: =+K5 -> 398570000 | L6: 0 | M6: =+K6*10.5%/365*J6 -> 3439713.7 | O6: 4 | P6: 01/08/2023 | Q6: =+P6-P5 -> 31 | R6: =+R5 -> 398570000 | S6: 0 | T6: =+R6*10.5%/365*Q6 -> 3554370.8 | V6: 4 | W6: 45474 | X6: =+W6-W5 -> 30 | Y6: =+Y5-Z5 -> 1793565000 | Z6: 0 | AA6: =+Y6*10.5%/365*X6 -> 15478712
A7: 5 | B7: 01/07/2023 | C7: =+B7-B6 -> 30 | D7: =+D6 -> 398570000 | E7: 0 | F7: =+D7*10.5%/365*C7 -> 3439713.7 | H7: 5 | I7: 01/08/2023 | J7: =+I7-I6 -> 31 | K7: =+K6 -> 398570000 | L7: 0 | M7: =+K7*10.5%/365*J7 -> 3554370.8 | O7: 5 | P7: 01/09/2023 | Q7: =+P7-P6 -> 31 | R7: =+R6 -> 398570000 | S7: 0 | T7: =+R7*10.5%/365*Q7 -> 3554370.8 | V7: 5 | W7: 45505 | X7: =+W7-W6 -> 31 | Y7: =+Y6-Z6 -> 1793565000 | Z7: 0 | AA7: =+Y7*10.5%/365*X7 -> 15994669
A8: 6 | B8: 01/08/2023 | C8: =+B8-B7 -> 31 | D8: =+D7 -> 398570000 | E8: 0 | F8: =+D8*10.5%/365*C8 -> 3554370.8 | H8: 6 | I8: 01/09/2023 | J8: =+I8-I7 -> 31 | K8: =+K7 -> 398570000 | L8: 0 | M8: =+K8*10.5%/365*J8 -> 3554370.8 | O8: 6 | P8: 01/10/2023 | Q8: =+P8-P7 -> 30 | R8: =+R7 -> 398570000 | S8: 0 | T8: =+R8*10.5%/365*Q8 -> 3439713.7 | V8: 6 | W8: 45536 | X8: =+W8-W7 -> 31 | Y8: =+Y7-Z7 -> 1793565000 | Z8: 0 | AA8: =+Y8*10.5%/365*X8 -> 15994669
A9: 7 | B9: 01/09/2023 | C9: =+B9-B8 -> 31 | D9: =+D8 -> 398570000 | E9: 0 | F9: =+D9*10.5%/365*C9 -> 3554370.8 | H9: 7 | I9: 01/10/2023 | J9: =+I9-I8 -> 30 | K9: =+K8 -> 398570000 | L9: 0 | M9: =+K9*10.5%/365*J9 -> 3439713.7 | O9: 7 | P9: 01/11/2023 | Q9: =+P9-P8 -> 31 | R9: =+R8 -> 398570000 | S9: 0 | T9: =+R9*10.5%/365*Q9 -> 3554370.8 | V9: 7 | W9: 45566 | X9: =+W9-W8 -> 30 | Y9: =+Y8-Z8 -> 1793565000 | Z9: 0 | AA9: =+Y9*10.5%/365*X9 -> 15478712
A10: 8 | B10: 01/10/2023 | C10: =+B10-B9 -> 30 | D10: =+D9 -> 398570000 | E10: 0 | F10: =+D10*10.5%/365*C10 -> 3439713.7 | H10: 8 | I10: 01/11/2023 | J10: =+I10-I9 -> 31 | K10: =+K9 -> 398570000 | L10: 0 | M10: =+K10*10.5%/365*J10 -> 3554370.8 | O10: 8 | P10: 01/12/2023 | Q10: =+P10-P9 -> 30 | R10: =+R9 -> 398570000 | S10: 0 | T10: =+R10*10.5%/365*Q10 -> 3439713.7 | V10: 8 | W10: 45597 | X10: =+W10-W8 -> 61 | Y10: =+Y8-Z8 -> 1793565000 | Z10: 0 | AA10: =+Y10*10.5%/365*X10 -> 31473380
A11: 9 | B11: 01/11/2023 | C11: =+B11-B10 -> 31 | D11: =+D10 -> 398570000 | E11: 0 | F11: =+D11*10.5%/365*C11 -> 3554370.8 | H11: 9 | I11: 01/12/2023 | J11: =+I11-I10 -> 30 | K11: =+K10 -> 398570000 | L11: 0 | M11: =+K11*10.5%/365*J11 -> 3439713.7 | O11: 9 | P11: 01/01/2024 | Q11: =+P11-P10 -> 31 | R11: =+R10 -> 398570000 | S11: 0 | T11: =+R11*10.5%/365*Q11 -> 3554370.8 | V11: 9 | W11: 45627 | X11: =+W11-W9 -> 61 | Y11: =+Y9-Z9 -> 1793565000 | Z11: 0 | AA11: =+Y11*10.5%/365*X11 -> 31473380
A12: 10 | B12: 01/12/2023 | C12: =+B12-B11 -> 30 | D12: =+D11 -> 398570000 | E12: 0 | F12: =+D12*10.5%/365*C12 -> 3439713.7 | H12: 10 | I12: 01/01/2024 | J12: =+I12-I11 -> 31 | K12: =+K11 -> 398570000 | L12: 0 | M12: =+K12*10.5%/365*J12 -> 3554370.8 | O12: 10 | P12: 01/02/2024 | Q12: =+P12-P11 -> 31 | R12: =+R11 -> 398570000 | S12: 0 | T12: =+R12*10.5%/365*Q12 -> 3554370.8 | AA12: =SUM(AA4:AA11) -> 1.573669e+08
A13: 11 | B13: 01/01/2024 | C13: =+B13-B12 -> 31 | D13: =+D12 -> 398570000 | E13: 0 | F13: =+D13*10.5%/365*C13 -> 3554370.8 | H13: 11 | I13: 01/02/2024 | J13: =+I13-I12 -> 31 | K13: =+K12 -> 398570000 | L13: 0 | M13: =+K13*10.5%/365*J13 -> 3554370.8 | O13: 11 | P13: 01/03/2024 | Q13: =+P13-P12 -> 29 | R13: =+R12 -> 398570000 | S13: 0 | T13: =+R13*10.5%/365*Q13 -> 3325056.6
A14: 12 | B14: 01/02/2024 | C14: =+B14-B13 -> 31 | D14: =+D13 -> 398570000 | E14: 0 | F14: =+D14*10.5%/365*C14 -> 3554370.8 | H14: 12 | I14: 01/03/2024 | J14: =+I14-I13 -> 29 | K14: =+K13 -> 398570000 | L14: 0 | M14: =+K14*10.5%/365*J14 -> 3325056.6 | O14: 12 | P14: 01/04/2024 | Q14: =+P14-P13 -> 31 | R14: =+R13 -> 398570000 | S14: 0 | T14: =+R14*10.5%/365*Q14 -> 3554370.8
A15: 13 | B15: 01/03/2024 | C15: =+B15-B14 -> 29 | D15: =+D14 -> 398570000 | E15: 0 | F15: =+D15*10.5%/365*C15 -> 3325056.6 | H15: 13 | I15: 01/04/2024 | J15: =+I15-I14 -> 31 | K15: =+K14 -> 398570000 | L15: 0 | M15: =+K15*10.5%/365*J15 -> 3554370.8 | O15: 13 | P15: 01/05/2024 | Q15: =+P15-P14 -> 30 | R15: =+R14 -> 398570000 | S15: 0 | T15: =+R15*10.5%/365*Q15 -> 3439713.7
A16: 14 | B16: 01/04/2024 | C16: =+B16-B15 -> 31 | D16: =+D15-E15 -> 398570000 | E16: 0 | F16: =+D16*10.5%/365*C16 -> 3554370.8 | H16: 14 | I16: 01/05/2024 | J16: =+I16-I15 -> 30 | K16: =+K15-L15 -> 398570000 | L16: 0 | M16: =+K16*10.5%/365*J16 -> 3439713.7 | O16: 14 | P16: 01/06/2024 | Q16: =+P16-P15 -> 31 | R16: =+R15-S15 -> 398570000 | S16: 0 | T16: =+R16*10.5%/365*Q16 -> 3554370.8
A17: 15 | B17: 01/05/2024 | C17: =+B17-B16 -> 30 | D17: =+D16-E16 -> 398570000 | E17: 0 | F17: =+D17*10.5%/365*C17 -> 3439713.7 | H17: 15 | I17: 01/06/2024 | J17: =+I17-I16 -> 31 | K17: =+K16-L16 -> 398570000 | L17: 0 | M17: =+K17*10.5%/365*J17 -> 3554370.8 | O17: 15 | P17: 01/07/2024 | Q17: =+P17-P16 -> 30 | R17: =+R16-S16 -> 398570000 | S17: 0 | T17: =+R17*10.5%/365*Q17 -> 3439713.7
A18: 16 | B18: 01/06/2024 | C18: =+B18-B17 -> 31 | D18: =+D17-E17 -> 398570000 | E18: 0 | F18: =+D18*10.5%/365*C18 -> 3554370.8 | H18: 16 | I18: 01/07/2024 | J18: =+I18-I17 -> 30 | K18: =+K17-L17 -> 398570000 | L18: 0 | M18: =+K18*10.5%/365*J18 -> 3439713.7 | O18: 16 | P18: 01/08/2024 | Q18: =+P18-P17 -> 31 | R18: =+R17-S17 -> 398570000 | S18: 0 | T18: =+R18*10.5%/365*Q18 -> 3554370.8
A19: 17 | B19: 01/07/2024 | C19: =+B19-B18 -> 30 | D19: =+D18-E18 -> 398570000 | E19: 0 | F19: =+D19*10.5%/365*C19 -> 3439713.7 | H19: 17 | I19: 01/08/2024 | J19: =+I19-I18 -> 31 | K19: =+K18-L18 -> 398570000 | L19: 0 | M19: =+K19*10.5%/365*J19 -> 3554370.8 | O19: 17 | P19: 01/09/2024 | Q19: =+P19-P18 -> 31 | R19: =+R18-S18 -> 398570000 | S19: 0 | T19: =+R19*10.5%/365*Q19 -> 3554370.8
A20: 18 | B20: 01/08/2024 | C20: =+B20-B19 -> 31 | D20: =+D19-E19 -> 398570000 | E20: 0 | F20: =+D20*10.5%/365*C20 -> 3554370.8 | H20: 18 | I20: 01/09/2024 | J20: =+I20-I19 -> 31 | K20: =+K19-L19 -> 398570000 | L20: 0 | M20: =+K20*10.5%/365*J20 -> 3554370.8 | O20: 18 | P20: 01/10/2024 | Q20: =+P20-P19 -> 30 | R20: =+R19-S19 -> 398570000 | S20: 0 | T20: =+R20*10.5%/365*Q20 -> 3439713.7
A21: 19 | B21: 01/09/2024 | C21: =+B21-B20 -> 31 | D21: =+D20-E20 -> 398570000 | E21: 0 | F21: =+D21*10.5%/365*C21 -> 3554370.8 | H21: 19 | I21: 01/10/2024 | J21: =+I21-I20 -> 30 | K21: =+K20-L20 -> 398570000 | L21: 0 | M21: =+K21*10.5%/365*J21 -> 3439713.7 | O21: 19 | P21: 01/11/2024 | Q21: =+P21-P20 -> 31 | R21: =+R20-S20 -> 398570000 | S21: 0 | T21: =+R21*10.5%/365*Q21 -> 3554370.8
A22: 20 | B22: 01/10/2024 | C22: =+B22-B21 -> 30 | D22: =+D21-E21 -> 398570000 | E22: 0 | F22: =+D22*10.5%/365*C22 -> 3439713.7 | H22: 20 | I22: 01/11/2024 | J22: =+I22-I21 -> 31 | K22: =+K21-L21 -> 398570000 | L22: 0 | M22: =+K22*10.5%/365*J22 -> 3554370.8 | O22: 20 | P22: 01/12/2024 | Q22: =+P22-P21 -> 30 | R22: =+R21-S21 -> 398570000 | S22: 0 | T22: =+R22*10.5%/365*Q22 -> 3439713.7
A23: 21 | B23: 01/11/2024 | C23: =+B23-B22 -> 31 | D23: =+D22-E22 -> 398570000 | E23: 0 | F23: =+D23*10.5%/365*C23 -> 3554370.8 | H23: 21 | I23: 01/12/2024 | J23: =+I23-I22 -> 30 | K23: =+K22-L22 -> 398570000 | L23: 0 | M23: =+K23*10.5%/365*J23 -> 3439713.7
A24: 22 | B24: 01/12/2024 | C24: =+B24-B23 -> 30 | D24: =+D23-E23 -> 398570000 | E24: 0 | F24: =+D24*10.5%/365*C24 -> 3439713.7
T25: =SUM(T4:T24) -> 66501132
M26: =SUM(M4:M25) -> 69940845
F27: =SUM(F4:F26) -> 73495216

Sheet Bảng giá CT1
B1: THE MINATO RESIDENCE CT1 MIRAI TOWER
B2: BẢNG GIÁ (Tòa Phía Bắc)
B3: Đã bao gồm VAT (10%) Chưa bao gồm kinh phí bảo trì
B4: 2 | C4: 2 | D4: 2 | E4: 3 | F4: 1 | G4: 2 | H4: 2 | I4: 2 | J4: 2 | K4: 2 | L4: 2 | M4: 2 | N4: 3 | O4: 2 | P4: 2 | Q4: 2 | R4: 2 | S4: 1 | T4: 1 | U4: 2 | V4: 3
A5: Type | B5: B-5 | C5: B-4 | D5: B-7 | E5: A-1 | F5: C-2 | G5: B-6 | H5: B 2-1 | I5: B 2-1 | J5: B 2-1 | K5: B 2-2 | L5: B 2-3 | M5: B-1 | N5: A 3-1 | O5: B-8 | P5: B-3 | Q5: B-3 | R5: B-3 | S5: C-1 | T5: C-3 | U5: B-9 | V5: A 2-1 | W5: Type
A6: Tầng 6 -26 | B6: 82.52m2 | C6: 81.55m2 | D6: 78.72m2 | E6: 109.67m2 | F6: 51m2 | G6: 78.11m2 | H6: 82.2 m2 | I6: 82.2 m2 | J6: 82.2 m2 | K6: 82.24 m2 | L6: 83.24 m2 | M6: 88.5m2 | N6: 106.7m2 | O6: 96.35m2 | P6: 84.25 m2 | Q6: 84.25 m2 | R6: 84.25 m2 | S6: 52.52m2 | T6: 45.73m2 | U6: 73.71m2 | V6: 115.2m2 | W6: Diện tích tim tường
B7: 73.4m2 | C7: 74.3m2 | D7: 72m2 | E7: 99.58m2 | F7: 45.8m2 | G7: 70.7m2 | H7: 74.4m2 | I7: 74.4m2 | J7: 74.4m2 | K7: 74.5m2 | L7: 74.7m2 | M7: 80.8m2 | N7: 97.1m2 | O7: 88m2 | P7: 76.6m2 | Q7: 76.6m2 | R7: 76.7m2 | S7: 46m2 | T7: 40.1m2 | U7: 66.1m2 | V7: 113m2 | W7: Diện tích thông thủy
A8: Type | B8: B-5 | C8: B-4 | D8: B-7 | E8: A-1 | F8: C-2 | G8: B-6 | H8: B 2-1 | I8: B 2-1 | J8: B 2-1 | K8: B 2-2 | L8: B 2-3 | M8: B-1 | N8: A 3-1 | O8: B-8-G | P8: B-3-G | Q8: B-3-G | R8: B-3-G | S8: C-1-G | T8: C-3-G | U8: B-9-G | V8: A 2-1 | W8: Type
A9: Tầng 5 | O9: 71m2 | P9: 83.9m2 | Q9: 83.9m2 | R9: 83.9m2 | S9: 52.2m2 | T9: 16.5m2 | U9: 9.2m2 | W9: Diện tích sân vườn
A10: Mã căn hộ | B10: 2601 | C10: 2602 | D10: 2603 | E10: 2604 | F10: 2605 | G10: 2606 | H10: 2607 | I10: 2608 | J10: 2609 | K10: 2610 | L10: 2611 | M10: 2612A | N10: 2612B | O10: 2614 | P10: 2615 | Q10: 2616 | R10: 2617 | S10: 2618 | T10: 2619 | U10: 2620 | V10: 2621 | W10: Mã căn hộ
A11: 26F | W11: 26F
A12: Mã căn hộ | B12: 2501 | C12: 2502 | D12: 2503 | E12: 2504 | F12: 2505 | G12: 2506 | H12: 2507 | I12: 2508 | J12: 2509 | K12: 2510 | L12: 2511 | M12: 2512A | N12: 2512B | O12: 2514 | P12: 2515 | Q12: 2516 | R12: 2517 | S12: 2518 | T12: 2519 | U12: 2520 | V12: 2521 | W12: Mã căn hộ
A13: 25F | W13: 25F
A14: Mã căn hộ | B14: 2401 | C14: 2402 | D14: 2403 | E14: 2404 | F14: 2405 | G14: 2406 | H14: 2407 | I14: 2408 | J14: 2409 | K14: 2410 | L14: 2411 | M14: 2412A | N14: 2412B | O14: 2414 | P14: 2415 | Q14: 2416 | R14: 2417 | S14: 2418 | T14: 2419 | U14: 2420 | V14: 2421 | W14: Mã căn hộ
A15: 24F | W15: 24F
A16: Mã căn hộ | B16: 22B01 | C16: 22B02 | D16: 22B03 | E16: 22B04 | F16: 22B05 | G16: 22B06 | H16: 22B07 | I16: 22B08 | J16: 22B09 | K16: 22B10 | L16: 22B11 | M16: 22B12A | N16: 22B12B | O16: 22B14 | P16: 22B15 | Q16: 22B16 | R16: 22B17 | S16: 22B18 | T16: 22B19 | U16: 22B20 | V16: 22B21 | W16: Mã căn hộ
A17: 22BF | W17: 22BF
A18: Mã căn hộ | B18: 22A01 | C18: 22A02 | D18: 22A03 | E18: 22A04 | F18: 22A05 | G18: 22A06 | H18: 22A07 | I18: 22A08 | J18: 22A09 | K18: 22A10 | L18: 22A11 | M18: 22A12A | N18: 22A12B | O18: 22A14 | P18: 22A15 | Q18: 22A16 | R18: 22A17 | S18: 22A18 | T18: 22A19 | U18: 22A20 | V18: 22A21 | W18: Mã căn hộ
A19: 22AF | W19: 22AF
A20: Mã căn hộ | B20: 2101 | C20: 2102 | D20: 2103 | E20: 2104 | F20: 2105 | G20: 2106 | H20: 2107 | I20: 2108 | J20: 2109 | K20: 2110 | L20: 2111 | M20: 2112A | N20: 2112B | O20: 2114 | P20: 2115 | Q20: 2116 | R20: 2117 | S20: 2118 | T20: 2119 | U20: 2120 | V20: 2121 | W20: Mã căn hộ
A21: 21F | W21: 21F
A22: Mã căn hộ | B22: 2001 | C22: 2002 | D22: 2003 | E22: 2004 | F22: 2005 | G22: 2006 | H22: 2007 | I22: 2008 | J22: 2009 | K22: 2010 | L22: 2011 | M22: 2012A | N22: 2012B | O22: 2014 | P22: 2015 | Q22: 2016 | R22: 2017 | S22: 2018 | T22: 2019 | U22: 2020 | V22: 2021 | W22: Mã căn hộ
A23: 20F | W23: 20F
A24: Mã căn hộ | B24: 1901 | C24: 1902 | D24: 1903 | E24: 1904 | F24: 1905 | G24: 1906 | H24: 1907 | I24: 1908 | J24: 1909 | K24: 1910 | L24: 1911 | M24: 1912A | N24: 1912B | O24: 1914 | P24: 1915 | Q24: 1916 | R24: 1917 | S24: 1918 | T24: 1919 | U24: 1920 | V24: 1921 | W24: Mã căn hộ
A25: 19F | W25: 19F
A26: Mã căn hộ | B26: 1801 | C26: 1802 | D26: 1803 | E26: 1804 | F26: 1805 | G26: 1806 | H26: 1807 | I26: 1808 | J26: 1809 | K26: 1810 | L26: 1811 | M26: 1812A | N26: 1812B | O26: 1814 | P26: 1815 | Q26: 1816 | R26: 1817 | S26: 1818 | T26: 1819 | U26: 1820 | V26: 1821 | W26: Mã căn hộ
A27: 18F | W27: 18F
A28: Mã căn hộ | B28: 1701 | C28: 1702 | D28: 1703 | E28: 1704 | F28: 1705 | G28: 1706 | H28: 1707 | I28: 1708 | J28: 1709 | K28: 1710 | L28: 1711 | M28: 1712A | N28: 1712B | O28: 1714 | P28: 1715 | Q28: 1716 | R28: 1717 | S28: 1718 | T28: 1719 | U28: 1720 | V28: 1721 | W28: Mã căn hộ
A29: 17F | W29: 17F
A30: Mã căn hộ | B30: 1601 | C30: 1602 | D30: 1603 | E30: 1604 | F30: 1605 | G30: 1606 | H30: 1607 | I30: 1608 | J30: 1609 | K30: 1610 | L30: 1611 | M30: 1612A | N30: 1612B | O30: 1614 | P30: 1615 | Q30: 1616 | R30: 1617 | S30: 1618 | T30: 1619 | U30: 1620 | V30: 1621 | W30: Mã căn hộ
A31: 16F | W31: 16F
A32: Mã căn hộ | B32: 1501 | C32: 1502 | D32: 1503 | E32: 1504 | F32: 1505 | G32: 1506 | H32: 1507 | I32: 1508 | J32: 1509 | K32: 1510 | L32: 1511 | M32: 1512A | N32: 1512B | O32: 1514 | P32: 1515 | Q32: 1516 | R32: 1517 | S32: 1518 | T32: 1519 | U32: 1520 | V32: 1521 | W32: Mã căn hộ
A33: 15F | W33: 15F
A34: Mã căn hộ | B34: 1401 | C34: 1402 | D34: 1403 | E34: 1404 | F34: 1405 | G34: 1406 | H34: 1407 | I34: 1408 | J34: 1409 | K34: 1410 | L34: 1411 | M34: 1412A | N34: 1412B | O34: 1414 | P34: 1415 | Q34: 1416 | R34: 1417 | S34: 1418 | T34: 1419 | U34: 1420 | V34: 1421 | W34: Mã căn hộ
A35: 14F | W35: 14F
A36: Mã căn hộ | B36: 12B01 | C36: 12B02 | D36: 12B03 | E36: 12B04 | F36: 12B05 | G36: 12B06 | H36: 12B07 | I36: 12B08 | J36: 12B09 | K36: 12B10 | L36: 12B11 | M36: 12B12A | N36: 12B12B | O36: 12B14 | P36: 12B15 | Q36: 12B16 | R36: 12B17 | S36: 12B18 | T36: 12B19 | U36: 12B20 | V36: 12B21 | W36: Mã căn hộ
A37: 12BF | W37: 12BF
A38: Mã căn hộ | B38: 12A01 | C38: 12A02 | D38: 12A03 | E38: 12A04 | F38: 12A05 | G38: 12A06 | H38: 12A07 | I38: 12A08 | J38: 12A09 | K38: 12A10 | L38: 12A11 | M38: 12A12A | N38: 12A12B | O38: 12A14 | P38: 12A15 | Q38: 12A16 | R38: 12A17 | S38: 12A18 | T38: 12A19 | U38: 12A20 | V38: 12A21 | W38: Mã căn hộ
A39: 12AF | W39: 12AF
A40: Mã căn hộ | B40: 1101 | C40: 1102 | D40: 1103 | E40: 1104 | F40: 1105 | G40: 1106 | H40: 1107 | I40: 1108 | J40: 1109 | K40: 1110 | L40: 1111 | M40: 1112A | N40: 1112B | O40: 1114 | P40: 1115 | Q40: 1116 | R40: 1117 | S40: 1118 | T40: 1119 | U40: 1120 | V40: 1121 | W40: Mã căn hộ
A41: 11F | W41: 11F
A42: Mã căn hộ | B42: 1001 | C42: 1002 | D42: 1003 | E42: 1004 | F42: 1005 | G42: 1006 | H42: 1007 | I42: 1008 | J42: 1009 | K42: 1010 | L42: 1011 | M42: 1012A | N42: 1012B | O42: 1014 | P42: 1015 | Q42: 1016 | R42: 1017 | S42: 1018 | T42: 1019 | U42: 1020 | V42: 1021 | W42: Mã căn hộ
A43: 10F | W43: 10F
A44: Mã căn hộ | B44: 901 | C44: 902 | D44: 903 | E44: 904 | F44: 905 | G44: 906 | H44: 907 | I44: 908 | J44: 909 | K44: 910 | L44: 911 | M44: 912A | N44: 912B | O44: 914 | P44: 915 | Q44: 916 | R44: 917 | S44: 918 | T44: 919 | U44: 920 | V44: 921 | W44: Mã căn hộ
A45: 9F | W45: 9F
A46: Mã căn hộ | B46: 801 | C46: 802 | D46: 803 | E46: 804 | F46: 805 | G46: 806 | H46: 807 | I46: 808 | J46: 809 | K46: 810 | L46: 811 | M46: 812A | N46: 812B | O46: 814 | P46: 815 | Q46: 816 | R46: 817 | S46: 818 | T46: 819 | U46: 820 | V46: 821 | W46: Mã căn hộ
A47: 8F | W47: 8F
A48: Mã căn hộ | B48: 701 | C48: 702 | D48: 703 | E48: 704 | F48: 705 | G48: 706 | H48: 707 | I48: 708 | J48: 709 | K48: 710 | L48: 711 | M48: 712A | N48: 712B | O48: 714 | P48: 715 | Q48: 716 | R48: 717 | S48: 718 | T48: 719 | U48: 720 | V48: 721 | W48: Mã căn hộ
A49: 7F | W49: 7F
A50: Mã căn hộ | B50: 601 | C50: 602 | D50: 603 | E50: 604 | F50: 605 | G50: 606 | H50: 607 | I50: 608 | J50: 609 | K50: 610 | L50: 611 | M50: 612A | N50: 612B | O50: 614 | P50: 615 | Q50: 616 | R50: 617 | S50: 618 | T50: 619 | U50: 620 | V50: 621 | W50: Mã căn hộ
A51: 6F | W51: 6F
A52: Mã căn hộ | B52: 501 | C52: 502 | D52: 503 | E52: 504 | F52: 505 | G52: 506 | H52: 507 | I52: 508 | J52: 509 | K52: 510 | L52: 511 | M52: 512A | N52: 512B | O52: 514 | P52: 515 | Q52: 516 | R52: 517 | S52: 518 | T52: 519 | U52: 520 | V52: 521 | W52: Mã căn hộ
A53: 5F | W53: 5F
A54: 4F | W54: 4F
A55: 3F | W55: 3F
A56: 2F | W56: 2F
A57: 1F | W57: 1F
A58: B1 | W58: B1
A59: Hướng | W59: Hướng

Sheet Bảng Giá CT1_TÒA BẮC
B1: The Minato Residence （CT-1） Price List
B2: GHI CHÚ | C2: ĐÃ BÁN
B4: 2 | C4: 2 | D4: 2 | E4: 3 | F4: 1 | G4: 2 | H4: 2 | I4: 2 | J4: 2 | K4: 2 | L4: 2 | M4: 2 | N4: 3 | O4: 2 | P4: 2 | Q4: 2 | R4: 2 | S4: 1 | T4: 1 | U4: 2 | V4: 3
A5: 26 | B5: ='[1]Residence info'!D5 -> 2601 | C5: ='[1]Residence info'!E5 -> 2602 | D5: ='[1]Residence info'!F5 -> 2603 | E5: ='[1]Residence info'!G5 -> 2604 | F5: ='[1]Residence info'!H5 -> 2605 | G5: ='[1]Residence info'!I5 -> 2606 | H5: ='[1]Residence info'!J5 -> 2607 | I5: ='[1]Residence info'!K5 -> 2608 | ... L5: ='[1]Residence info'!N5 -> 2611 | M5: 2612A | N5: 2612B | O5: ='[1]Residence info'!U5 -> 2614 | P5: ='[1]Residence info'!V5 -> 2615 | Q5: ='[1]Residence info'!W5 -> 2616 | R5: ='[1]Residence info'!X5 -> 2617 | S5: ='[1]Residence info'!Y5 -> 2618 | T5: ='[1]Residence info'!AA5 -> 2619 | U5: ='[1]Residence info'!AB5 -> 2620 | V5: ='[1]Residence info'!AC5 -> 2621
B6: ='[1]Residence info'!D142 -> B-5 | C6: ='[1]Residence info'!E142 -> B-4 | D6: ='[1]Residence info'!F142 -> B-7 | E6: ='[1]Residence info'!G142 -> A-1 | F6: ='[1]Residence info'!H142 -> C-2 | G6: ='[1]Residence info'!I142 -> B-6 | H6: ='[1]Residence info'!J142 -> B-2-1 | I6: ='[1]Residence info'!K142 -> B-2-1 | ... M6: ='[1]Residence info'!O142 -> B-1 | N6: ='[1]Residence info'!S142 -> A-3 | O6: ='[1]Residence info'!U142 -> B-8 | P6: ='[1]Residence info'!V142 -> B-3 | Q6: ='[1]Residence info'!W142 -> B-3 | R6: ='[1]Residence info'!X142 -> B-3 | S6: ='[1]Residence info'!Y142 -> C-1 | T6: ='[1]Residence info'!AA142 -> C-3 | U6: ='[1]Residence info'!AB142 -> B-9 | V6: ='[1]Residence info'!AC142 -> A-2
B8: ='[1]Residence info'!D416 -> 82.52 | C8: ='[1]Residence info'!E416 -> 81.55 | D8: ='[1]Residence info'!F416 -> 78.72 | E8: ='[1]Residence info'!G416 -> 109.67 | F8: ='[1]Residence info'!H416 -> 51 | G8: ='[1]Residence info'!I416 -> 78.11 | H8: ='[1]Residence info'!J416 -> 82.2 | I8: ='[1]Residence info'!K416 -> 82.2 | ... M8: ='[1]Residence info'!O416 -> 88.5 | N8: ='[1]Residence info'!S416 -> 106.7 | O8: ='[1]Residence info'!U416 -> 96.35 | P8: ='[1]Residence info'!V416 -> 84.25 | Q8: ='[1]Residence info'!W416 -> 84.25 | R8: ='[1]Residence info'!X416 -> 84.25 | S8: ='[1]Residence info'!Y416 -> 52.52 | T8: ='[1]Residence info'!AA416 -> 45.73 | U8: ='[1]Residence info'!AB416 -> 73.71 | V8: ='[1]Residence info'!AC416 -> 115.2
B9: ='[1]Residence info'!D553 -> 73.4 | C9: ='[1]Residence info'!E553 -> 74.3 | D9: ='[1]Residence info'!F553 -> 72 | E9: ='[1]Residence info'!G553 -> 99.58 | F9: ='[1]Residence info'!H553 -> 45.8 | G9: ='[1]Residence info'!I553 -> 70.7 | H9: ='[1]Residence info'!J553 -> 74.4 | I9: ='[1]Residence info'!K553 -> 74.4 | ... M9: ='[1]Residence info'!O553 -> 80.8 | N9: ='[1]Residence info'!S553 -> 97.1 | O9: ='[1]Residence info'!U553 -> 88 | P9: ='[1]Residence info'!V553 -> 76.6 | Q9: ='[1]Residence info'!W553 -> 76.6 | R9: ='[1]Residence info'!X553 -> 76.7 | S9: ='[1]Residence info'!Y553 -> 46 | T9: ='[1]Residence info'!AA553 -> 40.4 | U9: ='[1]Residence info'!AB553 -> 66.1 | V9: ='[1]Residence info'!AC553 -> 111.3
A10: 25 | B10: 2501 | C10: 2502 | D10: 2503 | E10: 2504 | F10: 2505 | G10: 2506 | H10: 2507 | I10: 2508 | J10: 2509 | K10: 2510 | L10: 2511 | M10: 2512A | N10: 2512B | O10: 2514 | P10: 2515 | Q10: 2516 | R10: 2517 | S10: 2518 | T10: 2519 | U10: 2520 | V10: 2521
B11: B-5 | C11: B-4 | D11: B-7 | E11: A-1 | F11: C-2 | G11: B-6 | H11: B-2-1 | I11: B-2-1 | J11: B-2-1 | K11: B-2-2 | L11: B-2-3 | M11: B-1 | N11: A-3 | O11: B-8 | P11: B-3 | Q11: B-3 | R11: B-3 | S11: C-1 | T11: C-3 | U11: B-9 | V11: A-2
B12: 4512100000 | C12: 4562000000 | D12: 4434300000 | E12: 5912200000 | F12: 2918800000 | G12: 4361600000 | H12: 4567600000 | I12: 4567600000 | J12: 4567600000 | K12: 4573100000 | L12: 4584200000 | M12: 4918700000 | N12: 5784100000 | O12: 5306100000 | P12: 4689000000 | Q12: 4689000000 | R12: 4694500000 | S12: 2930800000 | T12: 2592700000 | U12: 4102500000 | V12: 6504500000
B13: 81.97 | C13: 81.54 | D13: 78.72 | E13: 109.67 | F13: 50.99 | G13: 78.11 | H13: 82.18 | I13: 82.18 | J13: 82.18 | K13: 82.24 | L13: 82.24 | M13: 87.87 | N13: 107.58 | O13: 96.86 | P13: 84.24 | Q13: 84.24 | R13: 84.24 | S13: 51.47 | T13: 45.73 | U13: 73.8 | V13: 121.16
B14: 73.4 | C14: 74.3 | D14: 72 | E14: 99.58 | F14: 45.8 | G14: 70.7 | H14: 74.4 | I14: 74.4 | J14: 74.4 | K14: 74.5 | L14: 74.7 | M14: 80.8 | N14: 97.1 | O14: 88.1 | P14: 76.46 | Q14: 76.46 | R14: 76.46 | S14: 46 | T14: 40.9 | U14: 66.1 | V14: 111.3 | W14: =SUM(B14:V14) -> 1567.86
A15: 24 | B15: 2401 | C15: 2402 | D15: 2403 | E15: 2404 | F15: 2405 | G15: 2406 | H15: 2407 | I15: 2408 | J15: 2409 | K15: 2410 | L15: 2411 | M15: 2412A | N15: 2412B | O15: 2414 | P15: 2415 | Q15: 2416 | R15: 2417 | S15: 2418 | T15: 2419 | U15: 2420 | V15: 2421 | W15: 21
B16: B-5 | C16: B-4 | D16: B-7 | E16: A-1 | F16: C-2 | G16: B-6 | H16: B-2-1 | I16: B-2-1 | J16: B-2-1 | K16: B-2-2 | L16: B-2-3 | M16: B-1 | N16: A-3 | O16: B-8 | P16: B-3 | Q16: B-3 | R16: B-3 | S16: C-1 | T16: C-3 | U16: B-9 | V16: A-2 | W16: =W14*21 -> 32925.06
B17: 4490700000 | C17: 4540300000 | D17: 4413200000 | E17: 5884100000 | F17: 2904900000 | G17: 4340900000 | H17: 4545900000 | I17: 4545900000 | J17: 4545900000 | K17: 4551400000 | L17: 4562400000 | M17: 4895400000 | N17: 5756700000 | O17: 5280900000 | P17: 4666700000 | Q17: 4666700000 | R17: 4835800000 | S17: 2916900000 | T17: 2580400000 | U17: 4083000000 | V17: 6473700000
B18: 81.97 | C18: 81.54 | D18: 78.72 | E18: 109.67 | F18: 50.99 | G18: 78.11 | H18: 82.18 | I18: 82.18 | J18: 82.18 | K18: 82.24 | L18: 82.24 | M18: 87.87 | N18: 107.58 | O18: 96.86 | P18: 84.24 | Q18: 84.24 | R18: 84.24 | S18: 51.47 | T18: 45.73 | U18: 73.8 | V18: 121.16
B19: 73.4 | C19: 74.3 | D19: 72 | E19: 99.58 | F19: 45.8 | G19: 70.7 | H19: 74.4 | I19: 74.4 | J19: 74.4 | K19: 74.5 | L19: 74.7 | M19: 80.8 | N19: 97.1 | O19: 88.1 | P19: 76.46 | Q19: 76.46 | R19: 76.46 | S19: 46 | T19: 40.9 | U19: 66.1 | V19: 111.3
A20: 23 | B20: 22B01 | C20: 22B02 | D20: 22B03 | E20: 22B04 | F20: 22B05 | G20: 22B06 | H20: 22B07 | I20: 22B08 | J20: 22B09 | K20: 22B10 | L20: 22B11 | M20: 22B12A | N20: 22B12B | O20: 22B14 | P20: 22B15 | Q20: 22B16 | R20: 22B17 | S20: 22B18 | T20: 22B19 | U20: 22B20 | V20: 22B21
B21: B-5 | C21: B-4 | D21: B-7 | E21: A-1 | F21: C-2 | G21: B-6 | H21: B-2-1 | I21: B-2-1 | J21: B-2-1 | K21: B-2-2 | L21: B-2-3 | M21: B-1 | N21: A-3 | O21: B-8 | P21: B-3 | Q21: B-3 | R21: B-3 | S21: C-1 | T21: C-3 | U21: B-9 | V21: A-2
B23: 82.52 | C23: 81.55 | D23: 78.72 | E23: 109.67 | F23: 51 | G23: 78.11 | H23: 82.2 | I23: 82.2 | J23: 82.2 | K23: 82.24 | L23: 83.24 | M23: 88.5 | N23: 106.7 | O23: 96.35 | P23: 84.25 | Q23: 84.25 | R23: 84.25 | S23: 52.52 | T23: 45.73 | U23: 73.71 | V23: 115.2
B24: 73.4 | C24: 74.3 | D24: 72 | E24: 99.58 | F24: 45.8 | G24: 70.7 | H24: 74.4 | I24: 74.4 | J24: 74.4 | K24: 74.5 | L24: 74.7 | M24: 80.8 | N24: 97.1 | O24: 88 | P24: 76.6 | Q24: 76.6 | R24: 76.7 | S24: 46 | T24: 40.4 | U24: 66.1 | V24: 111.3
A25: 22 | B25: 22A01 | C25: 22A02 | D25: 22A03 | E25: 22A04 | F25: 22A05 | G25: 22A06 | H25: 22A07 | I25: 22A08 | J25: 22A09 | K25: 22A10 | L25: 22A11 | M25: 22A12A | N25: 22A12B | O25: 22A14 | P25: 22A15 | Q25: 22A16 | R25: 22A17 | S25: 22A18 | T25: 22A19 | U25: 22A20 | V25: 22A21
B26: B-5 | C26: B-4 | D26: B-7 | E26: A-1 | F26: C-2 | G26: B-6 | H26: B-2-1 | I26: B-2-1 | J26: B-2-1 | K26: B-2-2 | L26: B-2-3 | M26: B-1 | N26: A-3 | O26: B-8 | P26: B-3 | Q26: B-3 | R26: B-3 | S26: C-1 | T26: C-3 | U26: B-9 | V26: A-2
C27: 4497000000 | D27: 4371100000 | E27: 5828000000 | F27: 2877200000 | N27: 5701800000 | V27: 6411900000
B28: 82.52 | C28: 81.55 | D28: 78.72 | E28: 109.67 | F28: 51 | G28: 78.11 | H28: 82.2 | I28: 82.2 | J28: 82.2 | K28: 82.24 | L28: 83.24 | M28: 88.5 | N28: 106.7 | O28: 96.35 | P28: 84.25 | Q28: 84.25 | R28: 84.25 | S28: 52.52 | T28: 45.73 | U28: 73.71 | V28: 115.2
B29: 73.4 | C29: 74.3 | D29: 72 | E29: 99.58 | F29: 45.8 | G29: 70.7 | H29: 74.4 | I29: 74.4 | J29: 74.4 | K29: 74.5 | L29: 74.7 | M29: 80.8 | N29: 97.1 | O29: 88 | P29: 76.6 | Q29: 76.6 | R29: 76.7 | S29: 46 | T29: 40.4 | U29: 66.1 | V29: 111.3
A30: 21 | B30: 2101 | C30: 2102 | D30: 2103 | E30: 2104 | F30: 2105 | G30: 2106 | H30: 2107 | I30: 2108 | J30: 2109 | K30: 2110 | L30: 2111 | M30: 2112A | N30: 2112B | O30: 2114 | P30: 2115 | Q30: 2116 | R30: 2117 | S30: 2118 | T30: 2119 | U30: 2120 | V30: 2121
B31: B-5 | C31: B-4 | D31: B-7 | E31: A-1 | F31: C-2 | G31: B-6 | H31: B-2-1 | I31: B-2-1 | J31: B-2-1 | K31: B-2-2 | L31: B-2-3 | M31: B-1 | N31: A-3 | O31: B-8 | P31: B-3 | Q31: B-3 | R31: B-3 | S31: C-1 | T31: C-3 | U31: B-9 | V31: A-2
C32: 4475400000 | D32: 4350100000 | E32: 5799900000 | F32: 2863400000 | N32: 5674300000 | V32: 6381100000
B33: 82.52 | C33: 81.55 | D33: 78.72 | E33: 109.67 | F33: 51 | G33: 78.11 | H33: 82.2 | I33: 82.2 | J33: 82.2 | K33: 82.24 | L33: 83.24 | M33: 88.5 | N33: 106.7 | O33: 96.35 | P33: 84.25 | Q33: 84.25 | R33: 84.25 | S33: 52.52 | T33: 45.73 | U33: 73.71 | V33: 115.2
B34: 73.4 | C34: 74.3 | D34: 72 | E34: 99.58 | F34: 45.8 | G34: 70.7 | H34: 74.4 | I34: 74.4 | J34: 74.4 | K34: 74.5 | L34: 74.7 | M34: 80.8 | N34: 97.1 | O34: 88 | P34: 76.6 | Q34: 76.6 | R34: 76.7 | S34: 46 | T34: 40.4 | U34: 66.1 | V34: 111.3
A35: 20 | B35: 2001 | C35: 2002 | D35: 2003 | E35: 2004 | F35: 2005 | G35: 2006 | H35: 2007 | I35: 2008 | J35: 2009 | K35: 2010 | L35: 2011 | M35: 2012A | N35: 2012B | O35: 2014 | P35: 2015 | Q35: 2016 | R35: 2017 | S35: 2018 | T35: 2019 | U35: 2020 | V35: 2021
B36: B-5 | C36: B-4 | D36: B-7 | E36: A-1 | F36: C-2 | G36: B-6 | H36: B-2-1 | I36: B-2-1 | J36: B-2-1 | K36: B-2-2 | L36: B-2-3 | M36: B-1 | N36: A-3 | O36: B-8 | P36: B-3 | Q36: B-3 | R36: B-3 | S36: C-1 | T36: C-3 | U36: B-9 | V36: A-2
B38: 82.52 | C38: 81.55 | D38: 78.72 | E38: 109.67 | F38: 51 | G38: 78.11 | H38: 82.2 | I38: 82.2 | J38: 82.2 | K38: 82.24 | L38: 83.24 | M38: 88.5 | N38: 106.7 | O38: 96.35 | P38: 84.25 | Q38: 84.25 | R38: 84.25 | S38: 52.52 | T38: 45.73 | U38: 73.71 | V38: 115.2
B39: 73.4 | C39: 74.3 | D39: 72 | E39: 99.58 | F39: 45.8 | G39: 70.7 | H39: 74.4 | I39: 74.4 | J39: 74.4 | K39: 74.5 | L39: 74.7 | M39: 80.8 | N39: 97.1 | O39: 88 | P39: 76.6 | Q39: 76.6 | R39: 76.7 | S39: 46 | T39: 40.4 | U39: 66.1 | V39: 111.3
A40: 19 | B40: 1901 | C40: 1902 | D40: 1903 | E40: 1904 | F40: 1905 | G40: 1906 | H40: 1907 | I40: 1908 | J40: 1909 | K40: 1910 | L40: 1911 | M40: 1912A | N40: 1912B | O40: 1914 | P40: 1915 | Q40: 1916 | R40: 1917 | S40: 1918 | T40: 1919 | U40: 1920 | V40: 1921
B41: B-5 | C41: B-4 | D41: B-7 | E41: A-1 | F41: C-2 | G41: B-6 | H41: B-2-1 | I41: B-2-1 | J41: B-2-1 | K41: B-2-2 | L41: B-2-3 | M41: B-1 | N41: A-3 | O41: B-8 | P41: B-3 | Q41: B-3 | R41: B-3 | S41: C-1 | T41: C-3 | U41: B-9 | V41: A-2
B42: 4383600000 | C42: 4432100000 | D42: 4308000000 | E42: 5743800000 | F42: 2835700000 | G42: 4237400000 | H42: 4437600000 | I42: 4437600000 | J42: 4437600000 | K42: 4442900000 | L42: 4453600000 | M42: 4778700000 | N42: 5619400000 | O42: 5155000000 | P42: 4555500000 | Q42: 4555500000 | R42: 4560800000 | S42: 2847400000 | T42: 2518800000 | U42: 3985700000 | V42: 6319300000
B43: 81.97 | C43: 81.54 | D43: 78.72 | E43: 109.67 | F43: 50.99 | G43: 78.11 | H43: 82.18 | I43: 82.18 | J43: 82.18 | K43: 82.24 | L43: 82.24 | M43: 87.87 | N43: 107.58 | O43: 96.86 | P43: 84.24 | Q43: 84.24 | R43: 84.24 | S43: 51.47 | T43: 45.73 | U43: 73.8 | V43: 121.16
B44: 73.4 | C44: 74.3 | D44: 72 | E44: 99.58 | F44: 45.8 | G44: 70.7 | H44: 74.4 | I44: 74.4 | J44: 74.4 | K44: 74.5 | L44: 74.7 | M44: 80.8 | N44: 97.1 | O44: 88.1 | P44: 76.46 | Q44: 76.46 | R44: 76.46 | S44: 46 | T44: 40.9 | U44: 66.1 | V44: 111.3
A45: 18 | B45: 1801 | C45: 1802 | D45: 1803 | E45: 1804 | F45: 1805 | G45: 1806 | H45: 1807 | I45: 1808 | J45: 1809 | K45: 1810 | L45: 1811 | M45: 1812A | N45: 1812B | O45: 1814 | P45: 1815 | Q45: 1816 | R45: 1817 | S45: 1818 | T45: 1819 | U45: 1820 | V45: 1821
B46: B-5 | C46: B-4 | D46: B-7 | E46: A-1 | F46: C-2 | G46: B-6 | H46: B-2-1 | I46: B-2-1 | J46: B-2-1 | K46: B-2-2 | L46: B-2-3 | M46: B-1 | N46: A-3 | O46: B-8 | P46: B-3 | Q46: B-3 | R46: B-3 | S46: C-1 | T46: C-3 | U46: B-9 | V46: A-2
B47: 4362200000 | C47: 4410400000 | D47: 4287000000 | E47: 5715800000 | F47: 2821800000 | G47: 4216700000 | H47: 4415900000 | I47: 4415900000 | J47: 4415900000 | K47: 4421200000 | L47: 4431900000 | M47: 4755300000 | N47: 5592000000 | O47: 5129800000 | P47: 4533200000 | Q47: 4533200000 | R47: 4538500000 | S47: 2833400000 | T47: 2506500000 | U47: 3966200000 | V47: 6288500000
B48: 81.97 | C48: 81.54 | D48: 78.72 | E48: 109.67 | F48: 50.99 | G48: 78.11 | H48: 82.18 | I48: 82.18 | J48: 82.18 | K48: 82.24 | L48: 82.24 | M48: 87.87 | N48: 107.58 | O48: 96.86 | P48: 84.24 | Q48: 84.24 | R48: 84.24 | S48: 51.47 | T48: 45.73 | U48: 73.8 | V48: 121.16
B49: 73.4 | C49: 74.3 | D49: 72 | E49: 99.58 | F49: 45.8 | G49: 70.7 | H49: 74.4 | I49: 74.4 | J49: 74.4 | K49: 74.5 | L49: 74.7 | M49: 80.8 | N49: 97.1 | O49: 88.1 | P49: 76.46 | Q49: 76.46 | R49: 76.46 | S49: 46 | T49: 40.9 | U49: 66.1 | V49: 111.3
A50: 17 | B50: 1701 | C50: 1702 | D50: 1703 | E50: 1704 | F50: 1705 | G50: 1706 | H50: 1707 | I50: 1708 | J50: 1709 | K50: 1710 | L50: 1711 | M50: 1712A | N50: 1712B | O50: 1714 | P50: 1715 | Q50: 1716 | R50: 1717 | S50: 1718 | T50: 1719 | U50: 1720 | V50: 1721
B51: B-5 | C51: B-4 | D51: B-7 | E51: A-1 | F51: C-2 | G51: B-6 | H51: B-2-1 | I51: B-2-1 | J51: B-2-1 | K51: B-2-2 | L51: B-2-3 | M51: B-1 | N51: A-3 | O51: B-8 | P51: B-3 | Q51: B-3 | R51: B-3 | S51: C-1 | T51: C-3 | U51: B-9 | V51: A-2
B53: 82.52 | C53: 81.55 | D53: 78.72 | E53: 109.67 | F53: 51 | G53: 78.11 | H53: 82.2 | I53: 82.2 | J53: 82.2 | K53: 82.24 | L53: 83.24 | M53: 88.5 | N53: 106.7 | O53: 96.35 | P53: 84.25 | Q53: 84.25 | R53: 84.25 | S53: 52.52 | T53: 45.73 | U53: 73.71 | V53: 115.2
B54: 73.4 | C54: 74.3 | D54: 72 | E54: 99.58 | F54: 45.8 | G54: 70.7 | H54: 74.4 | I54: 74.4 | J54: 74.4 | K54: 74.5 | L54: 74.7 | M54: 80.8 | N54: 97.1 | O54: 88 | P54: 76.6 | Q54: 76.6 | R54: 76.7 | S54: 46 | T54: 40.4 | U54: 66.1 | V54: 111.3
A55: 16 | B55: 1601 | C55: 1602 | D55: 1603 | E55: 1604 | F55: 1605 | G55: 1606 | H55: 1607 | I55: 1608 | J55: 1609 | K55: 1610 | L55: 1611 | M55: 1612A | N55: 1612B | O55: 1614 | P55: 1615 | Q55: 1616 | R55: 1617 | S55: 1618 | T55: 1619 | U55: 1620 | V55: 1621
B56: B-5 | C56: B-4 | D56: B-7 | E56: A-1 | F56: C-2 | G56: B-6 | H56: B-2-1 | I56: B-2-1 | J56: B-2-1 | K56: B-2-2 | L56: B-2-3 | M56: B-1 | N56: A-3 | O56: B-8 | P56: B-3 | Q56: B-3 | R56: B-3 | S56: C-1 | T56: C-3 | U56: B-9 | V56: A-2
B58: 82.52 | C58: 81.55 | D58: 78.72 | E58: 109.67 | F58: 51 | G58: 78.11 | H58: 82.2 | I58: 82.2 | J58: 82.2 | K58: 82.24 | L58: 83.24 | M58: 88.5 | N58: 106.7 | O58: 96.35 | P58: 84.25 | Q58: 84.25 | R58: 84.25 | S58: 52.52 | T58: 45.73 | U58: 73.71 | V58: 115.2
B59: 73.4 | C59: 74.3 | D59: 72 | E59: 99.58 | F59: 45.8 | G59: 70.7 | H59: 74.4 | I59: 74.4 | J59: 74.4 | K59: 74.5 | L59: 74.7 | M59: 80.8 | N59: 97.1 | O59: 88 | P59: 76.6 | Q59: 76.6 | R59: 76.7 | S59: 46 | T59: 40.4 | U59: 66.1 | V59: 111.3
A60: 15 | B60: 1501 | C60: 1502 | D60: 1503 | E60: 1504 | F60: 1505 | G60: 106 | H60: 1507 | I60: 1508 | J60: 1509 | K60: 1510 | L60: 1511 | M60: 1512A | N60: 1512B | O60: 1514 | P60: 1515 | Q60: 1516 | R60: 1517 | S60: 1518 | T60: 1519 | U60: 1520 | V60: 1521
B61: B-5 | C61: B-4 | D61: B-7 | E61: A-1 | F61: C-2 | G61: B-6 | H61: B-2-1 | I61: B-2-1 | J61: B-2-1 | K61: B-2-2 | L61: B-2-3 | M61: B-1 | N61: A-3 | O61: B-8 | P61: B-3 | Q61: B-3 | R61: B-3 | S61: C-1 | T61: C-3 | U61: B-9 | V61: A-2
B63: 82.52 | C63: 81.55 | D63: 78.72 | E63: 109.67 | F63: 51 | G63: 78.11 | H63: 82.2 | I63: 82.2 | J63: 82.2 | K63: 82.24 | L63: 83.24 | M63: 88.5 | N63: 106.7 | O63: 96.35 | P63: 84.25 | Q63: 84.25 | R63: 84.25 | S63: 52.52 | T63: 45.73 | U63: 73.71 | V63: 115.2
B64: 73.4 | C64: 74.3 | D64: 72 | E64: 99.58 | F64: 45.8 | G64: 70.7 | H64: 74.4 | I64: 74.4 | J64: 74.4 | K64: 74.5 | L64: 74.7 | M64: 80.8 | N64: 97.1 | O64: 88 | P64: 76.6 | Q64: 76.6 | R64: 76.7 | S64: 46 | T64: 40.4 | U64: 66.1 | V64: 111.3
A65: 14 | B65: 1401 | C65: 1402 | D65: 1403 | E65: 1404 | F65: 1405 | G65: 1406 | H65: 1407 | I65: 1408 | J65: 1409 | K65: 1410 | L65: 1411 | M65: 1412A | N65: 1412B | O65: 1414 | P65: 1415 | Q65: 1416 | R65: 1417 | S65: 1418 | T65: 1419 | U65: 1420 | V65: 1421
B66: B-5 | C66: B-4 | D66: B-7 | E66: A-1 | F66: C-2 | G66: B-6 | H66: B-2-1 | I66: B-2-1 | J66: B-2-1 | K66: B-2-2 | L66: B-2-3 | M66: B-1 | N66: A-3 | O66: B-8 | P66: B-3 | Q66: B-3 | R66: B-3 | S66: C-1 | T66: C-3 | U66: B-9 | V66: A-2
B68: 82.52 | C68: 81.55 | D68: 78.72 | E68: 109.67 | F68: 51 | G68: 78.11 | H68: 82.2 | I68: 82.2 | J68: 82.2 | K68: 82.24 | L68: 83.24 | M68: 88.5 | N68: 106.7 | O68: 96.35 | P68: 84.25 | Q68: 84.25 | R68: 84.25 | S68: 52.52 | T68: 45.73 | U68: 73.71 | V68: 115.2
B69: 73.4 | C69: 74.3 | D69: 72 | E69: 99.58 | F69: 45.8 | G69: 70.7 | H69: 74.4 | I69: 74.4 | J69: 74.4 | K69: 74.5 | L69: 74.7 | M69: 80.8 | N69: 97.1 | O69: 88 | P69: 76.6 | Q69: 76.6 | R69: 76.7 | S69: 46 | T69: 40.4 | U69: 66.1 | V69: 111.3
A70: 13 | B70: 12B01 | C70: 12B02 | D70: 12B03 | E70: 12B04 | F70: 12B05 | G70: 12B06 | H70: 12B07 | I70: 12B08 | J70: 12B09 | K70: 12B10 | L70: 12B11 | M70: 12B12A | N70: 12B12B | O70: 12B14 | P70: 12B15 | Q70: 12B16 | R70: 12B17 | S70: 12B18 | T70: 12B19 | U70: 12B20 | V70: 12B21
B71: B-5 | C71: B-4 | D71: B-7 | E71: A-1 | F71: C-2 | G71: B-6 | H71: B-2-1 | I71: B-2-1 | J71: B-2-1 | K71: B-2-2 | L71: B-2-3 | M71: B-1 | N71: A-3 | O71: B-8 | P71: B-3 | Q71: B-3 | R71: B-3 | S71: C-1 | T71: C-3 | U71: B-9 | V71: A-2
B73: 82.52 | C73: 81.55 | D73: 78.72 | E73: 109.67 | F73: 51 | G73: 78.11 | H73: 82.2 | I73: 82.2 | J73: 82.2 | K73: 82.24 | L73: 83.24 | M73: 88.5 | N73: 106.7 | O73: 96.35 | P73: 84.25 | Q73: 84.25 | R73: 84.25 | S73: 52.52 | T73: 45.73 | U73: 73.71 | V73: 115.2
B74: 73.4 | C74: 74.3 | D74: 72 | E74: 99.58 | F74: 45.8 | G74: 70.7 | H74: 74.4 | I74: 74.4 | J74: 74.4 | K74: 74.5 | L74: 74.7 | M74: 80.8 | N74: 97.1 | O74: 88 | P74: 76.6 | Q74: 76.6 | R74: 76.7 | S74: 46 | T74: 40.4 | U74: 66.1 | V74: 111.3
A75: 12 | B75: 12A01 | C75: 12A02 | D75: 12A03 | E75: 12A04 | F75: 12A05 | G75: 12A06 | H75: 12A07 | I75: 12A08 | J75: 12A09 | K75: 12A10 | L75: 12A11 | M75: 12A12A | N75: 12A12B | O75: 12A14 | P75: 12A15 | Q75: 12A16 | R75: 12A17 | S75: 12A18 | T75: 12A19 | U75: 12A20 | V75: 12A21
B76: B-5 | C76: B-4 | D76: B-7 | E76: A-1 | F76: C-2 | G76: B-6 | H76: B-2-1 | I76: B-2-1 | J76: B-2-1 | K76: B-2-2 | L76: B-2-3 | M76: B-1 | N76: A-3 | O76: B-8 | P76: B-3 | Q76: B-3 | R76: B-3 | S76: C-1 | T76: C-3 | U76: B-9 | V76: A-2
B77: 4233700000 | C77: 4280500000 | D77: 4160700000 | E77: 5547400000 | F77: 2738700000 | G77: 4092500000 | H77: 4285800000 | I77: 4285800000 | J77: 4285800000 | K77: 4291000000 | L77: 4301300000 | M77: 4615300000 | N77: 5427300000 | O77: 4978700000 | P77: 4399700000 | Q77: 4399700000 | R77: 4404800000 | S77: 2750000000 | T77: 2432700000 | U77: 3849400000 | V77: 6103300000
B78: 81.97 | C78: 81.54 | D78: 78.72 | E78: 109.67 | F78: 50.99 | G78: 78.11 | H78: 82.18 | I78: 82.18 | J78: 82.18 | K78: 82.24 | L78: 82.24 | M78: 87.87 | N78: 107.58 | O78: 96.86 | P78: 84.24 | Q78: 84.24 | R78: 84.24 | S78: 51.47 | T78: 45.73 | U78: 73.8 | V78: 121.16
B79: 73.4 | C79: 74.3 | D79: 72 | E79: 99.58 | F79: 45.8 | G79: 70.7 | H79: 74.4 | I79: 74.4 | J79: 74.4 | K79: 74.5 | L79: 74.7 | M79: 80.8 | N79: 97.1 | O79: 88.1 | P79: 76.46 | Q79: 76.46 | R79: 76.46 | S79: 46 | T79: 40.9 | U79: 66.1 | V79: 111.3
A80: 11 | B80: 1101 | C80: 1102 | D80: 1103 | E80: 1104 | F80: 105 | G80: 1106 | H80: 1107 | I80: 1108 | J80: 1109 | K80: 1110 | L80: 1111 | M80: 1112A | N80: 1112B | O80: 1114 | P80: 1115 | Q80: 1116 | R80: 1117 | S80: 1118 | T80: 1119 | U80: 1120 | V80: 1121
B81: B-5 | C81: B-4 | D81: B-7 | E81: A-1 | F81: C-2 | G81: B-6 | H81: B-2-1 | I81: B-2-1 | J81: B-2-1 | K81: B-2-2 | L81: B-2-3 | M81: B-1 | N81: A-3 | O81: B-8 | P81: B-3 | Q81: B-3 | R81: B-3 | S81: C-1 | T81: C-3 | U81: B-9 | V81: A-2
B83: 82.52 | C83: 81.55 | D83: 78.72 | E83: 109.67 | F83: 51 | G83: 78.11 | H83: 82.2 | I83: 82.2 | J83: 82.2 | K83: 82.24 | L83: 83.24 | M83: 88.5 | N83: 106.7 | O83: 96.35 | P83: 84.25 | Q83: 84.25 | R83: 84.25 | S83: 52.52 | T83: 45.73 | U83: 73.71 | V83: 115.2
B84: 73.4 | C84: 74.3 | D84: 72 | E84: 99.58 | F84: 45.8 | G84: 70.7 | H84: 74.4 | I84: 74.4 | J84: 74.4 | K84: 74.5 | L84: 74.7 | M84: 80.8 | N84: 97.1 | O84: 88 | P84: 76.6 | Q84: 76.6 | R84: 76.7 | S84: 46 | T84: 40.4 | U84: 66.1 | V84: 111.3
A85: 10 | B85: 1001 | C85: 1002 | D85: 1003 | E85: 1004 | F85: 1005 | G85: 1006 | H85: 1007 | I85: 1008 | J85: 1009 | K85: 1010 | L85: 1011 | M85: 1012A | N85: 1012B | O85: 1014 | P85: 1015 | Q85: 1016 | R85: 1017 | S85: 1018 | T85: 1019 | U85: 1020 | V85: 1021
B86: B-5 | C86: B-4 | D86: B-7 | E86: A-1 | F86: C-2 | G86: B-6 | H86: B-2-1 | I86: B-2-1 | J86: B-2-1 | K86: B-2-2 | L86: B-2-3 | M86: B-1 | N86: A-3 | O86: B-8 | P86: B-3 | Q86: B-3 | R86: B-3 | S86: C-1 | T86: C-3 | U86: B-9 | V86: A-2
B88: 82.52 | C88: 81.55 | D88: 78.72 | E88: 109.67 | F88: 51 | G88: 78.11 | H88: 82.2 | I88: 82.2 | J88: 82.2 | K88: 82.24 | L88: 83.24 | M88: 88.5 | N88: 106.7 | O88: 96.35 | P88: 84.25 | Q88: 84.25 | R88: 84.25 | S88: 52.52 | T88: 45.73 | U88: 73.71 | V88: 115.2
B89: 73.4 | C89: 74.3 | D89: 72 | E89: 99.58 | F89: 45.8 | G89: 70.7 | H89: 74.4 | I89: 74.4 | J89: 74.4 | K89: 74.5 | L89: 74.7 | M89: 80.8 | N89: 97.1 | O89: 88 | P89: 76.6 | Q89: 76.6 | R89: 76.7 | S89: 46 | T89: 40.4 | U89: 66.1 | V89: 111.3
A90: 9 | B90: 901 | C90: 902 | D90: 903 | E90: 904 | F90: 905 | G90: 906 | H90: 907 | I90: 908 | J90: 909 | K90: 910 | L90: 911 | M90: 912A | N90: 912B | O90: 914 | P90: 915 | Q90: 916 | R90: 917 | S90: 918 | T90: 919 | U90: 920 | V90: 921
B91: B-5 | C91: B-4 | D91: B-7 | E91: A-1 | F91: C-2 | G91: B-6 | H91: B-2-1 | I91: B-2-1 | J91: B-2-1 | K91: B-2-2 | L91: B-2-3 | M91: B-1 | N91: A-3 | O91: B-8 | P91: B-3 | Q91: B-3 | R91: B-3 | S91: C-1 | T91: C-3 | U91: B-9 | V91: A-2
B93: 82.52 | C93: 81.55 | D93: 78.72 | E93: 109.67 | F93: 51 | G93: 78.11 | H93: 82.2 | I93: 82.2 | J93: 82.2 | K93: 82.24 | L93: 83.24 | M93: 88.5 | N93: 106.7 | O93: 96.35 | P93: 84.25 | Q93: 84.25 | R93: 84.25 | S93: 52.52 | T93: 45.73 | U93: 73.71 | V93: 115.2
B94: 73.4 | C94: 74.3 | D94: 72 | E94: 99.58 | F94: 45.8 | G94: 70.7 | H94: 74.4 | I94: 74.4 | J94: 74.4 | K94: 74.5 | L94: 74.7 | M94: 80.8 | N94: 97.1 | O94: 88 | P94: 76.6 | Q94: 76.6 | R94: 76.7 | S94: 46 | T94: 40.4 | U94: 66.1 | V94: 111.3
A95: 8 | B95: 801 | C95: 802 | D95: 803 | E95: 804 | F95: 805 | G95: 806 | H95: 807 | I95: 808 | J95: 809 | K95: 810 | L95: 811 | M95: 812A | N95: 813 | O95: 814 | P95: 815 | Q95: 816 | R95: 817 | S95: 818 | T95: 819 | U95: 820 | V95: 821
B96: B-5 | C96: B-4 | D96: B-7 | E96: A-1 | F96: C-2 | G96: B-6 | H96: B-2-1 | I96: B-2-1 | J96: B-2-1 | K96: B-2-2 | L96: B-2-3 | M96: B-1 | N96: 812B | O96: B-8 | P96: B-3 | Q96: B-3 | R96: B-3 | S96: C-1 | T96: C-3 | U96: B-9 | V96: A-2
B98: 82.52 | C98: 81.55 | D98: 78.72 | E98: 109.67 | F98: 51 | G98: 78.11 | H98: 82.2 | I98: 82.2 | J98: 82.2 | K98: 82.24 | L98: 83.24 | M98: 88.5 | N98: 106.7 | O98: 96.35 | P98: 84.25 | Q98: 84.25 | R98: 84.25 | S98: 52.52 | T98: 45.73 | U98: 73.71 | V98: 115.2
B99: 73.4 | C99: 74.3 | D99: 72 | E99: 99.58 | F99: 45.8 | G99: 70.7 | H99: 74.4 | I99: 74.4 | J99: 74.4 | K99: 74.5 | L99: 74.7 | M99: 80.8 | N99: 97.1 | O99: 88 | P99: 76.6 | Q99: 76.6 | R99: 76.7 | S99: 46 | T99: 40.4 | U99: 66.1 | V99: 111.3
A100: 7 | B100: 701 | C100: 702 | D100: 703 | E100: 704 | F100: 705 | G100: 706 | H100: 707 | I100: 708 | J100: 709 | K100: 710 | L100: 711 | M100: 712A | N100: 712B | O100: 714 | P100: 715 | Q100: 716 | R100: 717 | S100: 718 | T100: 719 | U100: 720 | V100: 721
B101: B-5 | C101: B-4 | D101: B-7 | E101: A-1 | F101: C-2 | G101: B-6 | H101: B-2-1 | I101: B-2-1 | J101: B-2-1 | K101: B-2-2 | L101: B-2-3 | M101: B-1 | N101: A-3 | O101: B-8 | P101: B-3 | Q101: B-3 | R101: B-3 | S101: C-1 | T101: C-3 | U101: B-9 | V101: A-2
B103: 82.52 | C103: 81.55 | D103: 78.72 | E103: 109.67 | F103: 51 | G103: 78.11 | H103: 82.2 | I103: 82.2 | J103: 82.2 | K103: 82.24 | L103: 83.24 | M103: 88.5 | N103: 106.7 | O103: 96.35 | P103: 84.25 | Q103: 84.25 | R103: 84.25 | S103: 52.52 | T103: 45.73 | U103: 73.71 | V103: 115.2
B104: 73.4 | C104: 74.3 | D104: 72 | E104: 99.58 | F104: 45.8 | G104: 70.7 | H104: 74.4 | I104: 74.4 | J104: 74.4 | K104: 74.5 | L104: 74.7 | M104: 80.8 | N104: 97.1 | O104: 88 | P104: 76.6 | Q104: 76.6 | R104: 76.7 | S104: 46 | T104: 40.4 | U104: 66.1 | V104: 111.3
A105: 6 | B105: 601 | C105: 602 | D105: 603 | E105: 604 | F105: 605 | G105: 606 | H105: 607 | I105: 608 | J105: 609 | K105: 610 | L105: 611 | M105: 612A | N105: 612B | O105: 614 | P105: 615 | Q105: 616 | R105: 617 | S105: 618 | T105: 619 | U105: 620 | V105: 621
B106: B-5 | C106: B-4 | D106: B-7 | E106: A-1 | F106: C-2 | G106: B-6 | H106: B-2-1 | I106: B-2-1 | J106: B-2-1 | K106: B-2-2 | L106: B-2-3 | M106: B-1 | N106: A-3 | O106: B-8 | P106: B-3 | Q106: B-3 | R106: B-3 | S106: C-1 | T106: C-3 | U106: B-9 | V106: A-2
B107: 4105200000 | C107: 4150600000 | D107: 4034400000 | E107: 5379100000 | F107: 2655600000 | G107: 3968300000 | H107: 4155800000 | I107: 4155800000 | J107: 4155800000 | K107: 4160800000 | L107: 4170800000 | M107: 4475200000 | N107: 5262600000 | O107: 4827700000 | P107: 4266200000 | Q107: 4266200000 | R107: 4271200000 | S107: 2666500000 | T107: 2358900000 | U107: 3732600000 | V107: 5918100000
B108: 81.97 | C108: 81.54 | D108: 78.72 | E108: 109.67 | F108: 50.99 | G108: 78.11 | H108: 82.18 | I108: 82.18 | J108: 82.18 | K108: 82.24 | L108: 82.24 | M108: 87.87 | N108: 107.58 | O108: 96.86 | P108: 84.24 | Q108: 84.24 | R108: 84.24 | S108: 51.47 | T108: 45.73 | U108: 73.8 | V108: 121.16
B109: 73.4 | C109: 74.3 | D109: 72 | E109: 99.58 | F109: 45.8 | G109: 70.7 | H109: 74.4 | I109: 74.4 | J109: 74.4 | K109: 74.5 | L109: 74.7 | M109: 80.8 | N109: 97.1 | O109: 88.1 | P109: 76.46 | Q109: 76.46 | R109: 76.46 | S109: 46 | T109: 40.9 | U109: 66.1 | V109: 111.3
A110: 5 | B110: ='[1]Residence info'!D110 -> 501 | C110: ='[1]Residence info'!E110 -> 502 | D110: ='[1]Residence info'!F110 -> 503 | E110: ='[1]Residence info'!G110 -> 504 | F110: ='[1]Residence info'!H110 -> 505 | G110: ='[1]Residence info'!I110 -> 506 | H110: ='[1]Residence info'!J110 -> 507 | I110: ='[1]Residence info'!K110 -> 508 | ... L110: ='[1]Residence info'!N110 -> 511 | M110: 512A | O110: ='[1]Residence info'!U110 -> 514 | P110: ='[1]Residence info'!V110 -> 515 | Q110: ='[1]Residence info'!W110 -> 516 | R110: ='[1]Residence info'!X110 -> 517 | S110: ='[1]Residence info'!Y110 -> 518 | T110: ='[1]Residence info'!AA110 -> 519 | U110: ='[1]Residence info'!AB110 -> 520 | V110: ='[1]Residence info'!AC110 -> 521
B111: ='[1]Residence info'!D247 -> B-5 | C111: ='[1]Residence info'!E247 -> B-4 | D111: ='[1]Residence info'!F247 -> B-7 | E111: ='[1]Residence info'!G247 -> A-1 | F111: ='[1]Residence info'!H247 -> C-2 | G111: ='[1]Residence info'!I247 -> B-6 | H111: ='[1]Residence info'!J247 -> B-2-1 | I111: ='[1]Residence info'!K247 -> B-2-1 | ... M111: ='[1]Residence info'!O247 -> B-1 | O111: ='[1]Residence info'!U247 -> B-8-G | P111: ='[1]Residence info'!V247 -> B-3-G | Q111: ='[1]Residence info'!W247 -> B-3-G | R111: ='[1]Residence info'!X247 -> B-3-G | S111: ='[1]Residence info'!Y247 -> C-1-G | T111: ='[1]Residence info'!AA247 -> C-3-G | U111: ='[1]Residence info'!AB247 -> B-9-G | V111: ='[1]Residence info'!AC247 -> A-2
B113: ='[1]Residence info'!D521 -> 82.52 | C113: ='[1]Residence info'!E521 -> 81.55 | D113: ='[1]Residence info'!F521 -> 78.72 | E113: ='[1]Residence info'!G521 -> 109.67 | F113: ='[1]Residence info'!H521 -> 51 | G113: ='[1]Residence info'!I521 -> 78.11 | H113: ='[1]Residence info'!J521 -> 82.2 | I113: ='[1]Residence info'!K521 -> 82.2 | ... M113: ='[1]Residence info'!O521 -> 88.5 | N113: ='[1]Residence info'!S521 -> 106.7 | O113: ='[1]Residence info'!U521 -> 96.35 | P113: ='[1]Residence info'!V521 -> 84.25 | Q113: ='[1]Residence info'!W521 -> 84.25 | R113: ='[1]Residence info'!X521 -> 84.25 | S113: ='[1]Residence info'!Y521 -> 52.52 | T113: ='[1]Residence info'!AA521 -> 45.73 | U113: ='[1]Residence info'!AB521 -> 73.71 | V113: ='[1]Residence info'!AC521 -> 115.2
B114: ='[1]Residence info'!D658 -> 73.4 | C114: ='[1]Residence info'!E658 -> 74.3 | D114: ='[1]Residence info'!F658 -> 72 | E114: ='[1]Residence info'!G658 -> 99.58 | F114: ='[1]Residence info'!H658 -> 45.8 | G114: ='[1]Residence info'!I658 -> 70.7 | H114: ='[1]Residence info'!J658 -> 74.4 | I114: ='[1]Residence info'!K658 -> 74.4 | ... M114: ='[1]Residence info'!O658 -> 80.8 | N114: ='[1]Residence info'!S658 -> 97.1 | O114: ='[1]Residence info'!U658 -> 159 | P114: ='[1]Residence info'!V658 -> 160.5 | Q114: ='[1]Residence info'!W658 -> 160.5 | R114: ='[1]Residence info'!X658 -> 160.6 | S114: ='[1]Residence info'!Y658 -> 98.2 | T114: ='[1]Residence info'!AA658 -> 56.9 | U114: ='[1]Residence info'!AB658 -> 75.3 | V114: ='[1]Residence info'!AC658 -> 111.3
O115: ='[1]Residence info'!U795 -> 71 | P115: ='[1]Residence info'!V795 -> 83.9 | Q115: ='[1]Residence info'!W795 -> 83.9 | R115: ='[1]Residence info'!X795 -> 83.9 | S115: ='[1]Residence info'!Y795 -> 52.2 | T115: ='[1]Residence info'!AA795 -> 16.5 | U115: ='[1]Residence info'!AB795 -> 9.2

Sheet Bảng hàng rút gọn
B1: Công ty TNHH Agape Việt Nam - Phòng Kinh Doanh
B2: Bảng giá tổng hợp Sentosa Sky Park
A4: B1 | B4: Bike Parking
A5: 1F
A6: 2F
A7: 3F | B7: Car Parking
A8: 4F | B8: Car Parking
A9: Type | B9: C1 | C9: S2 | D9: S2 | E9: S3 | F9: A3 | G9: B5 | H9: C3-G | I9: B4-G | J9: B4-G | K9: B4-G | L9: B4-G | M9: A1-G | N9: S1-G | O9: DK1-G | P9: B4-1 | Q9: B4-1 | R9: B4-1 | S9: B4-1 | T9: B4-1
A10: Tầng 5
A11: Tầng 5 | B11: 103.9 m2 | C11: 32 m2 | D11: 32 m2 | E11: 36.5 m2 | F11: 52.1 m2 | G11: 74.5 m2 | H11: 128.0 m2 | I11: 71.6 m2 | J11: 72.0 m2 | K11: 71.8 m2 | L11: 71.8 m2 | M11: 46.7 m2 | N11: 30.1 m2 | O11: 66.3 m2 | P11: 71.8 m2 | Q11: 71.7 m2 | R11: 71.7 m2 | S11: 71.5 m2 | T11: 71.8 m2
A12: Sân vườn | B12: − | C12: − | D12: − | E12: − | F12: − | G12: − | H12: 14.0 m2 | I12: 16.5 m2 | J12: 16.4 m2 | K12: 16.4 m2 | L12: 16.4 m2 | M12: 10.5 m2 | N12: 7.0 m2 | O12: 15.5 m2 | P12: − | Q12: − | R12: − | S12: − | T12: −
A13: Mã căn hộ | B13: 501 | C13: 502 | D13: 503 | E13: 504 | F13: 512 | G13: 512A | H13: 512B | I13: 515 | J13: 516 | K13: 517 | L13: 518 | M13: 519 | N13: 520 | O13: 521 | P13: 522 | Q13: 523 | R13: 524 | S13: 525 | T13: 526
A14: 5F
A15: Type | B15: C1 | C15: S2 | D15: S2 | E15: S3 | F15: C2 | G15: A2 | H15: B5 | I15: B5 | J15: B5 | K15: B3 | L15: B3 | M15: B2 | N15: B5 | O15: C3 | P15: B4-1 | Q15: B4-1 | R15: B4-1 | S15: B4-1 | T15: A1 | U15: S1 | V15: DK1 | W15: B4-1 | X15: B4-1 | Y15: B4-1 | Z15: B4-1 | AA15: B4-1
A16: Tầng 6 - 24
A17: Tầng 6 - 24 | B17: 102.9 m2 | C17: 31.8 m2 | D17: 31.8 m2 | E17: 36.4 m2 | F17: 107.3 m2 | G17: 48.6 m2 | H17: 74 m2 | I17: 74 m2 | J17: 74 m2 | K17: 67.9 m2 | L17: 68.2 m2 | M17: 52.3 m2 | N17: 74 m2 | O17: 128.8 m2 | P17: 70.9 m2 | Q17: 70.9 m2 | R17: 70.9 m2 | S17: 70.9 m2 | T17: 46.5 m2 | U17: 30.3 m2 | V17: 66.2 m2 | W17: 70.9 m2 | X17: 70.9 m2 | Y17: 70.9 m2 | Z17: 70.6 m2 | AA17: 70.9 m2
A18: Mã căn hộ | B18: 601 | C18: 602 | D18: 603 | E18: 604 | F18: 605 | G18: 606 | H18: 607 | I18: 608 | J18: 609 | K18: 610 | L18: 611 | M18: 612 | N18: 612A | O18: 612B | P18: 615 | Q18: 616 | R18: 617 | S18: 618 | T18: 619 | U18: 620 | V18: 621 | W18: 622 | X18: 623 | Y18: 624 | Z18: 625 | AA18: 626
A19: 6F
A20: Mã căn hộ | B20: 701 | C20: 702 | D20: 703 | E20: 704 | F20: 705 | G20: 706 | H20: 707 | I20: 708 | J20: 709 | K20: 710 | L20: 711 | M20: 712 | N20: 712A | O20: 712B | P20: 715 | Q20: 716 | R20: 717 | S20: 718 | T20: 719 | U20: 720 | V20: 721 | W20: 722 | X20: 723 | Y20: 724 | Z20: 725 | AA20: 726
A21: 7F
A22: Mã căn hộ | B22: 801 | C22: 802 | D22: 803 | E22: 804 | F22: 805 | G22: 806 | H22: 807 | I22: 808 | J22: 809 | K22: 810 | L22: 811 | M22: 812 | N22: 812A | O22: 812B | P22: 815 | Q22: 816 | R22: 817 | S22: 818 | T22: 819 | U22: 820 | V22: 821 | W22: 822 | X22: 823 | Y22: 824 | Z22: 825 | AA22: 826
A23: 8F
A24: Mã căn hộ | B24: 901 | C24: 902 | D24: 903 | E24: 904 | F24: 905 | G24: 906 | H24: 907 | I24: 908 | J24: 909 | K24: 910 | L24: 911 | M24: 912 | N24: 912A | O24: 912B | P24: 915 | Q24: 916 | R24: 917 | S24: 918 | T24: 919 | U24: 920 | V24: 921 | W24: 922 | X24: 923 | Y24: 924 | Z24: 925 | AA24: 926
A25: 9F
A26: Mã căn hộ | B26: 1001 | C26: 1002 | D26: 1003 | E26: 1004 | F26: 1005 | G26: 1006 | H26: 1007 | I26: 1008 | J26: 1009 | K26: 1010 | L26: 1011 | M26: 1012 | N26: 1012A | O26: 1012B | P26: 1015 | Q26: 1016 | R26: 1017 | S26: 1018 | T26: 1019 | U26: 1020 | V26: 1021 | W26: 1022 | X26: 1023 | Y26: 1024 | Z26: 1025 | AA26: 1026
A27: 10F
A28: Mã căn hộ | B28: 1101 | C28: 1102 | D28: 1103 | E28: 1104 | F28: 1105 | G28: 1106 | H28: 1107 | I28: 1108 | J28: 1109 | K28: 1110 | L28: 1111 | M28: 1112 | N28: 1112A | O28: 1112B | P28: 1115 | Q28: 1116 | R28: 1117 | S28: 1118 | T28: 1119 | U28: 1120 | V28: 1121 | W28: 1122 | X28: 1123 | Y28: 1124 | Z28: 1125 | AA28: 1126
A29: 11F
A30: Mã căn hộ | B30: 1201 | C30: 1202 | D30: 1203 | E30: 1204 | F30: 1205 | G30: 1206 | H30: 1207 | I30: 1208 | J30: 1209 | K30: 1210 | L30: 1211 | M30: 1212 | N30: 1212A | O30: 1212B | P30: 1215 | Q30: 1216 | R30: 1217 | S30: 1218 | T30: 1219 | U30: 1220 | V30: 1221 | W30: 1222 | X30: 1223 | Y30: 1224 | Z30: 1225 | AA30: 1226
A31: 12F
A32: Mã căn hộ | B32: 1301 | C32: 1302 | D32: 1303 | E32: 1304 | F32: 1305 | G32: 1306 | H32: 1307 | I32: 1308 | J32: 1309 | K32: 1310 | L32: 1311 | M32: 1312 | N32: 12A12A | O32: 12A12B | P32: 1315 | Q32: 1316 | R32: 1317 | S32: 1318 | T32: 1319 | U32: 1320 | V32: 1321 | W32: 1322 | X32: 1323 | Y32: 1324 | Z32: 1325 | AA32: 1326
A33: 13F
A34: Mã căn hộ | B34: 1401 | C34: 1402 | D34: 1403 | E34: 1404 | F34: 1405 | G34: 1406 | H34: 1407 | I34: 1408 | J34: 1409 | K34: 1410 | L34: 1411 | M34: 1412 | N34: 12B12A | O34: 12B12B | P34: 1415 | Q34: 1416 | R34: 1417 | S34: 1418 | T34: 1419 | U34: 1420 | V34: 1421 | W34: 1422 | X34: 1423 | Y34: 1424 | Z34: 1425 | AA34: 1426
A35: 14F
A36: Mã căn hộ | B36: 1501 | C36: 1502 | D36: 1503 | E36: 1504 | F36: 1505 | G36: 1506 | H36: 1507 | I36: 1508 | J36: 1509 | K36: 1510 | L36: 1511 | M36: 1512 | N36: 1512A | O36: 1512B | P36: 1515 | Q36: 1516 | R36: 1517 | S36: 1518 | T36: 1519 | U36: 1520 | V36: 1521 | W36: 1522 | X36: 1523 | Y36: 1524 | Z36: 1525 | AA36: 1526
A37: 15F
A38: Mã căn hộ | B38: 1601 | C38: 1602 | D38: 1603 | E38: 1604 | F38: 1605 | G38: 1606 | H38: 1607 | I38: 1608 | J38: 1609 | K38: 1610 | L38: 1611 | M38: 1612 | N38: 1612A | O38: 1612B | P38: 1615 | Q38: 1616 | R38: 1617 | S38: 1618 | T38: 1619 | U38: 1620 | V38: 1621 | W38: 1622 | X38: 1623 | Y38: 1624 | Z38: 1625 | AA38: 1626
A39: 16F
A40: Mã căn hộ | B40: 1701 | C40: 1702 | D40: 1703 | E40: 1704 | F40: 1705 | G40: 1706 | H40: 1707 | I40: 1708 | J40: 1709 | K40: 1710 | L40: 1711 | M40: 1712 | N40: 1712A | O40: 1712B | P40: 1715 | Q40: 1716 | R40: 1717 | S40: 1718 | T40: 1719 | U40: 1720 | V40: 1721 | W40: 1722 | X40: 1723 | Y40: 1724 | Z40: 1725 | AA40: 1726
A41: 17F
A42: Mã căn hộ | B42: 1801 | C42: 1802 | D42: 1803 | E42: 1804 | F42: 1805 | G42: 1806 | H42: 1807 | I42: 1808 | J42: 1809 | K42: 1810 | L42: 1811 | M42: 1812 | N42: 1812A | O42: 1812B | P42: 1815 | Q42: 1816 | R42: 1817 | S42: 1818 | T42: 1819 | U42: 1820 | V42: 1821 | W42: 1822 | X42: 1823 | Y42: 1824 | Z42: 1825 | AA42: 1826
A43: 18F
A44: Mã căn hộ | B44: 1901 | C44: 1902 | D44: 1903 | E44: 1904 | F44: 1905 | G44: 1906 | H44: 1907 | I44: 1908 | J44: 1909 | K44: 1910 | L44: 1911 | M44: 1912 | N44: 1912A | O44: 1912B | P44: 1915 | Q44: 1916 | R44: 1917 | S44: 1918 | T44: 1919 | U44: 1920 | V44: 1921 | W44: 1922 | X44: 1923 | Y44: 1924 | Z44: 1925 | AA44: 1926
A45: 19F
A46: Mã căn hộ | B46: 2001 | C46: 2002 | D46: 2003 | E46: 2004 | F46: 2005 | G46: 2006 | H46: 2007 | I46: 2008 | J46: 2009 | K46: 2010 | L46: 2011 | M46: 2012 | N46: 2012A | O46: 2012B | P46: 2015 | Q46: 2016 | R46: 2017 | S46: 2018 | T46: 2019 | U46: 2020 | V46: 2021 | W46: 2022 | X46: 2023 | Y46: 2024 | Z46: 2025 | AA46: 2026
A47: 20F
A48: Mã căn hộ | B48: 2101 | C48: 2102 | D48: 2103 | E48: 2104 | F48: 2105 | G48: 2106 | H48: 2107 | I48: 2108 | J48: 2109 | K48: 2110 | L48: 2111 | M48: 2112 | N48: 2112A | O48: 2112B | P48: 2115 | Q48: 2116 | R48: 2117 | S48: 2118 | T48: 2119 | U48: 2120 | V48: 2121 | W48: 2122 | X48: 2123 | Y48: 2124 | Z48: 2125 | AA48: 2126
A49: 21F
A50: Mã căn hộ | B50: 2201 | C50: 2202 | D50: 2203 | E50: 2204 | F50: 2205 | G50: 2206 | H50: 2207 | I50: 2208 | J50: 2209 | K50: 2210 | L50: 2211 | M50: 2212 | N50: 2212A | O50: 2212B | P50: 2215 | Q50: 2216 | R50: 2217 | S50: 2218 | T50: 2219 | U50: 2220 | V50: 2221 | W50: 2222 | X50: 2223 | Y50: 2224 | Z50: 2225 | AA50: 2226
A51: 22F
A52: Mã căn hộ | B52: 2301 | C52: 2302 | D52: 2303 | E52: 2304 | F52: 2305 | G52: 2306 | H52: 2307 | I52: 2308 | J52: 2309 | K52: 2310 | L52: 2311 | M52: 2312 | N52: 2312A | O52: 2312B | P52: 2315 | Q52: 2316 | R52: 2317 | S52: 2318 | T52: 2319 | U52: 2320 | V52: 2321 | W52: 2322 | X52: 2323 | Y52: 2324 | Z52: 2325 | AA52: 2326
A53: 23F
A54: Mã căn hộ | B54: 2401 | C54: 2402 | D54: 2403 | E54: 2404 | F54: 2405 | G54: 2406 | H54: 2407 | I54: 2408 | J54: 2409 | K54: 2410 | L54: 2411 | M54: 2412 | N54: 2412A | O54: 2412B | P54: 2415 | Q54: 2416 | R54: 2417 | S54: 2418 | T54: 2419 | U54: 2420 | V54: 2421 | W54: 2422 | X54: 2423 | Y54: 2424 | Z54: 2425 | AA54: 2426
A55: 24F
A56: Type | B56: C1 | C56: S2 | D56: S2 | E56: S3 | F56: C2 | G56: A2 | H56: B5 | I56: B5 | J56: B5 | K56: B3 | L56: B3 | M56: A3 | N56: P2 | O56: P4 | P56: B4-1 | Q56: B4-1 | R56: B4-1 | S56: A1 | T56: S1 | U56: DK1 | V56: B4-1 | W56: B4-1 | X56: B4-1 | Y56: B4-1 | Z56: B4-1
A57: Tầng 25
A58: Tầng 25 | B58: 102.9 m2 | C58: 31.8 m2 | D58: 31.8 m2 | E58: 36.4 m2 | F58: 107.3 m2 | G58: 48.6 m2 | H58: 74 m2 | I58: 74 m2 | J58: 74 m2 | K58: 67.9 m2 | L58: 68.2 m2 | M58: 52.3 m2 | N58: 98.3 m2 | O58: 116.1 m2 | P58: 70.9 m2 | Q58: 70.9 m2 | R58: 70.9 m2 | S58: 46.5 m2 | T58: 30.3 m2 | U58: 66.2 m2 | V58: 70.9 m2 | W58: 70.9 m2 | X58: 70.9 m2 | Y58: 70.9 m2 | Z58: 70.9 m2
A59: Sân vườn | C59: − | D59: − | E59: − | F59: − | G59: − | H59: − | I59: − | J59: − | K59: − | L59: − | M59: − | N59: 35.7 m2 | O59: 37.0 m2 | P59: − | Q59: − | R59: − | S59: − | T59: − | U59: − | V59: − | W59: − | X59: − | Y59: − | Z59: −
A60: Mã căn hộ | B60: 2501 | C60: 2502 | D60: 2503 | E60: 2504 | F60: 2505 | G60: 2506 | H60: 2507 | I60: 2508 | J60: 2509 | K60: 2510 | L60: 2511 | M60: 2512 | N60: 2512B | O60: 2515 | P60: 2516 | Q60: 2517 | R60: 2518 | S60: 2519 | T60: 2520 | U60: 2521 | V60: 2522 | W60: 2523 | X60: 2524 | Y60: 2525 | Z60: 2526
A61: 25F
A62: Type | B62: C1 | C62: S2 | D62: S2 | E62: S3 | F62: C2 | G62: A2 | H62: B5 | I62: B5 | J62: B5 | K62: B3 | L62: B3 | M62: A3 | N62: P1 | O62: P3 | P62: B4-1 | Q62: B4-1 | R62: B4-1 | S62: A1 | T62: S1 | U62: DK1 | V62: B4-1 | W62: B4-1 | X62: B4-1 | Y62: B4-1 | Z62: B4-1
A63: Tầng 26
A64: Tầng 26 | B64: 102.9 m2 | C64: 31.8 m2 | D64: 31.8 m2 | E64: 36.4 m2 | F64: 107.3 m2 | G64: 48.6 m2 | H64: 74 m2 | I64: 74 m2 | J64: 74 m2 | K64: 67.9 m2 | L64: 68.2 m2 | M64: 52.3 m2 | N64: 86.4 m2 | O64: 114.7 m2 | P64: 70.9 m2 | Q64: 70.9 m2 | R64: 70.9 m2 | S64: 46.5 m2 | T64: 30.3 m2 | U64: 66.2 m2 | V64: 70.9 m2 | W64: 70.9 m2 | X64: 70.9 m2 | Y64: 70.9 m2 | Z64: 70.9 m2
A65: Sân vườn | B65: − | C65: − | D65: − | E65: − | F65: − | G65: − | H65: − | I65: − | J65: − | K65: − | L65: − | M65: − | N65: 25.4 m2 | O65: 24.6 m2 | P65: − | Q65: − | R65: − | S65: − | T65: − | U65: − | V65: − | W65: − | X65: − | Y65: − | Z65: −
A66: Mã căn hộ | B66: 2601 | C66: 2602 | D66: 2603 | E66: 2604 | F66: 2605 | G66: 2606 | H66: 2607 | I66: 2608 | J66: 2609 | K66: 2610 | L66: 2611 | M66: 2612 | N66: 2612A | O66: 2612B | P66: 2615 | Q66: 2616 | R66: 2617 | S66: 2618 | T66: 2619 | U66: 2620 | V66: 2621 | W66: 2622 | X66: 2623 | Y66: 2624 | Z66: 2625
A67: 26F
A68: Type | B68: C1 | C68: A2 | D68: P8 | E68: B5 | F68: B5 | G68: B5 | H68: B3 | I68: B3 | J68: A3 | K68: D1 | L68: P6 | M68: B4-1 | N68: B4-1 | O68: A1 | P68: S1 | Q68: DK1 | R68: B4-1 | S68: B4-1 | T68: B4-1 | U68: B4-1 | V68: B4-1
A69: Tầng 27
A70: Tầng 27 | B70: 102.9 m2 | C70: 48.5 m2 | D70: 138.1 m2 | E70: 74 m2 | F70: 74 m2 | G70: 74 m2 | H70: 67.9 m2 | I70: 68.2 m2 | J70: 52.3 m2 | K70: 78.9 m2 | L70: 132.3 m2 | M70: 70.9 m2 | N70: 70.9 m2 | O70: 46.5 m2 | P70: 30.3 m2 | Q70: 66.2 m2 | R70: 70.9 m2 | S70: 70.9 m2 | T70: 70.9 m2 | U70: 70.9 m2 | V70: 70.9 m2
B71: − | C71: − | D71: 91.8 m2 | E71: − | F71: − | G71: − | H71: − | I71: − | J71: − | K71: 20.6 m2 | L71: 37.7 m2 | M71: − | N71: − | O71: − | P71: − | Q71: − | R71: − | S71: − | T71: − | U71: − | V71: −
A72: Mã căn hộ | B72: 2701 | C72: 2702 | D72: 2706 | E72: 2707 | F72: 2708 | G72: 2709 | H72: 2710 | I72: 2711 | J72: 2712 | K72: 2715 | L72: 2716 | M72: 2717 | N72: 2718 | O72: 2719 | P72: 2720 | Q72: 2721 | R72: 2717 | S72: 2718 | T72: 2719 | U72: 2720 | V72: 2721
A73: 27F
A74: Type | B74: C1 | C74: A2 | D74: P7 | E74: B5 | F74: B5 | G74: B5 | H74: B3 | I74: B3 | J74: A3 | K74: D1 | L74: P5 | M74: A1 | N74: B4 | O74: A1 | P74: S1 | Q74: DK1 | R74: B4 | S74: B4 | T74: B4 | U74: B4 | V74: B4
A75: Tầng 28
A76: Tầng 28 | B76: 102.9 m2 | C76: 48.5 m2 | D76: 140.6 m2 | E76: 74 m2 | F76: 74 m2 | G76: 74 m2 | H76: 67.9 m2 | I76: 68.2 m2 | J76: 52.3 m2 | K76: 56.2 m2 | L76: 127.7 m2 | M76: 70.9 m2 | N76: 70.9 m2 | O76: 46.5 m2 | P76: 30.3 m2 | Q76: 66.2 m2 | R76: 70.9 m2 | S76: 70.9 m2 | T76: 70.9 m2 | U76: 70.9 m2 | V76: 70.9 m2
B77: − | C77: − | D77: 32.6 m2 | E77: − | F77: − | G77: − | H77: − | I77: − | J77: − | K77: 23.6 m2 | L77: 31.3 m2 | M77: − | N77: − | O77: − | P77: − | Q77: − | R77: − | S77: − | T77: − | U77: − | V77: −
A78: Mã căn hộ (Room) | B78: 2801 | C78: 2802 | D78: 2806 | E78: 2807 | F78: 2808 | G78: 2809 | H78: 2810 | I78: 2811 | J78: 2812 | K78: 2815 | L78: 2816 | M78: 2817 | N78: 2818 | O78: 2819 | P78: 2820 | Q78: 2821 | R78: 2822 | S78: 2823 | T78: 2824 | U78: 2825 | V78: 2826
A79: 28F
