Workbook

Sheet Trả theo tiến độ (không vay)
B2: TIẾN ĐỘ THANH TOÁN HOÀNG HUY COMMERCE DỰ KIẾN
B3: GÓI CHIẾT KHẤU NẾU KHÔNG VAY, CHIẾT KHẤU 13%
C4: Tên khách hàng:
C5: Mã căn hộ: | F5: 1212 | G5: Toà: | H5: Lotus
C6: Diện tích CH sử dụng (m2):
C7: Diện tích CH tim tường (m2):
C8: Giá trị CH dự kiến (bao gồm VAT, không bao gồm PBT): | F8: 2752831744
C9: Tặng gói nội thất 27.5.2023 | F9: 300000000
C10: Gói chiết khấu nếu không vay NH (13%) | F10: =(F8-F9)*13% -> 3.1886813e+08
C11: Giá trị căn hộ sau khi chiết khấu (bao gồm vat): | F11: =F8-F10-F9 -> 2.1339636e+09
B13: TIẾN ĐỘ THANH TOÁN TÒA LOTUS | J13: (Đơn vị tính: VNĐ)
B14: Đợt thanh toán | C14: Tỷ lệ thanh toán | D14: Số tiền (VNĐ) | E14: Thanh toán | F14: Phí bảo trì căn hộ | G14: Thời điểm thanh toán
D15: 100000000 | E15: Đặt cọc | G15: Khi ký bản tự nguyện đặt cọc
B16: Đợt 1 | C16: 0.1 | D16: =(F11*C16)-D15 -> 1.1339636e+08 | E16: 10% tổng GTCH (gồm VAT) sau khi đã trừ chiết khấu chính sách | G16: Trong vòng 7 - 10 ngày từ ngày đặt cọc khách hàng sẽ ký HĐMB, sẽ đóng 10% giá trị căn hộ bao gồm 100 triệu cọc ban đầu
B17: Đợt 2 | C17: 0.1 | D17: =$F$11*C17 -> 2.1339636e+08 | E17: 10% tổng GTCH (bao gồm VAT) | G17: Sau 1 tháng kể từ ngày ký HĐMB
B18: Đợt 3 | C18: 0.1 | D18: =$F$11*C18 -> 2.1339636e+08 | E18: 10% tổng GTCH (gồm VAT) | G18: Sau 2 tháng kể từ ngày ký HĐMB
B19: Đợt 4 | C19: 0.1 | D19: =$F$11*C19 -> 2.1339636e+08 | E19: 10% tổng GTCH (gồm VAT) | G19: Sau 3 tháng kể từ ngày ký HĐMB
B20: Đợt 5 | C20: 0.1 | D20: =$F$11*C20 -> 2.1339636e+08 | E20: 10% tổng GTCH (gồm VAT) | G20: Sau 4 tháng kể từ ngày ký HĐMB
B21: Đợt 6 | C21: 0.1 | D21: =$F$11*C21 -> 2.1339636e+08 | E21: 10% tổng GTCH (gồm VAT) | G21: Sau 5 tháng kể từ ngày ký HĐMB
B22: Đợt 7 | C22: 0.1 | D22: =$F$11*C22 -> 2.1339636e+08 | E22: 10% tổng GTCH (gồm VAT) | G22: Sau 6 tháng kể từ ngày ký HĐMB
B23: Đợt 8 | C23: 0.25 | D23: =F11*C23 -> 5.334909e+08 | E23: 25% tổng GTCH (gồm VAT) + PBT 2% trước VAT (đóng 1 lần duy nhất) | F23: =(F11/1.1)*2% -> 38799338 | G23: Ngay khi có TB bàn giao nhà (Dự kiến ngày 15/12/2023)
B24: Đợt 9 | C24: 0.05 | D24: =F11*C24 -> 1.0669818e+08 | E24: 5% tổng GTCH (bao gồm VAT) | G24: Ngay khi có TB nhận giấy CN quyền sở hữu
B25: Tổng giá trị căn hộ (bao gồm VAT,chưa bao gồm 2% PBT): | C25: =SUM(C16:C24) -> 1 | D25: =SUM(D15:D24) -> 2.1339636e+09 | F25: =F23 -> 38799338
B26: Tổng giá trị căn hộ (bao gồm VAT + 2%PBT): | D26: =D25+F25 -> 2.172763e+09

Sheet Hỗ trợ lãi suất (có vay)
B2: TIẾN ĐỘ THANH TOÁN HOÀNG HUY COMMERCE DỰ KIẾN
B3: GÓI CHIẾT KHẤU NẾU VAY NGÂN HÀNG, TẶNG XE SH MODE
C4: Tên khách hàng:
C5: Mã căn hộ: | F5: ='Trả theo tiến độ (không vay)'!F5 -> 1212 | G5: Toà: | H5: ='Trả theo tiến độ (không vay)'!H5 -> Lotus
C6: Diện tích CH sử dụng (m2):
C7: Diện tích CH tim tường (m2):
C8: Giá trị CH dự kiến (bao gồm VAT, không bao gồm PBT): | F8: ='Trả theo tiến độ (không vay)'!F8 -> 2752831744
C9: Quà tặng xe SH Mode | F9: 60000000
C10: Tặng gói nội thất 27.5.2023 | F10: 300000000
C11: Gói chiết khấu nếu vay NH (7%) | F11: =(F8-F9-F10)*7% -> 1.6749822e+08
C12: Giá trị căn hộ sau khi chiết khấu (bao gồm vat): | F12: =F8-F11-F9-F10 -> 2.2253335e+09
B14: TIẾN ĐỘ THANH TOÁN TÒA LOTUS | J14: (Đơn vị tính: VNĐ)
B15: Đợt thanh toán | C15: Tỷ lệ thanh toán | D15: Số tiền (VNĐ) | E15: Thanh toán | F15: Phí bảo trì căn hộ | G15: Thời điểm thanh toán
B16: 30% giá trị HĐMB phần đối ứng bằng nguồn vốn tự có
D17: 100000000 | E17: Đặt cọc | G17: Khi ký bản tự nguyện đặt cọc
B18: Đợt 1 | C18: 0.1 | D18: =(F12*C18)-D17 -> 1.2253335e+08 | E18: 10% tổng GTCH (gồm VAT) sau khi đã trừ chiết khấu chính sách | G18: Trong vòng 7 - 10 ngày từ ngày đặt cọc khách hàng sẽ ký HĐMB, sẽ đóng 10% giá trị căn hộ bao gồm 100 triệu cọc ban đầu
B19: Đợt 2 | C19: 0.1 | D19: =$F$12*C19 -> 2.2253335e+08 | E19: 10% tổng GTCH (bao gồm VAT) | G19: Sau 1 tháng kể từ ngày ký HĐMB
B20: Đợt 3 | C20: 0.1 | D20: =$F$12*C20 -> 2.2253335e+08 | E20: 10% tổng GTCH (gồm VAT) | G20: Sau 2 tháng kể từ ngày ký HĐMB
B21: Ngân hàng giải ngân 65% giá trị Hợp đồng
B22: Đợt 4 | C22: 0.1 | D22: =$F$12*C22 -> 2.2253335e+08 | E22: 10% tổng GTCH (gồm VAT) | G22: Sau 3 tháng kể từ ngày ký HĐMB
B23: Đợt 5 | C23: 0.1 | D23: =$F$12*C23 -> 2.2253335e+08 | E23: 10% tổng GTCH (gồm VAT) | G23: Sau 4 tháng kể từ ngày ký HĐMB
B24: Đợt 6 | C24: 0.1 | D24: =$F$12*C24 -> 2.2253335e+08 | E24: 10% tổng GTCH (gồm VAT) | G24: Sau 5 tháng kể từ ngày ký HĐMB
B25: Đợt 7 | C25: 0.1 | D25: =$F$12*C25 -> 2.2253335e+08 | E25: 10% tổng GTCH (gồm VAT) | G25: Sau 6 tháng kể từ ngày ký HĐMB
B26: Đợt 8 | C26: 0.25 | D26: =F12*C26 -> 5.5633338e+08 | E26: 25% tổng GTCH (gồm VAT) + PBT 2% trước VAT (đóng 1 lần duy nhất) | F26: =(F12/1.1)*2% -> 40460609 | G26: Ngay khi có TB bàn giao nhà (Dự kiến ngày 15/12/2023)
B27: Đợt 9 | C27: 0.05 | D27: =F12*C27 -> 1.1126668e+08 | E27: 5% tổng GTCH (bao gồm VAT) | G27: Ngay khi có TB nhận giấy CN quyền sở hữu
B28: Tổng giá trị căn hộ (bao gồm VAT,chưa bao gồm 2% PBT): | C28: =SUM(C18:C27) -> 1 | D28: =SUM(D17:D27) -> 2.2253335e+09 | F28: =F26 -> 40460609
B29: Tổng giá trị căn hộ (bao gồm VAT + 2%PBT): | D29: =D28+F28 -> 2.2657941e+09

Sheet Hỗ trợ thanh toán chậm
A2: TIẾN ĐỘ THANH TOÁN HOÀNG HUY COMMERCE DỰ KIẾN
A3: GÓI CHIẾT KHẤU HỖ TRỢ THANH TOÁN CHẬM, TẶNG XE SH MODE
A4: (Chỉ áp dụng cho khách Việt Nam - Không áp dụng cho khách nước ngoài)
B5: Tên khách hàng:
B6: Mã căn hộ: | E6: ='Trả theo tiến độ (không vay)'!F5 -> 1212 | F6: Toà: | G6: ='Trả theo tiến độ (không vay)'!H5 -> Lotus
B7: Diện tích CH sử dụng (m2):
B8: Diện tích CH tim tường (m2):
B9: Giá trị CH dự kiến (bao gồm VAT, không bao gồm PBT): | E9: ='Trả theo tiến độ (không vay)'!F8 -> 2752831744
B10: Quà tặng xe SH Mode | E10: 60000000
B11: Tặng gói nội thất 27.5.2023 | E11: 300000000
B12: Gói chiết khấu hỗ trợ thanh toán chậm (5%) | E12: =(E9-E10-E11)*5% -> 1.1964159e+08
B13: Giá trị căn hộ sau khi chiết khấu (bao gồm vat): | E13: =E9-E10-E11-E12 -> 2.2731902e+09
A15: TIẾN ĐỘ THANH TOÁN TÒA LOTUS | I15: (Đơn vị tính: VNĐ)
A16: Đợt thanh toán | B16: Tỷ lệ thanh toán | C16: Số tiền (VNĐ) | D16: Thanh toán | E16: Thời điểm thanh toán | I16: Phí bảo trì căn hộ
A17: • Số tiền đóng bằng nguồn vốn tự có của khách hàng (Tương đương 40%)
A18: • Với tổng số tiền khách đóng 40% è Chưa được nhận bàn giao căn hộ
C19: 100000000 | D19: Đặt cọc | E19: Khi ký bản tự nguyện đặt cọc
A20: Đợt 1 | B20: 0.15 | C20: =(E13*B20)-C19 -> 2.4097852e+08 | D20: 15% đã bao gồm VAT (sau khi đã trừ chiết khấu chính sách) | E20: Trong vòng 7-10 ngày từ ngày đặt cọc khách hàng sẽ ký HĐMB, sẽ đóng 10% giá trị căn hộ bao gồm 100 triệu cọc ban đầu
A21: Đợt 2 | B21: 0.01 | C21: =$E$13*B21 -> 22731902 | D21: 1% đã bao gồm VAT | E21: Sau 1 tháng kể từ ngày ký HĐMB
A22: Đợt 3 | B22: 0.01 | C22: =$E$13*B22 -> 22731902 | D22: 1% đã bao gồm VAT | E22: Sau 2 tháng kể từ ngày ký HĐMB
A23: Đợt 4 | B23: 0.01 | C23: =$E$13*B23 -> 22731902 | D23: 1% đã bao gồm VAT | E23: Sau 3 tháng kể từ ngày ký HĐMB
A24: Đợt 5 | B24: 0.01 | C24: =$E$13*B24 -> 22731902 | D24: 1% đã bao gồm VAT | E24: Sau 4 tháng kể từ ngày ký HĐMB
A25: Đợt 6 | B25: 0.01 | C25: =$E$13*B25 -> 22731902 | D25: 1% đã bao gồm VAT | E25: Sau 5 tháng kể từ ngày ký HĐMB
A26: Đợt 7 | B26: 0.01 | C26: =$E$13*B26 -> 22731902 | D26: 1% đã bao gồm VAT | E26: Sau 6 tháng kể từ ngày ký HĐMB
A27: Đợt 8 | B27: 0.01 | C27: =E13*B27 -> 22731902 | D27: 1% đã bao gồm VAT | E27: Sau 7 tháng kể từ ngày ký HĐMB
A28: Đợt 9 | B28: 0.01 | C28: =$E$13*B28 -> 22731902 | D28: 1% đã bao gồm VAT | E28: Sau 8 tháng kể từ ngày ký HĐMB
A29: Đợt 10 | B29: 0.01 | C29: =$E$13*B29 -> 22731902 | D29: 1% đã bao gồm VAT | E29: Sau 9 tháng kể từ ngày ký HĐMB
A30: Đợt 11 | B30: 0.01 | C30: =$E$13*B30 -> 22731902 | D30: 1% đã bao gồm VAT | E30: Sau 10 tháng kể từ ngày ký HĐMB
A31: Đợt 12 | B31: 0.01 | C31: =$E$13*B31 -> 22731902 | D31: 1% đã bao gồm VAT | E31: Sau 11 tháng kể từ ngày ký HĐMB
A32: Đợt 13 | B32: 0.01 | C32: =$E$13*B32 -> 22731902 | D32: 1% đã bao gồm VAT | E32: Sau 12 tháng kể từ ngày ký HĐMB
A33: Đợt 14 | B33: 0.01 | C33: =$E$13*B33 -> 22731902 | D33: 1% đã bao gồm VAT | E33: Sau 13 tháng kể từ ngày ký HĐMB
A34: Đợt 15 | B34: 0.01 | C34: =$E$13*B34 -> 22731902 | D34: 1% đã bao gồm VAT | E34: Sau 14 tháng kể từ ngày ký HĐMB
A35: Đợt 16 | B35: 0.01 | C35: =$E$13*B35 -> 22731902 | D35: 1% đã bao gồm VAT | E35: Sau 15 tháng kể từ ngày ký HĐMB
A36: Đợt 17 | B36: 0.01 | C36: =$E$13*B36 -> 22731902 | D36: 1% đã bao gồm VAT | E36: Sau 16 tháng kể từ ngày ký HĐMB
A37: Đợt 18 | B37: 0.01 | C37: =$E$13*B37 -> 22731902 | D37: 1% đã bao gồm VAT | E37: Sau 17 tháng kể từ ngày ký HĐMB
A38: Đợt 19 | B38: 0.01 | C38: =$E$13*B38 -> 22731902 | D38: 1% đã bao gồm VAT | E38: Sau 18 tháng kể từ ngày ký HĐMB
A39: Đợt 20 | B39: 0.01 | C39: =$E$13*B39 -> 22731902 | D39: 1% đã bao gồm VAT | E39: Sau 19 tháng kể từ ngày ký HĐMB
... A45: Đợt 26 | B45: 0.01 | C45: =$E$13*B45 -> 22731902 | D45: 1% đã bao gồm VAT | E45: Sau 25 tháng kể từ ngày ký HĐMB
A46: • Số tiền NH giải ngân 1 lần (tương đương 55%+2% phí bảo trì), Khách hàng tự trả lãi suất
A47: • Khi NH giải ngân đủ 55%+2% phí bảo trì thì KH sẽ được nhận bàn giao nhà (chỉ áp dụng đối với trường hợp KH đủ ĐK của NH). Hoặc KH có thể dùng vốn tự có
A48: • Tổng thời gian thanh toán đủ 95% chậm nhất là 26 tháng kể từ ngày ký HĐMB
A49: • KH được quyền thanh toán sớm và nhận bàn giao căn hộ sớm khi dự án đủ điều kiện bàn giao theo quy định của PL
A50: Đợt 27 | B50: 0.55 | C50: =E13*B50 -> 1.2502546e+09 | D50: 55% tổng GTCH (bao gồm VAT) + 2% phí bảo trì | E50: Tại thời điểm sau 24 tháng kể từ ngày ký HĐMB và nhận bàn giao căn hộ | I50: =(E13/1.1)*2% -> 41330730
A51: Đợt 28 | B51: 0.05 | C51: =E13*5% -> 1.1365951e+08 | D51: 5% đã bao gồm VAT | E51: Ngay khi có TB nhận giấy CN quyền sở hữu
A52: Tổng giá trị căn hộ (bao gồm VAT,chưa bao gồm 2% PBT): | B52: =SUM(B19:B51) -> 1 | C52: =SUM(C19:C51) -> 2.2731902e+09
A53: Tổng giá trị căn hộ (bao gồm VAT + 2%PBT): | C53: =C52+I50 -> 2.3145209e+09
