Workbook
Name List_MB: '[1]Tinh lai gia HDMB CPI'!$C$8:$C$800
Name List_MB: '[1]Tinh lai gia HDMB CPI'!$C$8:$C$800
Name tivi: '[2]Đừng xóa'!$B$1:$B$2

Sheet PTG
H1: THỦ TỤC ĐIỀN
B2: PHIẾU TÍNH GIÁ
B3: DIAMOND CROWN HẢI PHÒNG
B4: Áp dụng cho: | C4: CSBH 15/09/2022
C6: Lựa chọn HTLS/Không HTLS | F6: HTLS | I6: Thủ tục chọn trong droplist
C7: Ngân hàng vay vốn | F7: 0
C8: Gói không gian sáng tạo căn 1.5 PN | F8: Bàn giao hoàn thiện | J8: Bàn giao hoàn thiện
C9: Tham gia chương trình TTS 95% giá bán chưa gồm VAT +100% VAT + KPBT | F9: KHÔNG TTS | I9: Thủ tục chọn trong droplist
B11: I. Thông tin khách hàng:
B12: Mã căn hộ | F12: SO-09 | J12: 51.5
B13: Tên khách hàng: | F13: Nguyễn Văn A | J13: 53793820 | K13: =(K16+F21*10%)/1.12 -> 46650963 | L13: =J13-K13 -> 7142857.1
B14: Tầng: | J14: =(J13-$F$21)*10% -> 4986693.1 | K14: =(K13-$F$21)*10% -> 4272407.4
B15: Căn: | F15: =IF(RIGHT(F12,1)="A",RIGHT(F12,3),RIGHT(F12,2)) -> 09 | J15: =J13*2% -> 1075876.4 | K15: =K13*2% -> 933019.26
B16: Loại căn | F16: Shopoffice | J16: =SUM(J13:J15) -> 59856390 | K16: =J16-8000000 -> 51856390
B17: II.Giá bán | J17: =J12*J16 -> 3.0826041e+09
B18: Tổng Giá Bán Căn Hộ (đã bao gồm VAT và KPBT) Chưa trừ CK | F18: =+VLOOKUP(F12,'Bảng hàng'!$B$2:$M$139,12,0) -> 16542771760
A19: II.1 | B19: Diện tích theo thông thủy (m2): | F19: 248.7 | I19: >> Thủ tục điền vào ô màu vàng
B20: Đơn giá thông thủy (chưa VAT) | F20: 59740772 | I20: >> Thủ tục điền vào ô màu vàng
B21: '- Đơn giá QSD đất không chịu VAT | F21: 3926889
B22: Chương trình Quà tặng Kim Cương | F22: 200000000
B23: Chiết khấu không HTLS | F23: =+IF(F6="Không HTLS", "3%",0) -> 0 | G23: =(F20-#REF!/F19-F22/F19)*(1-F23) -> #REF!
B24: Đơn giá thông thủy (chưa VAT) sau giảm giá | F24: =(F20-F22/F19)*(1-F23) -> 58936590
B25: Giá Bán Căn Hộ (chưa bao gồm VAT và KPBT) sau CK | F25: =F19*F24 -> 1.465753e+10
B26: Thuế VAT | F26: =+(F25-F21*F19)*10% -> 1.3680913e+09
B27: Giá Bán Căn Hộ (đã bao gồm VAT) | F27: =SUM(F25,F26) -> 1.6025621e+10
B28: Phí bảo trì 2% | F28: =F25*2% -> 2.931506e+08
B29: Tổng Giá Bán Căn Hộ (đã bao gồm VAT và KPBT) sau CK | F29: =SUM(F27:F28) -> 1.6318772e+10 | M29: =L29-L27 -> 0
B30: Đơn giá bán bao gồm VAT + KPBT (thông thủy) | F30: =F29/F19 -> 65616292
A31: II.2 | B31: CKTTS_Khách vay | F31: =IF(F6="HTLS",'HTLS '!H25,0) -> #REF! | G31: >> Vào TT CKTTS | J31: =K31-K25 -> 0 | M31: =L31-L25 -> 0
B32: Hỗ trợ lãi suất_sau HĐMB | F32: =IF(F6="HTLS",'HTLS '!M13) -> 0
A33: II.3 | B33: Chiết khấu thanh toán sớm_khách không vay | F33: =IF(F6="HTLS",0,T99) -> 0
A34: II.4 | B34: Số tiền sau chiết khấu | F34: =F29-F31-F33 -> #REF!
B36: III. Tiến độ Thanh toán | D36: Ngày thanh toán | E36: Tỷ lệ | F36: Số tiền thanh toán
B38: Đặt cọc - Ngay khi ký TTĐC | D38: =TODAY() -> 44872 | F38: 200000000
B39: Lần 1: Ngay khi ký HĐMB (trong vòng 20 ngày kể từ ngày ký TTĐC) | D39: =D38+20 -> 44892 | E39: 0.2 | F39: =F27*E39-F38 -> 3.0051243e+09 | J39: =$F$26*E39 -> 2.7361825e+08
B40: Lần 2: Trong vòng 30 ngày kể từ ngày ký HĐMB | D40: =D39+30 -> 44922 | E40: =5% -> 0.05 | F40: =E40*$F$27 -> 8.0128106e+08 | J40: =$F$26*E40 -> 68404564
B41: Lần 3: Trong vòng 60 ngày kể từ ngày ký HĐMB | D41: =D39+60 -> 44952 | E41: 0.05 | F41: =E41*$F$27 -> 8.0128106e+08 | J41: =$F$26*E41 -> 68404564
B42: Lần 4: Trong vòng 90 ngày kể từ ngày ký HĐMB | D42: =D39+90 -> 44982 | E42: 0.1 | F42: =E42*$F$27 -> 1.6025621e+09 | J42: =$F$26*E42 -> 1.3680913e+08
B43: Lần 5: Trong vòng 120 ngày kể từ ngày ký HĐMB | D43: =D39+120 -> 45012 | E43: 0.1 | F43: =E43*$F$27 -> 1.6025621e+09 | J43: =$F$26*E43 -> 1.3680913e+08
B44: Lần 6: Trong vòng 180 ngày kể từ ngày ký HĐMB | D44: =D39+180 -> 45072 | E44: 0.1 | F44: =E44*$F$27 -> 1.6025621e+09 | J44: =$F$26*E44 -> 1.3680913e+08
...

Sheet Bảng hàng
A1: STT | B1: Mã căn | C1: Tầng | D1: Căn | E1: Số PN | F1: DT tim tường (m2) | G1: DT thông thủy (m2) | H1: Đơn giá bán/m2 thông thủy (chưa VAT & KPBT) | I1: VAT/m2 thông thủy 10% | J1: KPBT/m2 thông thủy 2% | K1: Đơn giá bán/m2 thông thủy (có VAT & KPBT) | L1: Tổng giá bán CH (chưa VAT & KPBT) | M1: Tổng giá bán CH (gồm VAT & KBPT)
A2: 1 | B2: CH-0611 | C2: 6 | D2: 11 | E2: 2PN | F2: 71.6 | G2: 65.9 | H2: 54187281 | I2: 5,026,039 | J2: 1,083,746 | K2: 60,297,066 | L2: 3,570,941,840 | M2: 3,973,576,662
A3: 2 | B3: CH-0612A | C3: 6 | D3: 12A | E3: 2PN | F3: 60.8 | G3: 56.4 | H3: 54,331,111 | I3: 5,040,422 | J3: 1,086,622 | K3: 60,458,155 | L3: 3,064,274,653 | M3: 3,409,839,958
A4: 3 | B4: CH-0621 | C4: 6 | D4: 21 | E4: 3.5PN | F4: 104.8 | G4: 97.1 | H4: 60,042,503 | I4: 5,611,561 | J4: 1,200,850 | K4: 66,854,915 | L4: 5,830,127,058 | M4: 6,491,612,213
A5: 4 | B5: CH-0622 | C5: 6 | D5: 22 | E5: 2PN | F5: 71.6 | G5: 65.9 | H5: 53,149,437 | I5: 4,922,255 | J5: 1,062,989 | K5: 59,134,680 | L5: 3,502,547,894 | M5: 3,896,975,443
A6: 5 | B6: CH-08A15A | C6: 08A | D6: 15A | E6: 2PN | F6: 71.2 | G6: 64.2 | H6: 54,738,892 | I6: 5,081,200 | J6: 1,094,778 | K6: 60,914,870 | L6: 3,514,236,884 | M6: 3,910,734,682
A7: 6 | B7: CH-08A15 | C7: 08A | D7: 15 | E7: 1PN+ | F7: 56 | G7: 49.9 | H7: 53,793,820 | I7: 4,986,693 | J7: 1,075,876 | K7: 59,856,390 | L7: 2,684,311,621 | M7: 2,986,833,839
A8: 7 | B8: CH-08A18 | C8: 08A | D8: 18 | E8: 1PN+ | F8: 56 | G8: 49.9 | H8: 53,793,820 | I8: 4,986,693 | J8: 1,075,876 | K8: 59,856,390 | L8: 2,684,311,621 | M8: 2,986,833,839
A9: 8 | B9: CH-08A19 | C9: 08A | D9: 19 | E9: 2PN | F9: 71.2 | G9: 64.2 | H9: 52,642,455 | I9: 4,871,557 | J9: 1,052,849 | K9: 58,566,861 | L9: 3,379,645,626 | M9: 3,759,992,474
A10: 9 | B10: CH-08A24 | C10: 08A | D10: 24 | E10: 2PN | F10: 71.6 | G10: 65.9 | H10: 53,668,143 | I10: 4,974,125 | J10: 1,073,363 | K10: 59,715,631 | L10: 3,536,730,624 | M10: 3,935,260,100
A11: 10 | B11: CH-0821 | C11: 8 | D11: 21 | E11: 3.5PN | F11: 104.8 | G11: 97.1 | H11: 60,724,330 | I11: 5,679,744 | J11: 1,214,487 | K11: 67,618,561 | L11: 5,896,332,448 | M11: 6,565,762,250
A12: 11 | B12: CH-0902 | C12: 9 | D12: 2 | E12: 1PN+ | F12: 56 | G12: 51.7 | H12: 54,433,428 | I12: 5,050,654 | J12: 1,088,669 | K12: 60,572,750 | L12: 2,814,208,213 | M12: 3,131,611,183
A13: 12 | B13: CH-0903 | C13: 9 | D13: 3 | E13: 1PN+ | F13: 56 | G13: 51.9 | H13: 54,433,428 | I13: 5,050,654 | J13: 1,088,669 | K13: 60,572,750 | L13: 2,825,094,899 | M13: 3,143,725,733
A14: 13 | B14: CH-0905 | C14: 9 | D14: 5 | E14: 1PN+ | F14: 56 | G14: 50.7 | H14: 54,433,428 | I14: 5,050,654 | J14: 1,088,669 | K14: 60,572,750 | L14: 2,759,774,785 | M14: 3,071,038,432
A15: 14 | B15: CH-0912A | C15: 9 | D15: 12A | E15: 2PN | F15: 60.8 | G15: 56.4 | H15: 54,871,214 | I15: 5,094,432 | J15: 1,097,424 | K15: 61,063,070 | L15: 3,094,736,445 | M15: 3,443,957,165
A16: 15 | B16: CH-0915A | C16: 9 | D16: 15A | E16: 2PN | F16: 71.2 | G16: 64.8 | H16: 55,833,278 | I16: 5,190,639 | J16: 1,116,666 | K16: 62,140,582 | L16: 3,617,996,401 | M16: 4,026,709,728
A17: 16 | B17: CH-0918 | C17: 9 | D17: 18 | E17: 1PN+ | F17: 56 | G17: 50.9 | H17: 54,989,528 | I17: 5,106,264 | J17: 1,099,791 | K17: 61,195,583 | L17: 2,798,966,982 | M17: 3,114,855,155
A18: 17 | B18: CH-0926 | C18: 9 | D18: 26 | E18: 3.5PN | F18: 143.1 | G18: 134.8 | H18: 58,367,779 | I18: 5,444,089 | J18: 1,167,356 | K18: 64,979,224 | L18: 7,867,976,649 | M18: 8,759,199,383
A19: 18 | B19: CH-1102 | C19: 11 | D19: 2 | E19: 1PN+ | F19: 56 | G19: 51.7 | H19: 55,073,035 | I19: 5,114,615 | J19: 1,101,461 | K19: 61,289,111 | L19: 2,847,275,930 | M19: 3,168,647,025
A20: 19 | B20: CH-1103 | C20: 11 | D20: 3 | E20: 1PN+ | F20: 56 | G20: 51.9 | H20: 55,073,035 | I20: 5,114,615 | J20: 1,101,461 | K20: 61,289,111 | L20: 2,858,290,537 | M20: 3,180,904,847
A21: 20 | B21: CH-1118 | C21: 11 | D21: 18 | E21: 1PN+ | F21: 56 | G21: 50.9 | H21: 55,634,753 | I21: 5,170,786 | J21: 1,112,695 | K21: 61,918,234 | L21: 2,831,808,927 | M21: 3,151,638,133
A22: 21 | B22: CH-1127 | C22: 11 | D22: 27 | E22: 1PN+ | F22: 56 | G22: 51.9 | H22: 55,073,035 | I22: 5,114,615 | J22: 1,101,461 | K22: 61,289,111 | L22: 2,858,290,537 | M22: 3,180,904,847
A23: 22 | B23: CH-1128 | C23: 11 | D23: 28 | E23: 1PN+ | F23: 56 | G23: 51.8 | H23: 55,073,035 | I23: 5,114,615 | J23: 1,101,461 | K23: 61,289,111 | L23: 2,852,783,233 | M23: 3,174,775,936
A24: 23 | B24: CH-12A02 | C24: 12A | D24: 2 | E24: 1PN+ | F24: 56 | G24: 51.7 | H24: 54,078,045 | I24: 5,015,116 | J24: 1,081,561 | K24: 60,174,721 | L24: 2,795,834,920 | M24: 3,111,033,094
A25: 24 | B25: CH-12A03 | C25: 12A | D25: 3 | E25: 1PN+ | F25: 56 | G25: 51.9 | H25: 54,078,045 | I25: 5,015,116 | J25: 1,081,561 | K25: 60,174,721 | L25: 2,806,650,529 | M25: 3,123,068,038
A26: 25 | B26: CH-12A26 | C26: 12A | D26: 26 | E26: 3.5PN | F26: 143.1 | G26: 134.8 | H26: 57,990,604 | I26: 5,406,371 | J26: 1,159,812 | K26: 64,556,787 | L26: 7,817,133,367 | M26: 8,702,254,907
A27: 26 | B27: CH-15A28 | C27: 15A | D27: 28 | E27: 1PN+ | F27: 56 | G27: 51.8 | H27: 54,622,911 | I27: 5,069,602 | J27: 1,092,458 | K27: 60,784,971 | L27: 2,829,466,786 | M27: 3,148,661,516
A28: 27 | B28: CH-18A27 | C28: 18A | D28: 27 | E28: 1PN+ | F28: 56 | G28: 51.9 | H28: 55,807,385 | I28: 5,188,050 | J28: 1,116,148 | K28: 62,111,582 | L28: 2,896,403,264 | M28: 3,223,591,102
A29: 28 | B29: CH-18A28 | C29: 18A | D29: 28 | E29: 1PN+ | F29: 56 | G29: 51.8 | H29: 55,807,385 | I29: 5,188,050 | J29: 1,116,148 | K29: 62,111,582 | L29: 2,890,822,526 | M29: 3,217,379,944
A30: 29 | B30: CH-1802 | C30: 18 | D30: 2 | E30: 1PN+ | F30: 56 | G30: 51.7 | H30: 56,897,117 | I30: 5,297,023 | J30: 1,137,942 | K30: 63,332,082 | L30: 2,941,580,938 | M30: 3,274,268,634
A31: 30 | B31: CH-1803 | C31: 18 | D31: 3 | E31: 1PN+ | F31: 56 | G31: 51.9 | H31: 56,897,117 | I31: 5,297,023 | J31: 1,137,942 | K31: 63,332,082 | L31: 2,952,960,361 | M31: 3,286,935,051
A32: 31 | B32: CH-1827 | C32: 18 | D32: 27 | E32: 1PN+ | F32: 56 | G32: 51.9 | H32: 56,897,117 | I32: 5,297,023 | J32: 1,137,942 | K32: 63,332,082 | L32: 2,952,960,361 | M32: 3,286,935,051
A33: 32 | B33: CH-1828 | C33: 18 | D33: 28 | E33: 1PN+ | F33: 56 | G33: 51.8 | H33: 56,897,117 | I33: 5,297,023 | J33: 1,137,942 | K33: 63,332,082 | L33: 2,947,270,650 | M33: 3,280,601,843
A34: 33 | B34: CH-2202 | C34: 22 | D34: 2 | E34: 1PN+ | F34: 56 | G34: 51.7 | H34: 57,441,983 | I34: 5,351,509 | J34: 1,148,840 | K34: 63,942,332 | L34: 2,969,750,513 | M34: 3,305,818,559
A35: 34 | B35: CH-2203 | C35: 22 | D35: 3 | E35: 1PN+ | F35: 56 | G35: 51.9 | H35: 57,441,983 | I35: 5,351,509 | J35: 1,148,840 | K35: 63,942,332 | L35: 2,981,238,910 | M35: 3,318,607,025
A36: 35 | B36: CH-2302 | C36: 23 | D36: 2 | E36: 1PN+ | F36: 56 | G36: 51.7 | H36: 57,986,849 | I36: 5,405,996 | J36: 1,159,737 | K36: 64,552,582 | L36: 2,997,920,089 | M36: 3,337,368,483
A37: 36 | B37: CH-2303 | C37: 23 | D37: 3 | E37: 1PN+ | F37: 56 | G37: 51.9 | H37: 57,986,849 | I37: 5,405,996 | J37: 1,159,737 | K37: 64,552,582 | L37: 3,009,517,458 | M37: 3,350,279,000
A38: 37 | B38: CH-2502 | C38: 25 | D38: 2 | E38: 1PN+ | F38: 56 | G38: 51.7 | H38: 58,531,715 | I38: 5,460,483 | J38: 1,170,634 | K38: 65,162,832 | L38: 3,026,089,664 | M38: 3,368,918,408
A39: 38 | B39: CH-2503 | C39: 25 | D39: 3 | E39: 1PN+ | F39: 56 | G39: 51.9 | H39: 58,531,715 | I39: 5,460,483 | J39: 1,170,634 | K39: 65,162,832 | L39: 3,037,796,007 | M39: 3,381,950,974
A40: 39 | B40: CH-2505 | C40: 25 | D40: 5 | E40: 1PN+ | F40: 56 | G40: 50.7 | H40: 58,531,715 | I40: 5,460,483 | J40: 1,170,634 | K40: 65,162,832 | L40: 2,967,557,949 | M40: 3,303,755,576
...

Sheet HTLS 
O1: KHÔNG XÓA | Q1: BẢNG LÃI SUẤT NGÂN HÀNG ÁP DỤNG CHO KHÁCH MUA CĂN HỘ
C2: Ngân hàng | D2: =+PTG!F9 -> KHÔNG TTS | O2: Nội dung | P2: LS | Q2: Tỷ lệ TNTH | R2: LS | S2: Tỷ lệ TNTH
A3: Giá trị căn hộ (chưa bao gồm VAT) | C3: =PTG!F25 -> 1.465753e+10
A4: Kinh phí bảo trì | C4: =PTG!F30 -> 65616292
A5: VAT | C5: =PTG!F26 -> 1.3680913e+09
A6: Giá trị căn hộ (bao gồm VAT) | C6: =PTG!F27 -> 1.6025621e+10
B10: Giá trị căn hộ (gồm VAT) | D10: Tỷ lệ vay được hỗ trợ (<=70%) | E10: Giá trị khoản vay | F10: Ngày giải ngân khoản vay | G10: Ngày dừng HTLS | H10: Thời hạn hỗ trợ (tháng) | I10: LS | J10: Lãi | K10: Phí TNTH | L10: TNTH | M10: Tổng CP
B11: =PTG!F27 -> 1.6025621e+10 | D11: 0.7 | E11: =+B11*0.7 -> 1.1217935e+10 | F11: =PTG!D57 -> 44922 | G11: =EDATE(F11,18) -> 45470 | H11: 18 | I11: =R10 -> 0 | J11: =P3 -> 0 | K11: =S10 -> 0 | L11: =Q3 -> 0 | M11: =SUM(J11,L11) -> 0
B12: =B11 -> 1.6025621e+10 | D12: 0.05 | E12: =+B12*0.05 -> 8.0128106e+08 | F12: =PTG!D58 -> 45291 | G12: 45199 | I12: =R10 -> 0 | J12: =P3 -> 0 | K12: =S10 -> 0 | L12: =Q3 -> 0 | M12: =SUM(J12,L12) -> 0
D13: =+IF(D11<=80%, "OK", "CHECK") -> OK | M13: =SUM(M11:M12) -> 0
A15: Thủ tục điền ngày giải ngân thực tế | F15: LS CKTTS | G15: 0.08
A16: Ngày giải ngân | B16: Ngày thanh toán theo tiến độ | C16: Lần tiến độ thanh toán | D16: Tiến độ | E16: Số ngày TTS | F16: Giá trị thanh toán theo tiến độ | G16: Tỷ lệ CK | H16: Tiền CK
A17: 44651 | B17: =PTG!#REF! -> #REF! | C17: Lần 2 | D17: 0.05 | E17: =MAX(0,B17-A17) -> #REF! | F17: =$C$3*D17 -> 7.328765e+08 | G17: =(1+$G$15/365)^E17 -> #REF! | H17: =F17-F17/G17 -> #REF!
A18: =A17 -> 44651 | B18: =PTG!D40 -> 44922 | C18: Lần 3 | D18: 0.1 | E18: =MAX(0,B18-A18) -> 271 | F18: =$C$3*D18 -> 1.465753e+09 | G18: =(1+$G$15/365)^E18 -> 1.0611898 | H18: =F18-F18/G18 -> 84517551
A19: =A18 -> 44651 | B19: =PTG!D41 -> 44952 | C19: Lần 4 | D19: 0.1 | E19: =MAX(0,B19-A19) -> 301 | F19: =$C$3*D19 -> 1.465753e+09 | G19: =(1+$G$15/365)^E19 -> 1.0681897 | H19: =F19-F19/G19 -> 93568865
A20: =A19 -> 44651 | B20: =PTG!D42 -> 44982 | C20: Lần 5 | D20: 0.1 | E20: =MAX(0,B20-A20) -> 331 | F20: =$C$3*D20 -> 1.465753e+09 | G20: =(1+$G$15/365)^E20 -> 1.0752358 | H20: =F20-F20/G20 -> 1.0256086e+08
A21: =A20 -> 44651 | B21: =PTG!D43 -> 45012 | C21: Lần 6 | D21: 0.1 | E21: =MAX(0,B21-A21) -> 361 | F21: =$C$3*D21 -> 1.465753e+09 | G21: =(1+$G$15/365)^E21 -> 1.0823284 | H21: =F21-F21/G21 -> 1.1149394e+08
A22: =A21 -> 44651 | B22: =PTG!D44 -> 45072 | C22: Lần 7 | D22: 0.1 | E22: =MAX(0,B22-A22) -> 421 | F22: =$C$3*D22 -> 1.465753e+09 | G22: =(1+$G$15/365)^E22 -> 1.0966541 | H22: =F22-F22/G22 -> 1.2918486e+08
A23: =A22 -> 44651 | B23: =PTG!D46 -> 45291 | C23: Lần 8 | D23: 0.15 | E23: =MAX(0,B23-A23) -> 640 | F23: =$C$3*D23 -> 2.1986295e+09 | G23: =(1+$G$15/365)^E23 -> 1.1505713 | H23: =F23-F23/G23 -> 2.8772707e+08
A24: 45107 | B24: =B23 -> 45291 | C24: Lần 9 | D24: 0.05 | E24: =MAX(0,B24-A24) -> 184 | F24: =$C$3*D24 -> 7.328765e+08 | G24: =(1+$G$15/365)^E24 -> 1.0411484 | H24: =F24-F24/G24 -> 28964848
D25: =SUM(D17:D24) -> 0.75 | F25: =SUM(F17:F24) -> 1.0993147e+10 | H25: =SUM(H17:H24) -> #REF!

Sheet Loại căn
A1: VCB
A2: TPB | E2: STT | F2: Mã căn rút gọn | G2: Tầng | H2: Căn | I2: Số PN | J2: Note
E3: 1 | F3: CH-0601 | G3: 06 | H3: 01 | I3: Studio | J3: =+IF(I3="Studio","Studio",IF(OR(I3="3PN",I3="3.5PN"),"3PN,3,5PN","1,5PN, 2PN, 2,5PN")) -> Studio
A4: Vay | E4: 2 | F4: CH-0602 | G4: 06 | H4: 02 | I4: 1.5PN | J4: =+IF(I4="Studio","Studio",IF(OR(I4="3PN",I4="3.5PN"),"3PN,3,5PN","1,5PN, 2PN, 2,5PN")) -> 1,5PN, 2PN, 2,5PN
A5: Không vay | E5: 3 | F5: CH-0603 | G5: 06 | H5: 03 | I5: 1.5PN | J5: =+IF(I5="Studio","Studio",IF(OR(I5="3PN",I5="3.5PN"),"3PN,3,5PN","1,5PN, 2PN, 2,5PN")) -> 1,5PN, 2PN, 2,5PN
E6: 4 | F6: CH-0605A | G6: 06 | H6: 05A | I6: Studio | J6: =+IF(I6="Studio","Studio",IF(OR(I6="3PN",I6="3.5PN"),"3PN,3,5PN","1,5PN, 2PN, 2,5PN")) -> Studio
E7: 5 | F7: CH-0605 | G7: 06 | H7: 05 | I7: 1.5PN | J7: =+IF(I7="Studio","Studio",IF(OR(I7="3PN",I7="3.5PN"),"3PN,3,5PN","1,5PN, 2PN, 2,5PN")) -> 1,5PN, 2PN, 2,5PN
E8: 6 | F8: CH-0606 | G8: 06 | H8: 06 | I8: 2.5PN | J8: =+IF(I8="Studio","Studio",IF(OR(I8="3PN",I8="3.5PN"),"3PN,3,5PN","1,5PN, 2PN, 2,5PN")) -> 1,5PN, 2PN, 2,5PN
E9: 7 | F9: CH-0608A | G9: 06 | H9: 08A | I9: 3PN | J9: =+IF(I9="Studio","Studio",IF(OR(I9="3PN",I9="3.5PN"),"3PN,3,5PN","1,5PN, 2PN, 2,5PN")) -> 3PN,3,5PN
E10: 8 | F10: CH-0608 | G10: 06 | H10: 08 | I10: 2PN | J10: =+IF(I10="Studio","Studio",IF(OR(I10="3PN",I10="3.5PN"),"3PN,3,5PN","1,5PN, 2PN, 2,5PN")) -> 1,5PN, 2PN, 2,5PN
E11: 9 | F11: CH-0609 | G11: 06 | H11: 09 | I11: 2PN | J11: =+IF(I11="Studio","Studio",IF(OR(I11="3PN",I11="3.5PN"),"3PN,3,5PN","1,5PN, 2PN, 2,5PN")) -> 1,5PN, 2PN, 2,5PN
E12: 10 | F12: CH-0610 | G12: 06 | H12: 10 | I12: 2PN | J12: =+IF(I12="Studio","Studio",IF(OR(I12="3PN",I12="3.5PN"),"3PN,3,5PN","1,5PN, 2PN, 2,5PN")) -> 1,5PN, 2PN, 2,5PN
E13: 11 | F13: CH-0611 | G13: 06 | H13: 11 | I13: 2PN | J13: =+IF(I13="Studio","Studio",IF(OR(I13="3PN",I13="3.5PN"),"3PN,3,5PN","1,5PN, 2PN, 2,5PN")) -> 1,5PN, 2PN, 2,5PN
E14: 12 | F14: CH-0612 | G14: 06 | H14: 12 | I14: 3.5PN | J14: =+IF(I14="Studio","Studio",IF(OR(I14="3PN",I14="3.5PN"),"3PN,3,5PN","1,5PN, 2PN, 2,5PN")) -> 3PN,3,5PN
E15: 13 | F15: CH-0612A | G15: 06 | H15: 12A | I15: 2PN | J15: =+IF(I15="Studio","Studio",IF(OR(I15="3PN",I15="3.5PN"),"3PN,3,5PN","1,5PN, 2PN, 2,5PN")) -> 1,5PN, 2PN, 2,5PN
E16: 14 | F16: CH-0620 | G16: 06 | H16: 20 | I16: 2PN | J16: =+IF(I16="Studio","Studio",IF(OR(I16="3PN",I16="3.5PN"),"3PN,3,5PN","1,5PN, 2PN, 2,5PN")) -> 1,5PN, 2PN, 2,5PN
E17: 15 | F17: CH-0621 | G17: 06 | H17: 21 | I17: 3.5PN | J17: =+IF(I17="Studio","Studio",IF(OR(I17="3PN",I17="3.5PN"),"3PN,3,5PN","1,5PN, 2PN, 2,5PN")) -> 3PN,3,5PN
... E1075: 1073 | F1075: CH-3735 | G1075: 37 | H1075: 35 | I1075: 2PN | J1075: =+IF(I1075="Studio","Studio",IF(OR(I1075="3PN",I1075="3.5PN"),"3PN,3,5PN","1,5PN, 2PN, 2,5PN")) -> 1,5PN, 2PN, 2,5PN
F1076: SO-09 | H1076: 09 | I1076: Shopoffice | J1076: =+IF(I1076="Shopoffice","Shopoffice",IF(OR(I1076="3PN",I1076="3.5PN"),"3PN,3,5PN","1,5PN, 2PN, 2,5PN")) -> Shopoffice
