Workbook
Name LUR_fee: #REF!
Name Price_list: #REF!
Name Unit_code: #REF!

Sheet PTG
B1: GEM PARK HAI PHONG PRICE & PAYMENT AMOUNT PHIẾU TÍNH GIÁ Issued Date: /12/2023
B2: Nhập mã căn và các thông tin CSBH tương ứng: Input Unit code and Sale policy: | E2: * Các ô bôi vàng - bắt buộc nhập/ chọn thông tin
B3: Unit Code | C3: Unit price (excl. VAT & MF) | D3: Internal Line (sqm)
B4: Mã căn | C4: Giá bán căn hộ (chưa bao gồm Thuế GTGT và PBT) | D4: Diện tích thông thủy (m2)
B5: 4A.03.01 | C5: 1.9605031e+09 | D5: 43.54 | E5: Nhập thông tin
B7: I. CHƯƠNG TRÌNH ƯU ĐÃI QUÀ TẶNG/ GIFT PROGRAM
B8: Nội dung Description | C8: Số tiền Amount | D8: Thông tin quà tặng Gift information
B9: Quà tặng 1 Gift 1 | C9: 20000000
B10: Quà tặng 2 Gift 2
B11: Quà tặng 3 Gift 3
B12: Quà tặng 4 Gift 4
B14: II. CHƯƠNG TRÌNH ƯU ĐÃI CHIẾT KHẤU/ DISCOUNT PROGRAM
B15: Nội dung Description | C15: Mức chiết khấu (%) Discount rate (%) | D15: Thông tin chương trình Gift information
B16: Chương trình 1 Program 1 | C16: 0.01
B17: Chương trình 2 Program 2
B18: Chương trình 3 Program 3
B19: Chương trình thanh toán Payment program | C19: =VLOOKUP(D19,'Payment schedule'!$B$4:$D$13,3,0) -> 0.06 | D19: Phương thức Tiêu chuẩn | E19: Chọn phương án thanh toán
B21: III. GIÁ BÁN CĂN HỘ SAU KHI ÁP DỤNG CSBH/ SELLING PRICE AFTER APPLIED SALE POLICY
B22: Giá bán căn hộ (chưa bao gồm Thuế GTGT và PBT) Unit price (excl. VAT & MF) | C22: =C5 -> 1.9605031e+09
B23: Phí bảo trì Maintenance fee | C23: 0.02 | D23: =ROUND(C22*C23,0) -> 39210062
B24: VAT | C24: =ROUND((C22-D5*'Payment schedule'!$B$3)*10%,0) -> 176496877
B25: Giá bán căn hộ - Đã bao gồm VAT và chưa bao gồm PBT Unit price (incl. VAT & excl. MF) | C25: =C22+C24 -> 2.137e+09
B26: Giá bán căn hộ bao gồm Thuế GTGT và Phí bảo trì Unit price (incl. VAT & MF) | C26: =C22+D23+C24 -> 2.1762101e+09
B28: TIẾN ĐỘ THANH TOÁN VÀ SỐ TIỀN TỪNG ĐỢT THANH TOÁN/ PAYMENT SCHEDULE & AMOUNT
B29: Phương thức | C29: =D19 -> Phương thức Tiêu chuẩn | E29: =VLOOKUP(C29,'Payment schedule'!$B$4:$D$13,2,0) -> 1
B30: Đợt thanh toán | C30: Khách hàng | F30: Ngân hàng Bank | G30: Thời hạn thanh toán
C31: Giá căn hộ, PBT | D31: VAT | E31: Tổng cộng
B32: ="Đợt "&H32&" - Đặt chỗ" -> Đợt 1 - Đặt chỗ | C32: =OFFSET(OFFSET('Payment schedule'!$G$5,0,MATCH($E$29,'Payment schedule'!$G$3:$R$3,0)-1),MATCH($H32,'Payment schedule'!$F$5:$F$20,0)-1,0) -> 100000000 | D32: =OFFSET(OFFSET('Payment schedule'!$G$5,0,MATCH($E$29,'Payment schedule'!$G$3:$R$3,0)-1),MATCH($H32,'Payment schedule'!$F$5:$F$20,0)-1,1) -> 0 | E32: =C32+D32 -> 100000000 | G32: =OFFSET(OFFSET('Payment schedule'!$G$5,0,MATCH($E$29,'Payment schedule'!$G$3:$R$3,0)-1),MATCH($H32,'Payment schedule'!$F$5:$F$20,0)-1,2) -> Chậm nhất tại thời điểm ký Phiếu đăng ký giữ chỗ | H32: 1
B33: Số tiền
B34: ="Đợt "&H34 -> Đợt 2 | C34: =OFFSET(OFFSET('Payment schedule'!$G$5,0,MATCH($E$29,'Payment schedule'!$G$3:$R$3,0)-1),MATCH($H34,'Payment schedule'!$F$5:$F$20,0)-1,0) -> 0.1 | D34: =OFFSET(OFFSET('Payment schedule'!$G$5,0,MATCH($E$29,'Payment schedule'!$G$3:$R$3,0)-1),MATCH($H34,'Payment schedule'!$F$5:$F$20,0)-1,1) -> 0 | G34: =OFFSET(OFFSET('Payment schedule'!$G$5,0,MATCH($E$29,'Payment schedule'!$G$3:$R$3,0)-1),MATCH($H34,'Payment schedule'!$F$5:$F$20,0)-1,2) -> 10 ngày tiếp theo kể từ khi ký Phiếu đăng ký giữ chỗ - ký Thỏa thuận đảm bảo (TTĐB) | H34: 2
B35: Số tiền | C35: =$C$22*C34-C32 -> 96050312 | D35: =$C$24*D34 -> 0 | E35: =C35+D35 -> 96050312
B36: ="Đợt "&H36 -> Đợt 3 | C36: =OFFSET(OFFSET('Payment schedule'!$G$5,0,MATCH($E$29,'Payment schedule'!$G$3:$R$3,0)-1),MATCH($H36,'Payment schedule'!$F$5:$F$20,0)-1,0) -> 0.1 | D36: =OFFSET(OFFSET('Payment schedule'!$G$5,0,MATCH($E$29,'Payment schedule'!$G$3:$R$3,0)-1),MATCH($H36,'Payment schedule'!$F$5:$F$20,0)-1,1) -> 0 | G36: =OFFSET(OFFSET('Payment schedule'!$G$5,0,MATCH($E$29,'Payment schedule'!$G$3:$R$3,0)-1),MATCH($H36,'Payment schedule'!$F$5:$F$20,0)-1,2) -> 30 ngày tiếp theo kể từ ngày đến hạn thanh toán của lần liền trước | H36: 3
B37: Số tiền | C37: =$C$22*C36 -> 1.9605031e+08 | D37: =$C$24*D36 -> 0 | E37: =C37+D37 -> 1.9605031e+08
B38: ="Đợt "&H38 -> Đợt 4 | C38: =OFFSET(OFFSET('Payment schedule'!$G$5,0,MATCH($E$29,'Payment schedule'!$G$3:$R$3,0)-1),MATCH($H38,'Payment schedule'!$F$5:$F$20,0)-1,0) -> 0.05 | D38: =OFFSET(OFFSET('Payment schedule'!$G$5,0,MATCH($E$29,'Payment schedule'!$G$3:$R$3,0)-1),MATCH($H38,'Payment schedule'!$F$5:$F$20,0)-1,1) -> 0 | G38: =OFFSET(OFFSET('Payment schedule'!$G$5,0,MATCH($E$29,'Payment schedule'!$G$3:$R$3,0)-1),MATCH($H38,'Payment schedule'!$F$5:$F$20,0)-1,2) -> 30 ngày tiếp theo kể từ ngày đến hạn thanh toán của lần liền trước | H38: 4
B39: Số tiền | C39: =$C$22*C38 -> 98025156 | D39: =$C$24*D38 -> 0 | E39: =C39+D39 -> 98025156 | F39: =IF($C$16="Vay ngân hàng",$F$38*$C$25,0) -> 0
B40: ="Đợt "&H40 -> Đợt 5 | C40: =OFFSET(OFFSET('Payment schedule'!$G$5,0,MATCH($E$29,'Payment schedule'!$G$3:$R$3,0)-1),MATCH($H40,'Payment schedule'!$F$5:$F$20,0)-1,0) -> 0.05 | D40: =OFFSET(OFFSET('Payment schedule'!$G$5,0,MATCH($E$29,'Payment schedule'!$G$3:$R$3,0)-1),MATCH($H40,'Payment schedule'!$F$5:$F$20,0)-1,1) -> 0 | G40: =OFFSET(OFFSET('Payment schedule'!$G$5,0,MATCH($E$29,'Payment schedule'!$G$3:$R$3,0)-1),MATCH($H40,'Payment schedule'!$F$5:$F$20,0)-1,2) -> 60 ngày tiếp theo kể từ ngày đến hạn thanh toán của lần liền trước | H40: 5
B41: Số tiền | C41: =$C$22*C40 -> 98025156 | D41: =$C$24*D40 -> 0 | E41: =C41+D41 -> 98025156 | F41: =IF($C$16="Vay ngân hàng",$F$40*$C$22,0) -> 0
B42: ="Đợt "&H42 -> Đợt 6 | C42: =OFFSET(OFFSET('Payment schedule'!$G$5,0,MATCH($E$29,'Payment schedule'!$G$3:$R$3,0)-1),MATCH($H42,'Payment schedule'!$F$5:$F$20,0)-1,0) -> 0 | D42: =OFFSET(OFFSET('Payment schedule'!$G$5,0,MATCH($E$29,'Payment schedule'!$G$3:$R$3,0)-1),MATCH($H42,'Payment schedule'!$F$5:$F$20,0)-1,1) -> 0.3 | G42: =OFFSET(OFFSET('Payment schedule'!$G$5,0,MATCH($E$29,'Payment schedule'!$G$3:$R$3,0)-1),MATCH($H42,'Payment schedule'!$F$5:$F$20,0)-1,2) -> Ký HĐMB | H42: 6
B43: Số tiền | C43: =$C$22*C42 -> 0 | D43: =$C$24*D42 -> 52949063 | E43: =C43+D43 -> 52949063
B44: ="Đợt "&H44 -> Đợt 7 | C44: =OFFSET(OFFSET('Payment schedule'!$G$5,0,MATCH($E$29,'Payment schedule'!$G$3:$R$3,0)-1),MATCH($H44,'Payment schedule'!$F$5:$F$20,0)-1,0) -> 0.05 | D44: =OFFSET(OFFSET('Payment schedule'!$G$5,0,MATCH($E$29,'Payment schedule'!$G$3:$R$3,0)-1),MATCH($H44,'Payment schedule'!$F$5:$F$20,0)-1,1) -> 0.05 | F44: =IF(E29=2,65%,0) -> 0 | G44: =OFFSET(OFFSET('Payment schedule'!$G$5,0,MATCH($E$29,'Payment schedule'!$G$3:$R$3,0)-1),MATCH($H44,'Payment schedule'!$F$5:$F$20,0)-1,2) -> 3 tháng tiếp theo kể từ ngày đến hạn thanh toán của lần liền trước | H44: 7
...

Sheet Payment schedule
B2: PAYMENT SCHEDULE | G2: =SUM(G6:G20) -> 1.02
B3: 4490913 | G3: 1 | J3: 2 | M3: 3 | P3: 4
B4: Phương thức Tiêu chuẩn | C4: 1 | D4: 0.06 | F4: No. | G4: Unit price | H4: VAT | I4: Thời hạn thanh toán | J4: Unit price | K4: VAT | L4: Thời hạn thanh toán | M4: Unit price | N4: VAT | O4: Thời hạn thanh toán | P4: Unit price | Q4: VAT | R4: Thời hạn thanh toán
B5: Phương thức Hỗ trợ lãi suất | C5: 2 | D5: 0 | F5: 1 | G5: 100000000 | I5: Chậm nhất tại thời điểm ký Phiếu đăng ký giữ chỗ | J5: 100000000 | L5: Chậm nhất tại thời điểm ký Phiếu đăng ký giữ chỗ | M5: 100000000 | O5: Chậm nhất tại thời điểm ký Phiếu đăng ký giữ chỗ | P5: 100000000 | R5: Chậm nhất tại thời điểm ký Phiếu đăng ký giữ chỗ
B6: Phương thức nhanh 70% | C6: 3 | D6: 0.11 | F6: 2 | G6: 0.1 | I6: 10 ngày tiếp theo kể từ khi ký Phiếu đăng ký giữ chỗ - ký Thỏa thuận đảm bảo (TTĐB) | J6: 0.1 | L6: 10 ngày tiếp theo kể từ khi ký Phiếu đăng ký giữ chỗ - ký Thỏa thuận đảm bảo (TTĐB) | M6: 0.7 | N6: 0.7 | O6: 15 ngày tiếp theo kể từ khi ký Phiếu đăng ký giữ chỗ - ký Thỏa thuận đảm bảo (TTĐB) | P6: 0.95 | Q6: 0.95 | R6: 15 ngày tiếp theo kể từ khi ký Phiếu đăng ký giữ chỗ - ký Thỏa thuận đảm bảo (TTĐB)
B7: Phương thức nhanh 95% | C7: 4 | D7: 0.2 | F7: 3 | G7: 0.1 | I7: 30 ngày tiếp theo kể từ ngày đến hạn thanh toán của lần liền trước | J7: 0.1 | L7: 30 ngày tiếp theo kể từ ngày đến hạn thanh toán của lần liền trước | M7: 0.27 | N7: 0.3 | O7: Khi nhận bàn giao CH theo thông báo từ Chủ Đầu Tư (CĐT), dự kiến Quý IV/2026 | P7: 0.02 | Q7: 0.05 | R7: Khi nhận bàn giao CH theo thông báo từ Chủ Đầu Tư (CĐT), dự kiến Quý IV/2026
F8: 4 | G8: 0.05 | I8: 30 ngày tiếp theo kể từ ngày đến hạn thanh toán của lần liền trước | J8: 0.05 | L8: 30 ngày tiếp theo kể từ ngày đến hạn thanh toán của lần liền trước | M8: 0.05 | O8: Khi CĐT thông báo bàn giao Giấy chứng nhận quyền sử dụng đất, quyền sở hữu nhà ở và tài sản khác gắn liền với đất (GCNQSDĐ) hoặc KH tự làm thủ tục xin cấp GCNQSDĐ | P8: 0.05 | R8: Khi CĐT thông báo bàn giao Giấy chứng nhận quyền sử dụng đất, quyền sở hữu nhà ở và tài sản khác gắn liền với đất (GCNQSDĐ) hoặc KH tự làm thủ tục xin cấp GCNQSDĐ
F9: 5 | G9: 0.05 | I9: 60 ngày tiếp theo kể từ ngày đến hạn thanh toán của lần liền trước | J9: 0.05 | L9: 60 ngày tiếp theo kể từ ngày đến hạn thanh toán của lần liền trước
F10: 6 | H10: 0.3 | I10: Ký HĐMB | K10: 0.3 | L10: Ký HĐMB
F11: 7 | G11: 0.05 | H11: 0.05 | I11: 3 tháng tiếp theo kể từ ngày đến hạn thanh toán của lần liền trước | L11: Trong vòng 30 ngày kể từ ngày ký HĐMB
F12: 8 | G12: 0.05 | H12: 0.05 | I12: 3 tháng tiếp theo kể từ ngày đến hạn thanh toán của lần liền trước | J12: 0.02 | K12: 0.05 | L12: Khi nhận bàn giao CH theo thông báo từ Chủ Đầu Tư (CĐT), dự kiến Quý IV/2026
F13: 9 | G13: 0.05 | H13: 0.05 | I13: 3 tháng tiếp theo kể từ ngày đến hạn thanh toán của lần liền trước | J13: 0.05 | L13: Khi CĐT thông báo bàn giao Giấy chứng nhận quyền sử dụng đất, quyền sở hữu nhà ở và tài sản khác gắn liền với đất (GCNQSDĐ) hoặc KH tự làm thủ tục xin cấp GCNQSDĐ
F14: 10 | G14: 0.05 | H14: 0.05 | I14: 3 tháng tiếp theo kể từ ngày đến hạn thanh toán của lần liền trước
F15: 11 | G15: 0.05 | H15: 0.05 | I15: 3 tháng tiếp theo kể từ ngày đến hạn thanh toán của lần liền trước
F16: 12 | G16: 0.05 | H16: 0.05 | I16: 3 tháng tiếp theo kể từ ngày đến hạn thanh toán của lần liền trước
F17: 13 | G17: 0.05 | H17: 0.05 | I17: 3 tháng tiếp theo kể từ ngày đến hạn thanh toán của lần liền trước
F18: 14 | G18: 0.05 | H18: 0.05 | I18: 3 tháng tiếp theo kể từ ngày đến hạn thanh toán của lần liền trước
F19: 15 | G19: 0.27 | H19: 0.3 | I19: Khi nhận bàn giao CH theo thông báo từ Chủ Đầu Tư (CĐT), dự kiến Quý IV/2026
F20: 16 | G20: 0.05 | I20: Khi CĐT thông báo bàn giao Giấy chứng nhận quyền sử dụng đất, quyền sở hữu nhà ở và tài sản khác gắn liền với đất (GCNQSDĐ) hoặc KH tự làm thủ tục xin cấp GCNQSDĐ
