Workbook

Sheet LT vay ck7%
A2: TIẾN ĐỘ THANH TOÁN HOÀNG HUY COMMERCE ÁP DỤNG TỪ 11.09.2023
A3: GÓI HỖ TRỢ 0% TRONG 16 THÁNG, CHIẾT KHẤU 7%
A4: Tên khách hàng:
A5: Căn hộ: | D5: 0101 | E5: Căn hộ hạng Queen được CK 400tr 1. TL là 3,4,5,6,7,14 2. CML là 14,21,22,23 3. Lotus: 14,16,17 Những căn còn lại CK 250tr
A6: Diện tích CH sử dụng (m2):
A7: Diện tích CH tim tường (m2):
A8: Giá trị CH dự kiến (VNĐ) (bao gồm VAT): | D8: 3067149802
A9: Sau khi chiết khấu gói hạng Queen + 60tr xe SH Mode | D9: 460000000
A10: Giá trị căn hộ sau khi trừ quà tặng: | D10: =D8-D9 -> 2607149802
A11: Gói chiết khấu chiết khấu nếu vay CK 7%: | D11: =D10*7% -> 1.8250049e+08
A12: Giá trị căn hộ cuối cùng sau khi chiết khấu (bao gồm vat): | D12: =D10-D11 -> 2.4246493e+09
A16: TIẾN ĐỘ THANH TOÁN TÒA LOTUS
A17: Đợt thanh toán | B17: Tỷ lệ thanh toán | C17: Số tiền (VNĐ) | D17: Thanh toán | E17: Phí bảo trì căn hộ | F17: Thời điểm thanh toán
A18: Booking | C18: 100000000 | D18: Đặt cọc | F18: Khi ký bản tự nguyện đặt cọc
A19: Đợt 1 | B19: 0.1 | C19: =(D12*B19)-C18 -> 1.4246493e+08 | D19: 10% tổng GTCH (gồm VAT) sau khi đã trừ chiết khấu chính sách | F19: Trong vòng 7 - 10 ngày từ ngày đặt cọc khách hàng sẽ ký HĐMB, sẽ đóng 10% giá trị căn hộ bao gồm 100 triệu cọc ban đầu
A20: Đợt 2 | B20: 0.1 | C20: =B20*D12 -> 2.4246493e+08 | D20: 10% tổng GTCH (gồm VAT) | F20: Sau 1 tháng kể từ ngày kí HĐMB
A21: Đợt 3 | B21: 0.1 | C21: =B21*D12 -> 2.4246493e+08 | D21: 10% tổng GTCH (gồm VAT) | F21: Sau 2 tháng kể từ ngày kí HĐMB
A22: Đợt 4 (Ngân hàng giải ngân) | B22: 0.1 | C22: =B22*D12 -> 2.4246493e+08 | D22: 10% tổng GTCH (gồm VAT) | F22: Sau 3 tháng kể từ ngày kí HĐMB
A23: Đợt 5 (Ngân hàng giải ngân) | B23: 0.1 | C23: =B23*D12 -> 2.4246493e+08 | D23: 10% tổng GTCH (gồm VAT) | F23: Sau 4 tháng kể từ ngày kí HĐMB
A24: Đợt 6 (Ngân hàng giải ngân) | B24: 0.1 | C24: =B24*D12 -> 2.4246493e+08 | D24: 10% tổng GTCH (gồm VAT) | F24: Sau 5 tháng kể từ ngày kí HĐMB
A25: Đợt 7 (Ngân hàng giải ngân) | B25: 0.1 | C25: =B25*D12 -> 2.4246493e+08 | D25: 10% tổng GTCH (gồm VAT) | F25: Sau 6 tháng kể từ ngày kí HĐMB
A26: Đợt 8 (Ngân hàng giải ngân) | B26: 0.25 | C26: =B26*D12 -> 6.0616233e+08 | D26: 25% tổng GTCH (gồm VAT) + PBT 2% trước VAT (đóng 1 lần duy nhất) | E26: =(D12/1.1)*2% -> 44084533 | F26: Sau 7 tháng kể từ ngày kí HĐMB dự kiến nhận nhà
A27: Đợt 9 | B27: 0.05 | C27: =B27*D12 -> 1.2123247e+08 | D27: 5% tổng GTCH (bao gồm VAT) | F27: Ngay khi có thông báo nhận giấy chứng nhận quyền sở hữu nhà ở.
A28: Tổng giá trị căn hộ (bao gồm vat): | B28: =SUM(B19:B27) -> 1 | C28: =SUM(C18:C27) -> 2.4246493e+09 | E28: =E26 -> 44084533

Sheet LT chậm 26M
A2: TIẾN ĐỘ THANH TOÁN HOÀNG HUY COMMERCE ÁP DỤNG TỪ 11.09.2023
A3: GÓI HỖ TRỢ THANH TOÁN CHẬM 26 THÁNG, CHIẾT KHẤU 5%
A4: Tên khách hàng:
A5: Căn hộ: | D5: ='LT vay ck7%'!D5 -> 0101 | E5: Căn hộ hạng Queen được CK 400tr 1. TL là 3,4,5,6,7,14 2. CML là 14,21,22,23 3. Lotus: 14,16,17 Những căn còn lại CK 250tr
A6: Diện tích CH sử dụng (m2):
A7: Diện tích CH tim tường (m2):
A8: Giá trị CH dự kiến (VNĐ) (bao gồm VAT): | D8: ='LT vay ck7%'!D8 -> 3067149802
A9: Sau khi chiết khấu gói hạng Queen + 60tr xe SH Mode | D9: 460000000
A10: Giá trị căn hộ sau khi trừ quà tặng: | D10: =D8-D9 -> 2607149802
A11: Gói chiết khấu nếu chọn CS hỗ trợ 26M, CK 5%: | D11: =D10*5% -> 1.3035749e+08
A12: Giá trị căn hộ cuối cùng sau khi chiết khấu (bao gồm vat): | D12: =D10-D11 -> 2.4767923e+09
A16: TIẾN ĐỘ THANH TOÁN TÒA LOTUS
A17: Đợt thanh toán | B17: Tỷ lệ thanh toán | C17: Số tiền (VNĐ) | D17: Thanh toán | E17: Phí bảo trì căn hộ | F17: Thời điểm thanh toán
A18: Booking | C18: 100000000 | D18: Đặt cọc | F18: Khi ký bản tự nguyện đặt cọc
A19: Đợt 1 | B19: 0.15 | C19: =D12*B19-C18 -> 2.7151885e+08 | D19: 15% tổng GTCH (gồm VAT) sau khi đã trừ chiết khấu chính sách | F19: Trong vòng 7 - 10 ngày từ ngày đặt cọc khách hàng sẽ ký HĐMB, sẽ đóng 15% giá trị căn hộ bao gồm 100 triệu cọc ban đầu
A20: Đợt 2 | B20: 0.01 | C20: =B20*D12 -> 24767923 | D20: 1% tổng GTCH gồm VAT | F20: Sau 1 tháng kể từ ngày kí HĐMB
A21: Đợt 3 | B21: 0.01 | C21: =B21*D12 -> 24767923 | D21: 1% tổng GTCH gồm VAT | F21: Sau 2 tháng kể từ ngày kí HĐMB
A22: Đợt 4 | B22: 0.01 | C22: =B22*D12 -> 24767923 | D22: 1% tổng GTCH gồm VAT | F22: Sau 3 tháng kể từ ngày kí HĐMB
A23: Đợt 5 | B23: 0.01 | C23: =B23*D12 -> 24767923 | D23: 1% tổng GTCH gồm VAT | F23: Sau 4 tháng kể từ ngày kí HĐMB
A24: Đợt 6 | B24: 0.01 | C24: =B24*D12 -> 24767923 | D24: 1% tổng GTCH gồm VAT | F24: Sau 5 tháng kể từ ngày kí HĐMB
A25: Đợt 7 | B25: 0.01 | C25: =B25*D12 -> 24767923 | D25: 1% tổng GTCH gồm VAT | F25: Sau 6 tháng kể từ ngày kí HĐMB
A26: Đợt 8 | B26: 0.01 | C26: =B26*D12 -> 24767923 | D26: 1% tổng GTCH gồm VAT | F26: Sau 7 tháng kể từ ngày kí HĐMB
A27: Đợt 9 | B27: 0.01 | C27: =B27*D12 -> 24767923 | D27: 1% tổng GTCH gồm VAT | F27: Sau 8 tháng kể từ ngày kí HĐMB
A28: Đợt 10 | B28: 0.01 | C28: =B28*D12 -> 24767923 | D28: 1% tổng GTCH gồm VAT | F28: Sau 9 tháng kể từ ngày kí HĐMB
A29: Đợt 11 | B29: 0.01 | C29: =B29*D12 -> 24767923 | D29: 1% tổng GTCH gồm VAT | F29: Sau 10 tháng kể từ ngày kí HĐMB
A30: Đợt 12 | B30: 0.01 | C30: =B30*D12 -> 24767923 | D30: 1% tổng GTCH gồm VAT | F30: Sau 11 tháng kể từ ngày kí HĐMB
A31: Đợt 13 | B31: 0.01 | C31: =B31*D12 -> 24767923 | D31: 1% tổng GTCH gồm VAT | F31: Sau 12 tháng kể từ ngày kí HĐMB
A32: Đợt 14 | B32: 0.01 | C32: =B32*D12 -> 24767923 | D32: 1% tổng GTCH gồm VAT | F32: Sau 13 tháng kể từ ngày kí HĐMB
A33: Đợt 15 | B33: 0.01 | C33: =B33*D12 -> 24767923 | D33: 1% tổng GTCH gồm VAT | F33: Sau 14 tháng kể từ ngày kí HĐMB
A34: Đợt 16 | B34: 0.01 | C34: =B34*D12 -> 24767923 | D34: 1% tổng GTCH gồm VAT | F34: Sau 15 tháng kể từ ngày kí HĐMB
A35: Đợt 17 | B35: 0.01 | C35: =B35*D12 -> 24767923 | D35: 1% tổng GTCH gồm VAT | F35: Sau 16 tháng kể từ ngày kí HĐMB
A36: Đợt 18 | B36: 0.01 | C36: =B36*D12 -> 24767923 | D36: 1% tổng GTCH gồm VAT | F36: Sau 17 tháng kể từ ngày kí HĐMB
A37: Đợt 19 | B37: 0.01 | C37: =B37*D12 -> 24767923 | D37: 1% tổng GTCH gồm VAT | F37: Sau 18 tháng kể từ ngày kí HĐMB
A38: Đợt 20 | B38: 0.01 | C38: =B38*D12 -> 24767923 | D38: 1% tổng GTCH gồm VAT | F38: Sau 19 tháng kể từ ngày kí HĐMB
A39: Đợt 21 | B39: 0.01 | C39: =B39*D12 -> 24767923 | D39: 1% tổng GTCH gồm VAT | F39: Sau 20 tháng kể từ ngày kí HĐMB
A40: Đợt 22 | B40: 0.01 | C40: =B40*D12 -> 24767923 | D40: 1% tổng GTCH gồm VAT | F40: Sau 21 tháng kể từ ngày kí HĐMB
A41: Đợt 23 | B41: 0.01 | C41: =B41*D12 -> 24767923 | D41: 1% tổng GTCH gồm VAT | F41: Sau 22 tháng kể từ ngày kí HĐMB
A42: Đợt 24 | B42: 0.01 | C42: =B42*D12 -> 24767923 | D42: 1% tổng GTCH gồm VAT | F42: Sau 23 tháng kể từ ngày kí HĐMB
A43: Đợt 25 | B43: 0.01 | C43: =B43*D12 -> 24767923 | D43: 1% tổng GTCH gồm VAT | F43: Sau 24 tháng kể từ ngày kí HĐMB
A44: Đợt 26 | B44: 0.01 | C44: =B44*D12 -> 24767923 | D44: 1% tổng GTCH gồm VAT | F44: Sau 25 tháng kể từ ngày kí HĐMB
...

Sheet LT k vay ck13%
A2: TIẾN ĐỘ THANH TOÁN HOÀNG HUY COMMERCE ÁP DỤNG TỪ 11.09.2023
A3: GÓI CHIẾT KHẤU NẾU KHÔNG VAY THANH TOÁN THEO TIẾN ĐỘ, CHIẾT KHẤU 13%
A4: Tên khách hàng:
A5: Căn hộ: | D5: ='LT vay ck7%'!D5 -> 0101 | E5: Căn hộ hạng Queen được CK 400tr 1. TL là 3,4,5,6,7,14 2. CML là 14,21,22,23 3. Lotus: 14,16,17 Những căn còn lại CK 250tr
A6: Diện tích CH sử dụng (m2):
A7: Diện tích CH tim tường (m2):
A8: Giá trị CH dự kiến (VNĐ) (bao gồm VAT): | D8: ='LT vay ck7%'!D8 -> 3067149802
A9: CK Áp dụng cho căn hộ hạng Queen: | D9: 400000000
A10: Sau khi chiết khấu gói hạng Queen: | D10: =D8-D9 -> 2667149802
A11: Gói chiết khấu chiết khấu không vay CK 13%: | D11: =D10*13% -> 3.4672947e+08
A12: Giá trị căn hộ cuối cùng sau khi chiết khấu (bao gồm vat): | D12: =D10-D11 -> 2.3204203e+09
A16: TIẾN ĐỘ THANH TOÁN TÒA LOTUS
A17: Đợt thanh toán | B17: Tỷ lệ thanh toán | C17: Số tiền (VNĐ) | D17: Thanh toán | E17: Phí bảo trì căn hộ | F17: Thời điểm thanh toán
A18: Booking | C18: 100000000 | D18: Đặt cọc | F18: Khi ký bản tự nguyện đặt cọc (25/06/2023)
A19: Đợt 1 | B19: 0.1 | C19: =(D12*B19)-C18 -> 1.3204203e+08 | D19: 10% tổng GTCH (gồm VAT) sau khi đã trừ chiết khấu chính sách | F19: Trong vòng 7 - 10 ngày từ ngày đặt cọc khách hàng sẽ ký HĐMB, sẽ đóng 10% giá trị căn hộ bao gồm 100 triệu cọc ban đầu
A20: Đợt 2 | B20: 0.1 | C20: =B20*D12 -> 2.3204203e+08 | D20: 10% tổng GTCH (gồm VAT) | F20: Sau 1 tháng kể từ ngày kí HĐMB
A21: Đợt 3 | B21: 0.1 | C21: =B21*D12 -> 2.3204203e+08 | D21: 10% tổng GTCH (gồm VAT) | F21: Sau 2 tháng kể từ ngày kí HĐMB
A22: Đợt 4 | B22: 0.1 | C22: =B22*D12 -> 2.3204203e+08 | D22: 10% tổng GTCH (gồm VAT) | F22: Sau 3 tháng kể từ ngày kí HĐMB
A23: Đợt 5 | B23: 0.1 | C23: =B23*D12 -> 2.3204203e+08 | D23: 10% tổng GTCH (gồm VAT) | F23: Sau 4 tháng kể từ ngày kí HĐMB
A24: Đợt 6 | B24: 0.1 | C24: =B24*D12 -> 2.3204203e+08 | D24: 10% tổng GTCH (gồm VAT) | F24: Sau 5 tháng kể từ ngày kí HĐMB
A25: Đợt 7 | B25: 0.1 | C25: =B25*D12 -> 2.3204203e+08 | D25: 10% tổng GTCH (gồm VAT) | F25: Sau 6 tháng kể từ ngày kí HĐMB
A26: Đợt 8 | B26: 0.25 | C26: =B26*D12 -> 5.8010508e+08 | D26: 25% tổng GTCH (gồm VAT) + PBT 2% trước VAT (đóng 1 lần duy nhất) | E26: =(D12/1.1)*2% -> 42189461 | F26: Sau 7 tháng kể từ ngày kí HĐMB dự kiến nhận nhà
A27: Đợt 9 | B27: 0.05 | C27: =B27*D12 -> 1.1602102e+08 | D27: 5% tổng GTCH (bao gồm VAT) | F27: Ngay khi có thông báo nhận giấy chứng nhận quyền sở hữu nhà ở.
A28: Tổng giá trị căn hộ (bao gồm vat): | B28: =SUM(B19:B27) -> 1 | C28: =SUM(C18:C27) -> 2.3204203e+09 | E28: =E26 -> 42189461

Sheet LT trả hết
A2: TIẾN ĐỘ THANH TOÁN HOÀNG HUY COMMERCE ÁP DỤNG TỪ 11.09.2023
A3: GÓI CHIẾT KHẤU NẾU KHÔNG VAY THANH TOÁN THEO TIẾN ĐỘ, CHIẾT KHẤU 15%
A4: Tên khách hàng:
A5: Căn hộ: | D5: ='LT vay ck7%'!D5 -> 0101 | E5: Căn hộ hạng Queen được CK 400tr 1. TL là 3,4,5,6,7,14 2. CML là 14,21,22,23 3. Lotus: 14,16,17 Những căn còn lại CK 250tr
A6: Diện tích CH sử dụng (m2):
A7: Diện tích CH tim tường (m2):
A8: Giá trị CH dự kiến (VNĐ) (bao gồm VAT): | D8: ='LT vay ck7%'!D8 -> 3067149802
A9: CK Áp dụng cho căn hộ hạng Queen | D9: 400000000
A10: Sau khi chiết khấu gói hạng Queen: | D10: =D8-D9 -> 2667149802
A11: Gói chiết khấu chiết khấu thanh toán sớm ck 15%: | D11: =D10*15% -> 4.0007247e+08
A12: Giá trị căn hộ cuối cùng sau khi chiết khấu (bao gồm vat): | D12: =D10-D11 -> 2.2670773e+09
A15: TIẾN ĐỘ THANH TOÁN TÒA LOTUS
A16: Đợt thanh toán | B16: Tỷ lệ thanh toán | C16: Số tiền (VNĐ) | D16: Thanh toán | E16: Phí bảo trì căn hộ | F16: Thời điểm thanh toán
A17: Booking | C17: 100000000 | D17: Đặt cọc | F17: Khi ký bản tự nguyện đặt cọc
A18: Đợt 1 | B18: 0.95 | C18: =(D12*B18)-C17 -> 2.0537235e+09 | D18: 95% tổng GTCH (gồm VAT) sau khi đã trừ chiết khấu chính sách + Phí bảo trì căn hộ | E18: =(D12/1.1)*2% -> 41219588 | F18: Trong vòng 7 - 10 ngày từ ngày đặt cọc khách hàng sẽ ký HĐMB, sẽ đóng 95% giá trị căn hộ bao gồm 100 triệu cọc ban đầu
A19: Đợt 3 | B19: 0.05 | C19: =B19*D12 -> 1.1335387e+08 | D19: 5% tổng GTCH (bao gồm VAT) | F19: Ngay khi có thông báo nhận giấy chứng nhận quyền sở hữu nhà ở.
A20: Tổng giá trị căn hộ (bao gồm vat): | B20: =SUM(B18:B19) -> 1 | C20: =SUM(C17:C19) -> 2.2670773e+09 | E20: =E18 -> 41219588
